BEGIN:VCALENDAR
VERSION:2.0
PRODID:-//Historic Medley District - ECPv6.15.20//NONSGML v1.0//EN
CALSCALE:GREGORIAN
METHOD:PUBLISH
X-ORIGINAL-URL:https://www.historicmedley.org
X-WR-CALDESC:Events for Historic Medley District
REFRESH-INTERVAL;VALUE=DURATION:PT1H
X-Robots-Tag:noindex
X-PUBLISHED-TTL:PT1H
BEGIN:VTIMEZONE
TZID:America/New_York
BEGIN:DAYLIGHT
TZOFFSETFROM:-0500
TZOFFSETTO:-0400
TZNAME:EDT
DTSTART:20250309T070000
END:DAYLIGHT
BEGIN:STANDARD
TZOFFSETFROM:-0400
TZOFFSETTO:-0500
TZNAME:EST
DTSTART:20251102T060000
END:STANDARD
BEGIN:DAYLIGHT
TZOFFSETFROM:-0500
TZOFFSETTO:-0400
TZNAME:EDT
DTSTART:20260308T070000
END:DAYLIGHT
BEGIN:STANDARD
TZOFFSETFROM:-0400
TZOFFSETTO:-0500
TZNAME:EST
DTSTART:20261101T060000
END:STANDARD
BEGIN:DAYLIGHT
TZOFFSETFROM:-0500
TZOFFSETTO:-0400
TZNAME:EDT
DTSTART:20270314T070000
END:DAYLIGHT
BEGIN:STANDARD
TZOFFSETFROM:-0400
TZOFFSETTO:-0500
TZNAME:EST
DTSTART:20271107T060000
END:STANDARD
END:VTIMEZONE
BEGIN:VEVENT
DTSTART;TZID=America/New_York:20260105T100000
DTEND;TZID=America/New_York:20260105T143000
DTSTAMP:20260423T133946
CREATED:20250829T221823Z
LAST-MODIFIED:20260103T150533Z
UID:5855-1767607200-1767623400@www.historicmedley.org
SUMMARY:FISH Homeschoolers
DESCRIPTION:  \nChristmas Class
URL:https://www.historicmedley.org/event/fish-homeschoolers/
LOCATION:Seneca Schoolhouse
ORGANIZER;CN="Mandy Shanaberger":MAILTO:mandyshanaberger@gmail.com
END:VEVENT
BEGIN:VEVENT
DTSTART;TZID=America/New_York:20260106T100000
DTEND;TZID=America/New_York:20260106T140000
DTSTAMP:20260423T133946
CREATED:20260103T150824Z
LAST-MODIFIED:20260103T150824Z
UID:5967-1767693600-1767708000@www.historicmedley.org
SUMMARY:Odenton Christian School
DESCRIPTION:2nd grade \n25 students
URL:https://www.historicmedley.org/event/odenton-christian-school/
LOCATION:Seneca Schoolhouse
ORGANIZER;CN="Sierra Cartwright":MAILTO:scartwright@odentonbaptist.org
END:VEVENT
BEGIN:VEVENT
DTSTART;TZID=America/New_York:20260108T100000
DTEND;TZID=America/New_York:20260108T140000
DTSTAMP:20260423T133946
CREATED:20251025T031708Z
LAST-MODIFIED:20251025T031708Z
UID:5953-1767866400-1767880800@www.historicmedley.org
SUMMARY:Coughlin Schoolhouse Homeschool Group
DESCRIPTION:From Timonium\, MD
URL:https://www.historicmedley.org/event/coughlin-schoolhouse-homeschool-group/
LOCATION:Seneca Schoolhouse
ORGANIZER;CN="Johanna Coughlin":MAILTO:coughlinschoolhouse@gmail.com
END:VEVENT
BEGIN:VEVENT
DTSTART;TZID=America/New_York:20260113T100000
DTEND;TZID=America/New_York:20260113T140000
DTSTAMP:20260423T133946
CREATED:20260103T151230Z
LAST-MODIFIED:20260103T151230Z
UID:5970-1768298400-1768312800@www.historicmedley.org
SUMMARY:Stoddert Elementary
DESCRIPTION:2nd grade
URL:https://www.historicmedley.org/event/stoddert-elementary-21/
LOCATION:Seneca Schoolhouse
ORGANIZER;CN="Kelley Lasov":MAILTO:kelley.lasov@dc.gov
END:VEVENT
BEGIN:VEVENT
DTSTART;TZID=America/New_York:20260115T100000
DTEND;TZID=America/New_York:20260115T140000
DTSTAMP:20260423T133946
CREATED:20260103T151356Z
LAST-MODIFIED:20260103T151356Z
UID:5972-1768471200-1768485600@www.historicmedley.org
SUMMARY:Stoddert Elementary
DESCRIPTION:2nd grade
URL:https://www.historicmedley.org/event/stoddert-elementary-22/
LOCATION:Seneca Schoolhouse
ORGANIZER;CN="Kelley Lasov":MAILTO:kelley.lasov@dc.gov
END:VEVENT
BEGIN:VEVENT
DTSTART;TZID=America/New_York:20260116T100000
DTEND;TZID=America/New_York:20260116T140000
DTSTAMP:20260423T133946
CREATED:20260103T151516Z
LAST-MODIFIED:20260103T151516Z
UID:5974-1768557600-1768572000@www.historicmedley.org
SUMMARY:Stoddert Elementary
DESCRIPTION:2nd grade
URL:https://www.historicmedley.org/event/stoddert-elementary-23/
LOCATION:Seneca Schoolhouse
ORGANIZER;CN="Kelley Lasov":MAILTO:kelley.lasov@dc.gov
END:VEVENT
END:VCALENDAR