BEGIN:VCALENDAR
VERSION:2.0
PRODID:-//Historic Medley District - ECPv6.15.20//NONSGML v1.0//EN
CALSCALE:GREGORIAN
METHOD:PUBLISH
X-ORIGINAL-URL:https://www.historicmedley.org
X-WR-CALDESC:Events for Historic Medley District
REFRESH-INTERVAL;VALUE=DURATION:PT1H
X-Robots-Tag:noindex
X-PUBLISHED-TTL:PT1H
BEGIN:VTIMEZONE
TZID:America/New_York
BEGIN:DAYLIGHT
TZOFFSETFROM:-0500
TZOFFSETTO:-0400
TZNAME:EDT
DTSTART:20230312T070000
END:DAYLIGHT
BEGIN:STANDARD
TZOFFSETFROM:-0400
TZOFFSETTO:-0500
TZNAME:EST
DTSTART:20231105T060000
END:STANDARD
BEGIN:DAYLIGHT
TZOFFSETFROM:-0500
TZOFFSETTO:-0400
TZNAME:EDT
DTSTART:20240310T070000
END:DAYLIGHT
BEGIN:STANDARD
TZOFFSETFROM:-0400
TZOFFSETTO:-0500
TZNAME:EST
DTSTART:20241103T060000
END:STANDARD
BEGIN:DAYLIGHT
TZOFFSETFROM:-0500
TZOFFSETTO:-0400
TZNAME:EDT
DTSTART:20250309T070000
END:DAYLIGHT
BEGIN:STANDARD
TZOFFSETFROM:-0400
TZOFFSETTO:-0500
TZNAME:EST
DTSTART:20251102T060000
END:STANDARD
END:VTIMEZONE
BEGIN:VEVENT
DTSTART;TZID=America/New_York:20240404T100000
DTEND;TZID=America/New_York:20240404T140000
DTSTAMP:20260424T200003
CREATED:20240107T043956Z
LAST-MODIFIED:20240107T043956Z
UID:4494-1712224800-1712239200@www.historicmedley.org
SUMMARY:Carrie Weaver's Homeschool Group
DESCRIPTION:Willow\, Patty Washabaugh \nJax\, Kirby
URL:https://www.historicmedley.org/event/carrie-weavers-homeschool-group/
LOCATION:Seneca Schoolhouse
ORGANIZER;CN="Carrie Weaver":MAILTO:carrieweaver@gmail.com
END:VEVENT
BEGIN:VEVENT
DTSTART;TZID=America/New_York:20240408T100000
DTEND;TZID=America/New_York:20240408T140000
DTSTAMP:20260424T200003
CREATED:20240213T160255Z
LAST-MODIFIED:20240213T160255Z
UID:4566-1712570400-1712584800@www.historicmedley.org
SUMMARY:St. Nicholas Academic Community - SNAC
DESCRIPTION:First time attending SSH \nhomeschool group
URL:https://www.historicmedley.org/event/st-nicholas-academic-community-snac/
LOCATION:Seneca Schoolhouse
ORGANIZER;CN="Leah Peterson":MAILTO:lrdobler@gmailcom
END:VEVENT
BEGIN:VEVENT
DTSTART;TZID=America/New_York:20240409T100000
DTEND;TZID=America/New_York:20240409T140000
DTSTAMP:20260424T200003
CREATED:20230828T150055Z
LAST-MODIFIED:20230828T150055Z
UID:4314-1712656800-1712671200@www.historicmedley.org
SUMMARY:Dominion Christian School
DESCRIPTION:2nd grade – 18 students
URL:https://www.historicmedley.org/event/dominion-christian-school-3/
LOCATION:Seneca Schoolhouse
ORGANIZER;CN="Lillian Bewley":MAILTO:lbewley@dominionschool.com
END:VEVENT
BEGIN:VEVENT
DTSTART;TZID=America/New_York:20240410T100000
DTEND;TZID=America/New_York:20240410T140000
DTSTAMP:20260424T200003
CREATED:20230729T214706Z
LAST-MODIFIED:20230729T214706Z
UID:4254-1712743200-1712757600@www.historicmedley.org
SUMMARY:Mount Airy Christian Academy
DESCRIPTION:2nd graders
URL:https://www.historicmedley.org/event/mount-airy-christian-academy-3/
LOCATION:Seneca Schoolhouse
ORGANIZER;CN="Lisa Anderes":MAILTO:lisa.anderes@macamd.org
END:VEVENT
BEGIN:VEVENT
DTSTART;TZID=America/New_York:20240411T100000
DTEND;TZID=America/New_York:20240411T140000
DTSTAMP:20260424T200003
CREATED:20240314T182151Z
LAST-MODIFIED:20240314T182151Z
UID:5024-1712829600-1712844000@www.historicmedley.org
SUMMARY:Redland Middle School Theater Class
DESCRIPTION:18 students
URL:https://www.historicmedley.org/event/redland-middle-school-theater-class/
LOCATION:Seneca Schoolhouse
ORGANIZER;CN="Chrissy Gecoma":MAILTO:Christine_L_Gecoma@mcpsmd.org
END:VEVENT
BEGIN:VEVENT
DTSTART;TZID=America/New_York:20240412T100000
DTEND;TZID=America/New_York:20240412T140000
DTSTAMP:20260424T200003
CREATED:20230802T175141Z
LAST-MODIFIED:20230805T013731Z
UID:4262-1712916000-1712930400@www.historicmedley.org
SUMMARY:Adventures in Community
DESCRIPTION:New Group
URL:https://www.historicmedley.org/event/adventures-in-community/
LOCATION:Seneca Schoolhouse
ORGANIZER;CN="Brittany Murdock":MAILTO:brittanysalem@kw.com
END:VEVENT
BEGIN:VEVENT
DTSTART;TZID=America/New_York:20240415T100000
DTEND;TZID=America/New_York:20240415T140000
DTSTAMP:20260424T200003
CREATED:20240321T023933Z
LAST-MODIFIED:20240321T023933Z
UID:5079-1713175200-1713189600@www.historicmedley.org
SUMMARY:Olney Homeschool Group
DESCRIPTION:Up to 28 students
URL:https://www.historicmedley.org/event/olney-homeschool-group/
LOCATION:Seneca Schoolhouse
ORGANIZER;CN="Felicia Lyons":MAILTO:hsinstructionacctlyons@gmail.com
END:VEVENT
BEGIN:VEVENT
DTSTART;TZID=America/New_York:20240416T100000
DTEND;TZID=America/New_York:20240416T140000
DTSTAMP:20260424T200003
CREATED:20240321T024137Z
LAST-MODIFIED:20240321T024137Z
UID:5082-1713261600-1713276000@www.historicmedley.org
SUMMARY:Butler School
DESCRIPTION:1st – 3rd grade
URL:https://www.historicmedley.org/event/butler-school-2/
LOCATION:Seneca Schoolhouse
ORGANIZER;CN="Amy D'Elia":MAILTO:Amy@butlerschool.org
END:VEVENT
BEGIN:VEVENT
DTSTART;TZID=America/New_York:20240417T100000
DTEND;TZID=America/New_York:20240417T140000
DTSTAMP:20260424T200003
CREATED:20230729T214829Z
LAST-MODIFIED:20230729T214829Z
UID:4256-1713348000-1713362400@www.historicmedley.org
SUMMARY:Mount Airy Christian Academy
DESCRIPTION:2nd grade
URL:https://www.historicmedley.org/event/mount-airy-christian-academy-4/
LOCATION:Seneca Schoolhouse
ORGANIZER;CN="Lisa Anderes":MAILTO:lisa.anderes@macamd.org
END:VEVENT
BEGIN:VEVENT
DTSTART;TZID=America/New_York:20240418T100000
DTEND;TZID=America/New_York:20240418T140000
DTSTAMP:20260424T200003
CREATED:20240213T160602Z
LAST-MODIFIED:20240213T160602Z
UID:4569-1713434400-1713448800@www.historicmedley.org
SUMMARY:Primary Montessori Day School
DESCRIPTION:Have attended in the past \n1st – 3rd graders
URL:https://www.historicmedley.org/event/primary-montessori-day-school-2/
LOCATION:Seneca Schoolhouse
ORGANIZER;CN="Blythe McIntyre":MAILTO:elementaryroom@primarymontessori.com
END:VEVENT
BEGIN:VEVENT
DTSTART;TZID=America/New_York:20240419T100000
DTEND;TZID=America/New_York:20240419T140000
DTSTAMP:20260424T200003
CREATED:20240225T055647Z
LAST-MODIFIED:20240225T055647Z
UID:4606-1713520800-1713535200@www.historicmedley.org
SUMMARY:St. Jane De Chantal
DESCRIPTION:27 2nd graders
URL:https://www.historicmedley.org/event/st-jane-de-chantal-10/
LOCATION:Seneca Schoolhouse
ORGANIZER;CN="Dee Lozupone":MAILTO:dlozupone@dechantal.org
END:VEVENT
BEGIN:VEVENT
DTSTART;TZID=America/New_York:20240422T100000
DTEND;TZID=America/New_York:20240422T140000
DTSTAMP:20260424T200003
CREATED:20240316T023042Z
LAST-MODIFIED:20240316T023042Z
UID:5040-1713780000-1713794400@www.historicmedley.org
SUMMARY:Barnesville School
DESCRIPTION:10 4th grade students
URL:https://www.historicmedley.org/event/barnesville-school-6/
LOCATION:Seneca Schoolhouse
END:VEVENT
BEGIN:VEVENT
DTSTART;TZID=America/New_York:20240423T100000
DTEND;TZID=America/New_York:20240423T140000
DTSTAMP:20260424T200003
CREATED:20240203T024548Z
LAST-MODIFIED:20240203T024548Z
UID:4536-1713866400-1713880800@www.historicmedley.org
SUMMARY:Beltsville Adventist
DESCRIPTION:4th grade
URL:https://www.historicmedley.org/event/beltsville-adventist-3/
LOCATION:Seneca Schoolhouse
ORGANIZER;CN="Mircha Colin":MAILTO:mcolin@baschool.org
END:VEVENT
BEGIN:VEVENT
DTSTART;TZID=America/New_York:20240424T100000
DTEND;TZID=America/New_York:20240424T140000
DTSTAMP:20260424T200003
CREATED:20240110T232504Z
LAST-MODIFIED:20240110T232504Z
UID:4509-1713952800-1713967200@www.historicmedley.org
SUMMARY:White Oak Christian Academy
DESCRIPTION:New Group
URL:https://www.historicmedley.org/event/white-oak-christian-academy/
LOCATION:Seneca Schoolhouse
ORGANIZER;CN="Cindi Wingood":MAILTO:cindiwingood@gmail.com
END:VEVENT
BEGIN:VEVENT
DTSTART;TZID=America/New_York:20240425T100000
DTEND;TZID=America/New_York:20240425T140000
DTSTAMP:20260424T200003
CREATED:20230925T150333Z
LAST-MODIFIED:20240407T001430Z
UID:4391-1714039200-1714053600@www.historicmedley.org
SUMMARY:Dominion Christian School
DESCRIPTION:Herndon\, Va \n2nd grade – 17 students
URL:https://www.historicmedley.org/event/dominion-christian-school-4/
LOCATION:Seneca Schoolhouse
ORGANIZER;CN="McKenna Hassay":MAILTO:mhassay@dominionschool.com
END:VEVENT
BEGIN:VEVENT
DTSTART;TZID=America/New_York:20240426T100000
DTEND;TZID=America/New_York:20240426T140000
DTSTAMP:20260424T200003
CREATED:20240103T223112Z
LAST-MODIFIED:20240103T223112Z
UID:4492-1714125600-1714140000@www.historicmedley.org
SUMMARY:TORCH Homeschool Group
DESCRIPTION:
URL:https://www.historicmedley.org/event/torch-homeschool-group-12/
LOCATION:Seneca Schoolhouse
ORGANIZER;CN="Allyson Nealy":MAILTO:Allysonnealy@gmail.com
END:VEVENT
BEGIN:VEVENT
DTSTART;TZID=America/New_York:20240430T100000
DTEND;TZID=America/New_York:20240430T140000
DTSTAMP:20260424T200003
CREATED:20240314T183221Z
LAST-MODIFIED:20240314T183221Z
UID:5030-1714471200-1714485600@www.historicmedley.org
SUMMARY:Classical Conversaitions of Annandale
DESCRIPTION:New group
URL:https://www.historicmedley.org/event/classical-conversaitions-of-annandale/
LOCATION:Seneca Schoolhouse
ORGANIZER;CN="Nicole Oostdyk":MAILTO:nicole.oosdyk@gmail.com
END:VEVENT
END:VCALENDAR