BEGIN:VCALENDAR
VERSION:2.0
PRODID:-//Historic Medley District - ECPv6.15.20//NONSGML v1.0//EN
CALSCALE:GREGORIAN
METHOD:PUBLISH
X-ORIGINAL-URL:https://www.historicmedley.org
X-WR-CALDESC:Events for Historic Medley District
REFRESH-INTERVAL;VALUE=DURATION:PT1H
X-Robots-Tag:noindex
X-PUBLISHED-TTL:PT1H
BEGIN:VTIMEZONE
TZID:America/New_York
BEGIN:DAYLIGHT
TZOFFSETFROM:-0500
TZOFFSETTO:-0400
TZNAME:EDT
DTSTART:20220313T070000
END:DAYLIGHT
BEGIN:STANDARD
TZOFFSETFROM:-0400
TZOFFSETTO:-0500
TZNAME:EST
DTSTART:20221106T060000
END:STANDARD
BEGIN:DAYLIGHT
TZOFFSETFROM:-0500
TZOFFSETTO:-0400
TZNAME:EDT
DTSTART:20230312T070000
END:DAYLIGHT
BEGIN:STANDARD
TZOFFSETFROM:-0400
TZOFFSETTO:-0500
TZNAME:EST
DTSTART:20231105T060000
END:STANDARD
BEGIN:DAYLIGHT
TZOFFSETFROM:-0500
TZOFFSETTO:-0400
TZNAME:EDT
DTSTART:20240310T070000
END:DAYLIGHT
BEGIN:STANDARD
TZOFFSETFROM:-0400
TZOFFSETTO:-0500
TZNAME:EST
DTSTART:20241103T060000
END:STANDARD
END:VTIMEZONE
BEGIN:VEVENT
DTSTART;TZID=America/New_York:20230201T080000
DTEND;TZID=America/New_York:20230201T170000
DTSTAMP:20260425T163550
CREATED:20230119T163952Z
LAST-MODIFIED:20230119T163952Z
UID:3757-1675238400-1675270800@www.historicmedley.org
SUMMARY:New Hope Academy
DESCRIPTION:8 third graders -four girls and four boys \n13 fourth graders – nine girls and four boys
URL:https://www.historicmedley.org/event/new-hope-academy/
LOCATION:Seneca Schoolhouse
ORGANIZER;CN="Melissa Olsen":MAILTO:molsen@newhopeacademy.org
END:VEVENT
END:VCALENDAR