BEGIN:VCALENDAR
VERSION:2.0
PRODID:-//Historic Medley District - ECPv6.15.20//NONSGML v1.0//EN
CALSCALE:GREGORIAN
METHOD:PUBLISH
X-WR-CALNAME:Historic Medley District
X-ORIGINAL-URL:https://www.historicmedley.org
X-WR-CALDESC:Events for Historic Medley District
REFRESH-INTERVAL;VALUE=DURATION:PT1H
X-Robots-Tag:noindex
X-PUBLISHED-TTL:PT1H
BEGIN:VTIMEZONE
TZID:America/New_York
BEGIN:DAYLIGHT
TZOFFSETFROM:-0500
TZOFFSETTO:-0400
TZNAME:EDT
DTSTART:20220313T070000
END:DAYLIGHT
BEGIN:STANDARD
TZOFFSETFROM:-0400
TZOFFSETTO:-0500
TZNAME:EST
DTSTART:20221106T060000
END:STANDARD
BEGIN:DAYLIGHT
TZOFFSETFROM:-0500
TZOFFSETTO:-0400
TZNAME:EDT
DTSTART:20230312T070000
END:DAYLIGHT
BEGIN:STANDARD
TZOFFSETFROM:-0400
TZOFFSETTO:-0500
TZNAME:EST
DTSTART:20231105T060000
END:STANDARD
BEGIN:DAYLIGHT
TZOFFSETFROM:-0500
TZOFFSETTO:-0400
TZNAME:EDT
DTSTART:20240310T070000
END:DAYLIGHT
BEGIN:STANDARD
TZOFFSETFROM:-0400
TZOFFSETTO:-0500
TZNAME:EST
DTSTART:20241103T060000
END:STANDARD
END:VTIMEZONE
BEGIN:VEVENT
DTSTART;TZID=America/New_York:20230111T100000
DTEND;TZID=America/New_York:20230111T140000
DTSTAMP:20260425T181829
CREATED:20221216T035600Z
LAST-MODIFIED:20221216T035600Z
UID:3716-1673431200-1673445600@www.historicmedley.org
SUMMARY:Stoddert Elementary
DESCRIPTION:2nd grade
URL:https://www.historicmedley.org/event/stoddert-elementary-13/
LOCATION:Seneca Schoolhouse
ORGANIZER;CN="Kelley Lasov":MAILTO:kelley.lasov@dc.gov
END:VEVENT
BEGIN:VEVENT
DTSTART;TZID=America/New_York:20230112T100000
DTEND;TZID=America/New_York:20230112T140000
DTSTAMP:20260425T181829
CREATED:20221216T035713Z
LAST-MODIFIED:20221216T035713Z
UID:3718-1673517600-1673532000@www.historicmedley.org
SUMMARY:Stoddert Elementary
DESCRIPTION:2nd grade
URL:https://www.historicmedley.org/event/stoddert-elementary-14/
LOCATION:Seneca Schoolhouse
ORGANIZER;CN="Kelley Lasov":MAILTO:kelley.lasov@dc.gov
END:VEVENT
BEGIN:VEVENT
DTSTART;TZID=America/New_York:20230118T100000
DTEND;TZID=America/New_York:20230118T140000
DTSTAMP:20260425T181829
CREATED:20221213T135334Z
LAST-MODIFIED:20221213T135334Z
UID:3708-1674036000-1674050400@www.historicmedley.org
SUMMARY:Avalon School
DESCRIPTION:9 2nd graders and 9 3rd graders \nFirst time attending SSH \nTomas Alicea and Yvonne O’Neill
URL:https://www.historicmedley.org/event/avalon-school/
LOCATION:Seneca Schoolhouse
END:VEVENT
BEGIN:VEVENT
DTSTART;TZID=America/New_York:20230122T150000
DTEND;TZID=America/New_York:20230122T163000
DTSTAMP:20260425T181829
CREATED:20230102T022917Z
LAST-MODIFIED:20230102T022917Z
UID:3728-1674399600-1674405000@www.historicmedley.org
SUMMARY:Girl Scout Troop
DESCRIPTION:12 -15 third grade girls
URL:https://www.historicmedley.org/event/girl-scout-troop-8/
LOCATION:Seneca Schoolhouse
ORGANIZER;CN="Julie Shileds":MAILTO:shields.julie@gmail.com
END:VEVENT
BEGIN:VEVENT
DTSTART;TZID=America/New_York:20230124T100000
DTEND;TZID=America/New_York:20230124T140000
DTSTAMP:20260425T181829
CREATED:20221216T035837Z
LAST-MODIFIED:20221216T035837Z
UID:3720-1674554400-1674568800@www.historicmedley.org
SUMMARY:Stoddert Elementary
DESCRIPTION:2nd graders
URL:https://www.historicmedley.org/event/stoddert-elementary-15/
LOCATION:Seneca Schoolhouse
ORGANIZER;CN="Kelley Lasov":MAILTO:kelley.lasov@dc.gov
END:VEVENT
BEGIN:VEVENT
DTSTART;TZID=America/New_York:20230127T100000
DTEND;TZID=America/New_York:20230127T140000
DTSTAMP:20260425T181829
CREATED:20221213T135605Z
LAST-MODIFIED:20221213T135605Z
UID:3712-1674813600-1674828000@www.historicmedley.org
SUMMARY:St. John the Beloved Academy
DESCRIPTION:20 3rd grade students
URL:https://www.historicmedley.org/event/st-john-the-beloved-academy-2/
LOCATION:Seneca Schoolhouse
END:VEVENT
BEGIN:VEVENT
DTSTART;TZID=America/New_York:20230130T093000
DTEND;TZID=America/New_York:20230130T130000
DTSTAMP:20260425T181829
CREATED:20221216T040156Z
LAST-MODIFIED:20221216T040156Z
UID:3722-1675071000-1675083600@www.historicmedley.org
SUMMARY:Excel Academy
DESCRIPTION:4th grade
URL:https://www.historicmedley.org/event/excel-academy/
LOCATION:Seneca Schoolhouse
ORGANIZER;CN="Erin Troast":MAILTO:erin.mcguire@pgcps.org
END:VEVENT
BEGIN:VEVENT
DTSTART;TZID=America/New_York:20230131T093000
DTEND;TZID=America/New_York:20230131T130000
DTSTAMP:20260425T181829
CREATED:20221216T040312Z
LAST-MODIFIED:20221216T040312Z
UID:3725-1675157400-1675170000@www.historicmedley.org
SUMMARY:Excel Academy
DESCRIPTION:4th grade
URL:https://www.historicmedley.org/event/excel-academy-2/
LOCATION:Seneca Schoolhouse
ORGANIZER;CN="Erin Troast":MAILTO:erin.mcguire@pgcps.org
END:VEVENT
END:VCALENDAR