BEGIN:VCALENDAR
VERSION:2.0
PRODID:-//Historic Medley District - ECPv6.15.20//NONSGML v1.0//EN
CALSCALE:GREGORIAN
METHOD:PUBLISH
X-ORIGINAL-URL:https://www.historicmedley.org
X-WR-CALDESC:Events for Historic Medley District
REFRESH-INTERVAL;VALUE=DURATION:PT1H
X-Robots-Tag:noindex
X-PUBLISHED-TTL:PT1H
BEGIN:VTIMEZONE
TZID:America/New_York
BEGIN:DAYLIGHT
TZOFFSETFROM:-0500
TZOFFSETTO:-0400
TZNAME:EDT
DTSTART:20210314T070000
END:DAYLIGHT
BEGIN:STANDARD
TZOFFSETFROM:-0400
TZOFFSETTO:-0500
TZNAME:EST
DTSTART:20211107T060000
END:STANDARD
BEGIN:DAYLIGHT
TZOFFSETFROM:-0500
TZOFFSETTO:-0400
TZNAME:EDT
DTSTART:20220313T070000
END:DAYLIGHT
BEGIN:STANDARD
TZOFFSETFROM:-0400
TZOFFSETTO:-0500
TZNAME:EST
DTSTART:20221106T060000
END:STANDARD
BEGIN:DAYLIGHT
TZOFFSETFROM:-0500
TZOFFSETTO:-0400
TZNAME:EDT
DTSTART:20230312T070000
END:DAYLIGHT
BEGIN:STANDARD
TZOFFSETFROM:-0400
TZOFFSETTO:-0500
TZNAME:EST
DTSTART:20231105T060000
END:STANDARD
END:VTIMEZONE
BEGIN:VEVENT
DTSTART;TZID=America/New_York:20221013T100000
DTEND;TZID=America/New_York:20221013T140000
DTSTAMP:20260425T230517
CREATED:20220831T030109Z
LAST-MODIFIED:20220831T030109Z
UID:3488-1665655200-1665669600@www.historicmedley.org
SUMMARY:Team Homeschool
DESCRIPTION:Traditional 1880s school day
URL:https://www.historicmedley.org/event/team-homeschool/
LOCATION:Seneca Schoolhouse
ORGANIZER;CN="Adrienne Kyzar":MAILTO:my2bubbleguppies@gmail.com
END:VEVENT
BEGIN:VEVENT
DTSTART;TZID=America/New_York:20221014T100000
DTEND;TZID=America/New_York:20221014T140000
DTSTAMP:20260425T230517
CREATED:20220831T030532Z
LAST-MODIFIED:20220831T030532Z
UID:3491-1665741600-1665756000@www.historicmedley.org
SUMMARY:STAT
DESCRIPTION:25 – 28 students
URL:https://www.historicmedley.org/event/stat/
LOCATION:Seneca Schoolhouse
ORGANIZER;CN="Katlyn McGrath":MAILTO:kaitlyn.m.mcgrath@gamil.com
END:VEVENT
BEGIN:VEVENT
DTSTART;TZID=America/New_York:20221021T100000
DTEND;TZID=America/New_York:20221021T143000
DTSTAMP:20260425T230517
CREATED:20220901T012622Z
LAST-MODIFIED:20220901T012622Z
UID:3554-1666346400-1666362600@www.historicmedley.org
SUMMARY:St. Joseph's School
DESCRIPTION:Martinsburg\, WV
URL:https://www.historicmedley.org/event/st-josephs-school-2/
LOCATION:Seneca Schoolhouse
ORGANIZER;CN="Vanessa Smith":MAILTO:vsmith@sjswv.org
END:VEVENT
BEGIN:VEVENT
DTSTART;TZID=America/New_York:20221024T100000
DTEND;TZID=America/New_York:20221024T140000
DTSTAMP:20260425T230517
CREATED:20221002T185029Z
LAST-MODIFIED:20221002T185029Z
UID:3609-1666605600-1666620000@www.historicmedley.org
SUMMARY:Autumn Metzger's Darnestown Group
DESCRIPTION:MoCo students organized by a parent. 2nd – 7th graders \n 
URL:https://www.historicmedley.org/event/autumn-metzgers-darnestown-group/
LOCATION:Seneca Schoolhouse
ORGANIZER;CN="Autumn Metzger":MAILTO:metzger.autumn@gmail.com
END:VEVENT
BEGIN:VEVENT
DTSTART;TZID=America/New_York:20221026T100000
DTEND;TZID=America/New_York:20221026T140000
DTSTAMP:20260425T230517
CREATED:20220919T002249Z
LAST-MODIFIED:20220919T002249Z
UID:3585-1666778400-1666792800@www.historicmedley.org
SUMMARY:St. Andrew's Episcopal School
DESCRIPTION:17 4th graders
URL:https://www.historicmedley.org/event/st-andrews-episcopal-school-3/
LOCATION:Seneca Schoolhouse
ORGANIZER;CN="Megan Rogge":MAILTO:mrogge@saes.org
END:VEVENT
BEGIN:VEVENT
DTSTART;TZID=America/New_York:20221028T100000
DTEND;TZID=America/New_York:20221028T140000
DTSTAMP:20260425T230517
CREATED:20220815T024822Z
LAST-MODIFIED:20220815T024822Z
UID:3393-1666951200-1666965600@www.historicmedley.org
SUMMARY:Jennifer Solomon Homeschool Group
DESCRIPTION:No. Baltimore/So. PA
URL:https://www.historicmedley.org/event/jennifer-solomon-homeschool-group/
LOCATION:Seneca Schoolhouse
ORGANIZER;CN="Jennifer Solomon":MAILTO:jennifer.solomon@gmail.com
END:VEVENT
END:VCALENDAR