BEGIN:VCALENDAR
VERSION:2.0
PRODID:-//Historic Medley District - ECPv6.15.20//NONSGML v1.0//EN
CALSCALE:GREGORIAN
METHOD:PUBLISH
X-ORIGINAL-URL:https://www.historicmedley.org
X-WR-CALDESC:Events for Historic Medley District
REFRESH-INTERVAL;VALUE=DURATION:PT1H
X-Robots-Tag:noindex
X-PUBLISHED-TTL:PT1H
BEGIN:VTIMEZONE
TZID:America/New_York
BEGIN:DAYLIGHT
TZOFFSETFROM:-0500
TZOFFSETTO:-0400
TZNAME:EDT
DTSTART:20240310T070000
END:DAYLIGHT
BEGIN:STANDARD
TZOFFSETFROM:-0400
TZOFFSETTO:-0500
TZNAME:EST
DTSTART:20241103T060000
END:STANDARD
BEGIN:DAYLIGHT
TZOFFSETFROM:-0500
TZOFFSETTO:-0400
TZNAME:EDT
DTSTART:20250309T070000
END:DAYLIGHT
BEGIN:STANDARD
TZOFFSETFROM:-0400
TZOFFSETTO:-0500
TZNAME:EST
DTSTART:20251102T060000
END:STANDARD
BEGIN:DAYLIGHT
TZOFFSETFROM:-0500
TZOFFSETTO:-0400
TZNAME:EDT
DTSTART:20260308T070000
END:DAYLIGHT
BEGIN:STANDARD
TZOFFSETFROM:-0400
TZOFFSETTO:-0500
TZNAME:EST
DTSTART:20261101T060000
END:STANDARD
END:VTIMEZONE
BEGIN:VEVENT
DTSTART;TZID=America/New_York:20250114T100000
DTEND;TZID=America/New_York:20250114T140000
DTSTAMP:20260425T104303
CREATED:20241025T014616Z
LAST-MODIFIED:20241025T014616Z
UID:5536-1736848800-1736863200@www.historicmedley.org
SUMMARY:Stoddert Elementary
DESCRIPTION:2nd Grade
URL:https://www.historicmedley.org/event/stoddert-elementary-20/
LOCATION:Seneca Schoolhouse
ORGANIZER;CN="Kelley Lasov":MAILTO:kelley.lasov@dc.gov
END:VEVENT
BEGIN:VEVENT
DTSTART;TZID=America/New_York:20250115T100000
DTEND;TZID=America/New_York:20250115T140000
DTSTAMP:20260425T104303
CREATED:20241025T014747Z
LAST-MODIFIED:20241025T014747Z
UID:5538-1736935200-1736949600@www.historicmedley.org
SUMMARY:Stoddert Elementary School
DESCRIPTION:2nd Grade
URL:https://www.historicmedley.org/event/stoddert-elementary-school-3/
LOCATION:Seneca Schoolhouse
ORGANIZER;CN="Kelley Lasov":MAILTO:kelley.lasov@dc.gov
END:VEVENT
BEGIN:VEVENT
DTSTART;TZID=America/New_York:20250116T100000
DTEND;TZID=America/New_York:20250116T140000
DTSTAMP:20260425T104303
CREATED:20241025T014935Z
LAST-MODIFIED:20241025T014935Z
UID:5540-1737021600-1737036000@www.historicmedley.org
SUMMARY:Stoddert Elementary School
DESCRIPTION:2nd Grade
URL:https://www.historicmedley.org/event/stoddert-elementary-school-4/
LOCATION:Seneca Schoolhouse
ORGANIZER;CN="Kelley Lasov":MAILTO:kelley.lasov@dc.gov
END:VEVENT
BEGIN:VEVENT
DTSTART;TZID=America/New_York:20250123T130000
DTEND;TZID=America/New_York:20250123T143000
DTSTAMP:20260425T104303
CREATED:20250118T171138Z
LAST-MODIFIED:20250120T132531Z
UID:5632-1737637200-1737642600@www.historicmedley.org
SUMMARY:HMD - Its History and Important Cultural Role - Past and Present
DESCRIPTION:Celebrate the 50th year anniversary of Historic Medley District with Rande Davis portraying John Poole! Learn the history and important cultural role of Historic Medley District while enjoying light colonial fare and socializing with friends and neighbors. \n  \nRegistration is required due to space limitations: \nHMD- Its History and Important Cultural Role: Past and Present – Poolesville Seniors \n 
URL:https://www.historicmedley.org/event/hmd-its-history-and-important-cultural-role-past-and-present/
LOCATION:John Poole House\, 19923 Fisher Avenue\, Poolesville\, MD\, 20837\, United States
END:VEVENT
BEGIN:VEVENT
DTSTART;TZID=America/New_York:20250226T100000
DTEND;TZID=America/New_York:20250226T140000
DTSTAMP:20260425T104303
CREATED:20250209T024400Z
LAST-MODIFIED:20250209T024400Z
UID:5637-1740564000-1740578400@www.historicmedley.org
SUMMARY:St. John the Beloved Academy
DESCRIPTION:3rd grade
URL:https://www.historicmedley.org/event/st-john-the-beloved-academy-5/
LOCATION:Seneca Schoolhouse
END:VEVENT
BEGIN:VEVENT
DTSTART;TZID=America/New_York:20250228T100000
DTEND;TZID=America/New_York:20250228T140000
DTSTAMP:20260425T104303
CREATED:20250209T024515Z
LAST-MODIFIED:20250209T024515Z
UID:5639-1740736800-1740751200@www.historicmedley.org
SUMMARY:St. John the Beloved Academy
DESCRIPTION:3rd grade
URL:https://www.historicmedley.org/event/st-john-the-beloved-academy-6/
LOCATION:Seneca Schoolhouse
END:VEVENT
BEGIN:VEVENT
DTSTART;TZID=America/New_York:20250308T140000
DTEND;TZID=America/New_York:20250308T160000
DTSTAMP:20260425T104303
CREATED:20250308T023131Z
LAST-MODIFIED:20250308T023131Z
UID:5673-1741442400-1741449600@www.historicmedley.org
SUMMARY:Bethesda Brownie Troop
DESCRIPTION:18 3rd grade Girl Scouts
URL:https://www.historicmedley.org/event/bethesda-brownie-troop-2/
LOCATION:Seneca Schoolhouse
ORGANIZER;CN="Katie Goldman":MAILTO:katiecrean@gmail.com
END:VEVENT
BEGIN:VEVENT
DTSTART;TZID=America/New_York:20250313T100000
DTEND;TZID=America/New_York:20250313T140000
DTSTAMP:20260425T104303
CREATED:20241025T014133Z
LAST-MODIFIED:20250308T020542Z
UID:5530-1741860000-1741874400@www.historicmedley.org
SUMMARY:Beverly Farms Elementary
DESCRIPTION:4th Grade
URL:https://www.historicmedley.org/event/beverly-farms-elementary-6/
LOCATION:Seneca Schoolhouse
ORGANIZER;CN="Kate Allen":MAILTO:Mary_k_Allen@mcpsmd.org
END:VEVENT
BEGIN:VEVENT
DTSTART;TZID=America/New_York:20250314T100000
DTEND;TZID=America/New_York:20250314T140000
DTSTAMP:20260425T104303
CREATED:20241025T014455Z
LAST-MODIFIED:20250308T020626Z
UID:5534-1741946400-1741960800@www.historicmedley.org
SUMMARY:Beverly Farms Elementary
DESCRIPTION:4th Grade
URL:https://www.historicmedley.org/event/beverly-farms-elementary-7/
LOCATION:Seneca Schoolhouse
ORGANIZER;CN="Kate Allen":MAILTO:Mary_k_Allen@mcpsmd.org
END:VEVENT
BEGIN:VEVENT
DTSTART;TZID=America/New_York:20250319T100000
DTEND;TZID=America/New_York:20250319T140000
DTSTAMP:20260425T104303
CREATED:20241025T014332Z
LAST-MODIFIED:20241025T014332Z
UID:5532-1742378400-1742392800@www.historicmedley.org
SUMMARY:Beverly Farms Elementary School
DESCRIPTION:4th Grade
URL:https://www.historicmedley.org/event/beverly-farms-elementary-school-14/
LOCATION:Seneca Schoolhouse
ORGANIZER;CN="Kate Allen":MAILTO:Mary_k_Allen@mcpsmd.org
END:VEVENT
BEGIN:VEVENT
DTSTART;TZID=America/New_York:20250321T100000
DTEND;TZID=America/New_York:20250321T140000
DTSTAMP:20260425T104303
CREATED:20240823T022620Z
LAST-MODIFIED:20250308T021913Z
UID:5347-1742551200-1742565600@www.historicmedley.org
SUMMARY:St. John's Homeschool Group
DESCRIPTION:
URL:https://www.historicmedley.org/event/sure-foundation-homeschool-tutorial-sfht-2/
LOCATION:Seneca Schoolhouse
ORGANIZER;CN="Teresa Thorne":MAILTO:tmthorne@gmail.com
END:VEVENT
BEGIN:VEVENT
DTSTART;TZID=America/New_York:20250324T100000
DTEND;TZID=America/New_York:20250324T140000
DTSTAMP:20260425T104303
CREATED:20250105T040235Z
LAST-MODIFIED:20250105T040235Z
UID:5621-1742810400-1742824800@www.historicmedley.org
SUMMARY:Classical Conversations of South Frederick
DESCRIPTION:Up to 28 students of varying ages
URL:https://www.historicmedley.org/event/classical-conversations-of-south-frederick-2/
LOCATION:Seneca Schoolhouse
ORGANIZER;CN="Beckah Sivilli":MAILTO:risivilli@gmail.com
END:VEVENT
BEGIN:VEVENT
DTSTART;TZID=America/New_York:20250325T100000
DTEND;TZID=America/New_York:20250325T140000
DTSTAMP:20260425T104303
CREATED:20241213T035443Z
LAST-MODIFIED:20241213T035443Z
UID:5610-1742896800-1742911200@www.historicmedley.org
SUMMARY:SOAR
DESCRIPTION:Homeschool group
URL:https://www.historicmedley.org/event/soar/
LOCATION:Seneca Schoolhouse
ORGANIZER;CN="Melissa Zoutendam":MAILTO:melissa.zoutendam@yahoo.com
END:VEVENT
BEGIN:VEVENT
DTSTART;TZID=America/New_York:20250326T100000
DTEND;TZID=America/New_York:20250326T140000
DTSTAMP:20260425T104303
CREATED:20240919T033006Z
LAST-MODIFIED:20240919T033006Z
UID:5391-1742983200-1742997600@www.historicmedley.org
SUMMARY:Dominion Christian School
DESCRIPTION:11 second graders
URL:https://www.historicmedley.org/event/dominion-christian-school-6/
LOCATION:Seneca Schoolhouse
ORGANIZER;CN="McKenna Hassay":MAILTO:mhassay@dominionschool.com
END:VEVENT
BEGIN:VEVENT
DTSTART;TZID=America/New_York:20250327T100000
DTEND;TZID=America/New_York:20250327T140000
DTSTAMP:20260425T104303
CREATED:20250209T031155Z
LAST-MODIFIED:20250308T021407Z
UID:5654-1743069600-1743084000@www.historicmedley.org
SUMMARY:St. Nicholas Academic Community
DESCRIPTION:Homeschool Group
URL:https://www.historicmedley.org/event/st-nicholas-academic-community/
LOCATION:Seneca Schoolhouse
ORGANIZER;CN="Leah Peterson":MAILTO:lrdobler@gmailcom
END:VEVENT
BEGIN:VEVENT
DTSTART;TZID=America/New_York:20250328T100000
DTEND;TZID=America/New_York:20250328T140000
DTSTAMP:20260425T104303
CREATED:20250107T174644Z
LAST-MODIFIED:20250107T174644Z
UID:5626-1743156000-1743170400@www.historicmedley.org
SUMMARY:Heritage Instructional Services
DESCRIPTION:Homeschoolers 3rd-6th grades
URL:https://www.historicmedley.org/event/heritage-instructional-services/
LOCATION:Seneca Schoolhouse
ORGANIZER;CN="Maren Simons":MAILTO:mbs1112@gmail.com
END:VEVENT
BEGIN:VEVENT
DTSTART;TZID=America/New_York:20250331T100000
DTEND;TZID=America/New_York:20250331T140000
DTSTAMP:20260425T104303
CREATED:20250105T040412Z
LAST-MODIFIED:20250105T040412Z
UID:5624-1743415200-1743429600@www.historicmedley.org
SUMMARY:Classical Conversations of South Frederick
DESCRIPTION:Up to 28 students of varying ages
URL:https://www.historicmedley.org/event/classical-conversations-of-south-frederick-3/
LOCATION:Seneca Schoolhouse
ORGANIZER;CN="Beckah Sivilli":MAILTO:risivilli@gmail.com
END:VEVENT
BEGIN:VEVENT
DTSTART;TZID=America/New_York:20250331T143000
DTEND;TZID=America/New_York:20250331T163000
DTSTAMP:20260425T104303
CREATED:20250330T220042Z
LAST-MODIFIED:20250330T220042Z
UID:5696-1743431400-1743438600@www.historicmedley.org
SUMMARY:Girl Scout Troop 33173
DESCRIPTION:4th graders from Bethesda
URL:https://www.historicmedley.org/event/girl-scout-troop-33173/
LOCATION:Seneca Schoolhouse
ORGANIZER;CN="Tracy Parker":MAILTO:tracyaparker@gmail.com
END:VEVENT
BEGIN:VEVENT
DTSTART;TZID=America/New_York:20250401T100000
DTEND;TZID=America/New_York:20250401T140000
DTSTAMP:20260425T104303
CREATED:20240822T153931Z
LAST-MODIFIED:20240822T153931Z
UID:5334-1743501600-1743516000@www.historicmedley.org
SUMMARY:Dominion Christian School
DESCRIPTION:2nd grade \n3rd time attending SSH
URL:https://www.historicmedley.org/event/dominion-christian-school-5/
LOCATION:Seneca Schoolhouse
ORGANIZER;CN="Lillian Bewley":MAILTO:lbewley@dominionschool.com
END:VEVENT
BEGIN:VEVENT
DTSTART;TZID=America/New_York:20250403T100000
DTEND;TZID=America/New_York:20250403T140000
DTSTAMP:20260425T104303
CREATED:20250308T023356Z
LAST-MODIFIED:20250308T023356Z
UID:5676-1743674400-1743688800@www.historicmedley.org
SUMMARY:St. Jane De Chantal
DESCRIPTION:24 2nd graders
URL:https://www.historicmedley.org/event/st-jane-de-chantal-11/
LOCATION:Seneca Schoolhouse
END:VEVENT
BEGIN:VEVENT
DTSTART;TZID=America/New_York:20250404T100000
DTEND;TZID=America/New_York:20250404T140000
DTSTAMP:20260425T104303
CREATED:20240727T183351Z
LAST-MODIFIED:20240815T223112Z
UID:5288-1743760800-1743775200@www.historicmedley.org
SUMMARY:World Explorers Homeschool Co-op
DESCRIPTION:~20 children
URL:https://www.historicmedley.org/event/world-explorers-homeschool-co-op-3/
LOCATION:Seneca Schoolhouse
CATEGORIES:Seneca Schoolhouse
ORGANIZER;CN="Mary-Gray Gordon":MAILTO:Marygray.gordon@gmail.com
END:VEVENT
BEGIN:VEVENT
DTSTART;TZID=America/New_York:20250408T100000
DTEND;TZID=America/New_York:20250408T140000
DTSTAMP:20260425T104303
CREATED:20241025T013327Z
LAST-MODIFIED:20241025T013327Z
UID:5526-1744106400-1744120800@www.historicmedley.org
SUMMARY:Mount Airy Christian Academy
DESCRIPTION:2nd Grade
URL:https://www.historicmedley.org/event/mount-airy-christian-academy-5/
LOCATION:Seneca Schoolhouse
ORGANIZER;CN="Lisa Anderes":MAILTO:lisa.anderes@macamd.org
END:VEVENT
BEGIN:VEVENT
DTSTART;TZID=America/New_York:20250409T100000
DTEND;TZID=America/New_York:20250409T140000
DTSTAMP:20260425T104303
CREATED:20241025T013439Z
LAST-MODIFIED:20241025T013439Z
UID:5528-1744192800-1744207200@www.historicmedley.org
SUMMARY:Mount Airy Christian Academy
DESCRIPTION:2nd Grade
URL:https://www.historicmedley.org/event/mount-airy-christian-academy-6/
LOCATION:Seneca Schoolhouse
ORGANIZER;CN="Lisa Anderes":MAILTO:lisa.anderes@macamd.org
END:VEVENT
BEGIN:VEVENT
DTSTART;TZID=America/New_York:20250411T100000
DTEND;TZID=America/New_York:20250411T140000
DTSTAMP:20260425T104303
CREATED:20250330T215629Z
LAST-MODIFIED:20250330T215629Z
UID:5693-1744365600-1744380000@www.historicmedley.org
SUMMARY:Frederick East Classical
DESCRIPTION:1st – 6th graders
URL:https://www.historicmedley.org/event/frederick-east-classical-2/
LOCATION:Seneca Schoolhouse
ORGANIZER;CN="Jenn Chucoski":MAILTO:jennchucoski@gmail.com
END:VEVENT
BEGIN:VEVENT
DTSTART;TZID=America/New_York:20250415T100000
DTEND;TZID=America/New_York:20250415T140000
DTSTAMP:20260425T104303
CREATED:20241127T220218Z
LAST-MODIFIED:20241127T220218Z
UID:5605-1744711200-1744725600@www.historicmedley.org
SUMMARY:Homesteaders Homeschoolers
DESCRIPTION:Attended a 2024 Thanksgiving class
URL:https://www.historicmedley.org/event/homesteaders-homeschoolers/
LOCATION:Seneca Schoolhouse
ORGANIZER;CN="Kathryn Norvedt":MAILTO:mommy2ellianna@gmail.com
END:VEVENT
BEGIN:VEVENT
DTSTART;TZID=America/New_York:20250423T100000
DTEND;TZID=America/New_York:20250423T140000
DTSTAMP:20260425T104303
CREATED:20250209T025029Z
LAST-MODIFIED:20250209T025029Z
UID:5641-1745402400-1745416800@www.historicmedley.org
SUMMARY:Schola Familia Homeschool Co-op
DESCRIPTION:
URL:https://www.historicmedley.org/event/schola-familia-homeschool-co-op-2/
LOCATION:Seneca Schoolhouse
ORGANIZER;CN="Lindsay Weldon":MAILTO:lindsayeweldon@gmail.com
END:VEVENT
BEGIN:VEVENT
DTSTART;TZID=America/New_York:20250424T100000
DTEND;TZID=America/New_York:20250424T140000
DTSTAMP:20260425T104303
CREATED:20250308T023643Z
LAST-MODIFIED:20250308T023643Z
UID:5678-1745488800-1745503200@www.historicmedley.org
SUMMARY:Beltsville Adventist
DESCRIPTION:4th grade
URL:https://www.historicmedley.org/event/beltsville-adventist-4/
LOCATION:Seneca Schoolhouse
ORGANIZER;CN="Mircha Colin":MAILTO:mcolin@baschool.org
END:VEVENT
BEGIN:VEVENT
DTSTART;TZID=America/New_York:20250425T100000
DTEND;TZID=America/New_York:20250425T140000
DTSTAMP:20260425T104303
CREATED:20250209T025210Z
LAST-MODIFIED:20250209T025210Z
UID:5643-1745575200-1745589600@www.historicmedley.org
SUMMARY:TORCH
DESCRIPTION:
URL:https://www.historicmedley.org/event/torch-3/
LOCATION:Seneca Schoolhouse
ORGANIZER;CN="Allyson Nealy":MAILTO:Allysonnealy@gmail.com
END:VEVENT
BEGIN:VEVENT
DTSTART;TZID=America/New_York:20250426T140000
DTEND;TZID=America/New_York:20250426T163000
DTSTAMP:20260425T104303
CREATED:20250308T025239Z
LAST-MODIFIED:20250404T213332Z
UID:5681-1745676000-1745685000@www.historicmedley.org
SUMMARY:Houston Birthday Party
DESCRIPTION:Lucy’s 9th birthday party
URL:https://www.historicmedley.org/event/houston-birthday-party/
LOCATION:Seneca Schoolhouse
ORGANIZER;CN="Katherine Houston":MAILTO:kvhouston@gmail.com
END:VEVENT
BEGIN:VEVENT
DTSTART;TZID=America/New_York:20250428T100000
DTEND;TZID=America/New_York:20250428T130000
DTSTAMP:20260425T104303
CREATED:20250209T030425Z
LAST-MODIFIED:20250209T030425Z
UID:5645-1745834400-1745845200@www.historicmedley.org
SUMMARY:Lux Manor Elementary
DESCRIPTION:
URL:https://www.historicmedley.org/event/lux-manor-elementary/
LOCATION:Seneca Schoolhouse
ORGANIZER;CN="Sydney Buell":MAILTO:sydney_k_buell@mcpsmd.org
END:VEVENT
END:VCALENDAR