BEGIN:VCALENDAR
VERSION:2.0
PRODID:-//Historic Medley District - ECPv6.15.20//NONSGML v1.0//EN
CALSCALE:GREGORIAN
METHOD:PUBLISH
X-WR-CALNAME:Historic Medley District
X-ORIGINAL-URL:https://www.historicmedley.org
X-WR-CALDESC:Events for Historic Medley District
REFRESH-INTERVAL;VALUE=DURATION:PT1H
X-Robots-Tag:noindex
X-PUBLISHED-TTL:PT1H
BEGIN:VTIMEZONE
TZID:America/New_York
BEGIN:DAYLIGHT
TZOFFSETFROM:-0500
TZOFFSETTO:-0400
TZNAME:EDT
DTSTART:20240310T070000
END:DAYLIGHT
BEGIN:STANDARD
TZOFFSETFROM:-0400
TZOFFSETTO:-0500
TZNAME:EST
DTSTART:20241103T060000
END:STANDARD
BEGIN:DAYLIGHT
TZOFFSETFROM:-0500
TZOFFSETTO:-0400
TZNAME:EDT
DTSTART:20250309T070000
END:DAYLIGHT
BEGIN:STANDARD
TZOFFSETFROM:-0400
TZOFFSETTO:-0500
TZNAME:EST
DTSTART:20251102T060000
END:STANDARD
BEGIN:DAYLIGHT
TZOFFSETFROM:-0500
TZOFFSETTO:-0400
TZNAME:EDT
DTSTART:20260308T070000
END:DAYLIGHT
BEGIN:STANDARD
TZOFFSETFROM:-0400
TZOFFSETTO:-0500
TZNAME:EST
DTSTART:20261101T060000
END:STANDARD
END:VTIMEZONE
BEGIN:VEVENT
DTSTART;TZID=America/New_York:20250602T100000
DTEND;TZID=America/New_York:20250602T140000
DTSTAMP:20260424T040412
CREATED:20240823T023505Z
LAST-MODIFIED:20250105T042156Z
UID:5351-1748858400-1748872800@www.historicmedley.org
SUMMARY:Rochambeau\, The French International School
DESCRIPTION:
URL:https://www.historicmedley.org/event/rochambeau-the-french-international-school-2/
LOCATION:Seneca Schoolhouse
ORGANIZER;CN="Leslie Dorit":MAILTO:ldorit@rochambeau.org
END:VEVENT
BEGIN:VEVENT
DTSTART;TZID=America/New_York:20250530T100000
DTEND;TZID=America/New_York:20250530T140000
DTSTAMP:20260424T040412
CREATED:20250405T024823Z
LAST-MODIFIED:20250405T024823Z
UID:5713-1748599200-1748613600@www.historicmedley.org
SUMMARY:Beall Elementary School
DESCRIPTION:First time attending SSH \n3rd grade 25 or 26 students
URL:https://www.historicmedley.org/event/beall-elementary-school-3/
LOCATION:Seneca Schoolhouse
ORGANIZER;CN="Abby Sumondong":MAILTO:avereme_sumondong@mcpsmd.org
END:VEVENT
BEGIN:VEVENT
DTSTART;TZID=America/New_York:20250529T100000
DTEND;TZID=America/New_York:20250529T140000
DTSTAMP:20260424T040412
CREATED:20240823T023310Z
LAST-MODIFIED:20250105T042036Z
UID:5349-1748512800-1748527200@www.historicmedley.org
SUMMARY:Rochambeau\, The French International School
DESCRIPTION:
URL:https://www.historicmedley.org/event/rochambeau-the-french-international-school/
LOCATION:Seneca Schoolhouse
ORGANIZER;CN="Leslie Dorit":MAILTO:ldorit@rochambeau.org
END:VEVENT
BEGIN:VEVENT
DTSTART;TZID=America/New_York:20250528T100000
DTEND;TZID=America/New_York:20250528T140000
DTSTAMP:20260424T040412
CREATED:20240823T023904Z
LAST-MODIFIED:20250105T041950Z
UID:5353-1748426400-1748440800@www.historicmedley.org
SUMMARY:Rochambeau\, The French International School
DESCRIPTION:
URL:https://www.historicmedley.org/event/rochambeau-the-french-international-school-3/
LOCATION:Seneca Schoolhouse
ORGANIZER;CN="Leslie Dorit":MAILTO:ldorit@rochambeau.org
END:VEVENT
BEGIN:VEVENT
DTSTART;TZID=America/New_York:20250527T100000
DTEND;TZID=America/New_York:20250527T140000
DTSTAMP:20260424T040412
CREATED:20240823T024255Z
LAST-MODIFIED:20250105T041829Z
UID:5355-1748340000-1748354400@www.historicmedley.org
SUMMARY:Rochambeau\, The French International School
DESCRIPTION:
URL:https://www.historicmedley.org/event/rochambeau-the-french-international-school-4/
LOCATION:Seneca Schoolhouse
ORGANIZER;CN="Leslie Dorit":MAILTO:ldorit@rochambeau.org
END:VEVENT
BEGIN:VEVENT
DTSTART;TZID=America/New_York:20250523T100000
DTEND;TZID=America/New_York:20250523T140000
DTSTAMP:20260424T040412
CREATED:20250405T024040Z
LAST-MODIFIED:20250503T021557Z
UID:5711-1747994400-1748008800@www.historicmedley.org
SUMMARY:Beall Elementary School
DESCRIPTION:First time attending SSH \n3rd grade \n25 or 26 students
URL:https://www.historicmedley.org/event/beall-elementary-school-2/
LOCATION:Seneca Schoolhouse
ORGANIZER;CN="Abby Sumondong":MAILTO:avereme_sumondong@mcpsmd.org
END:VEVENT
BEGIN:VEVENT
DTSTART;TZID=America/New_York:20250522T100000
DTEND;TZID=America/New_York:20250522T140000
DTSTAMP:20260424T040412
CREATED:20250107T174914Z
LAST-MODIFIED:20250107T174914Z
UID:5629-1747908000-1747922400@www.historicmedley.org
SUMMARY:Holy Cross Elementary
DESCRIPTION:2nd grade
URL:https://www.historicmedley.org/event/holy-cross-elementary-4/
LOCATION:Seneca Schoolhouse
END:VEVENT
BEGIN:VEVENT
DTSTART;TZID=America/New_York:20250520T100000
DTEND;TZID=America/New_York:20250520T140000
DTSTAMP:20260424T040412
CREATED:20250209T031848Z
LAST-MODIFIED:20250209T031848Z
UID:5661-1747735200-1747749600@www.historicmedley.org
SUMMARY:Barnesville School
DESCRIPTION:4th Grade
URL:https://www.historicmedley.org/event/barnesville-school-7/
LOCATION:Seneca Schoolhouse
END:VEVENT
BEGIN:VEVENT
DTSTART;TZID=America/New_York:20250516T100000
DTEND;TZID=America/New_York:20250516T130000
DTSTAMP:20260424T040412
CREATED:20250209T030752Z
LAST-MODIFIED:20250503T021831Z
UID:5652-1747389600-1747400400@www.historicmedley.org
SUMMARY:Lux Manor Elementary School
DESCRIPTION:
URL:https://www.historicmedley.org/event/lux-manor-elementary-school-3/
LOCATION:Seneca Schoolhouse
ORGANIZER;CN="Sydney Buell":MAILTO:sydney_k_buell@mcpsmd.org
END:VEVENT
BEGIN:VEVENT
DTSTART;TZID=America/New_York:20250514T090000
DTEND;TZID=America/New_York:20250514T130000
DTSTAMP:20260424T040412
CREATED:20250322T230423Z
LAST-MODIFIED:20250322T230423Z
UID:5690-1747213200-1747227600@www.historicmedley.org
SUMMARY:Butler Montessori
DESCRIPTION:27 students in grades 1 – 3
URL:https://www.historicmedley.org/event/butler-montessori-5/
LOCATION:Seneca Schoolhouse
ORGANIZER;CN="Amy D'Elia":MAILTO:Amy@butlerschool.org
END:VEVENT
BEGIN:VEVENT
DTSTART;TZID=America/New_York:20250513T090000
DTEND;TZID=America/New_York:20250513T130000
DTSTAMP:20260424T040412
CREATED:20250322T230301Z
LAST-MODIFIED:20250322T230301Z
UID:5688-1747126800-1747141200@www.historicmedley.org
SUMMARY:Butler Montessori
DESCRIPTION:27 students in grades 1 – 3
URL:https://www.historicmedley.org/event/butler-montessori-4/
LOCATION:Seneca Schoolhouse
ORGANIZER;CN="Amy D'Elia":MAILTO:Amy@butlerschool.org
END:VEVENT
BEGIN:VEVENT
DTSTART;TZID=America/New_York:20250508T100000
DTEND;TZID=America/New_York:20250508T140000
DTSTAMP:20260424T040412
CREATED:20250209T031609Z
LAST-MODIFIED:20250209T031609Z
UID:5659-1746698400-1746712800@www.historicmedley.org
SUMMARY:Friends and Family Homeschool Group
DESCRIPTION:Frederick\, MD
URL:https://www.historicmedley.org/event/friends-and-family-homeschool-group/
LOCATION:Seneca Schoolhouse
END:VEVENT
BEGIN:VEVENT
DTSTART;TZID=America/New_York:20250507T100000
DTEND;TZID=America/New_York:20250507T140000
DTSTAMP:20260424T040412
CREATED:20250220T051831Z
LAST-MODIFIED:20250220T051831Z
UID:5668-1746612000-1746626400@www.historicmedley.org
SUMMARY:Classical Conversations of Annandale
DESCRIPTION:Came last spring – homeschool group
URL:https://www.historicmedley.org/event/classical-conversations-of-annandale/
LOCATION:Seneca Schoolhouse
ORGANIZER;CN="Nicole Oostdyk":MAILTO:nicole.oosdyk@gmail.com
END:VEVENT
BEGIN:VEVENT
DTSTART;TZID=America/New_York:20250505T100000
DTEND;TZID=America/New_York:20250505T140000
DTSTAMP:20260424T040412
CREATED:20250411T232811Z
LAST-MODIFIED:20250411T232811Z
UID:5718-1746439200-1746453600@www.historicmedley.org
SUMMARY:Our Lady of Mercy
DESCRIPTION:26 3rd graders \nFirst time attending SSH
URL:https://www.historicmedley.org/event/our-lady-of-mercy/
LOCATION:Seneca Schoolhouse
ORGANIZER;CN="Maribeth Hayzlett":MAILTO:mhayzlett@olom.org
END:VEVENT
BEGIN:VEVENT
DTSTART;TZID=America/New_York:20250502T100000
DTEND;TZID=America/New_York:20250502T140000
DTSTAMP:20260424T040412
CREATED:20250209T031413Z
LAST-MODIFIED:20250209T031956Z
UID:5656-1746180000-1746194400@www.historicmedley.org
SUMMARY:Friends and Field Trips Homeschool Group
DESCRIPTION:
URL:https://www.historicmedley.org/event/friends-and-field-trips-homeschool-group/
LOCATION:Seneca Schoolhouse
END:VEVENT
BEGIN:VEVENT
DTSTART;TZID=America/New_York:20250501T100000
DTEND;TZID=America/New_York:20250501T140000
DTSTAMP:20260424T040412
CREATED:20250405T023746Z
LAST-MODIFIED:20250405T023746Z
UID:5707-1746093600-1746108000@www.historicmedley.org
SUMMARY:Beall Elementary School
DESCRIPTION:First time attending SSH \n3rd grade \n  \n25 or 26 students
URL:https://www.historicmedley.org/event/beall-elementary-school/
LOCATION:Seneca Schoolhouse
ORGANIZER;CN="Abby Sumondong":MAILTO:avereme_sumondong@mcpsmd.org
END:VEVENT
BEGIN:VEVENT
DTSTART;TZID=America/New_York:20250430T100000
DTEND;TZID=America/New_York:20250430T130000
DTSTAMP:20260424T040412
CREATED:20250209T030643Z
LAST-MODIFIED:20250209T030643Z
UID:5650-1746007200-1746018000@www.historicmedley.org
SUMMARY:Lux Manor Elementary School
DESCRIPTION:
URL:https://www.historicmedley.org/event/lux-manor-elementary-school-2/
LOCATION:Seneca Schoolhouse
ORGANIZER;CN="Sydney Buell":MAILTO:sydney_k_buell@mcpsmd.org
END:VEVENT
BEGIN:VEVENT
DTSTART;TZID=America/New_York:20250429T100000
DTEND;TZID=America/New_York:20250429T130000
DTSTAMP:20260424T040412
CREATED:20250209T030530Z
LAST-MODIFIED:20250209T030530Z
UID:5648-1745920800-1745931600@www.historicmedley.org
SUMMARY:Lux Manor Elementary School
DESCRIPTION:
URL:https://www.historicmedley.org/event/lux-manor-elementary-school/
LOCATION:Seneca Schoolhouse
ORGANIZER;CN="Sydney Buell":MAILTO:sydney_k_buell@mcpsmd.org
END:VEVENT
BEGIN:VEVENT
DTSTART;TZID=America/New_York:20250428T100000
DTEND;TZID=America/New_York:20250428T130000
DTSTAMP:20260424T040412
CREATED:20250209T030425Z
LAST-MODIFIED:20250209T030425Z
UID:5645-1745834400-1745845200@www.historicmedley.org
SUMMARY:Lux Manor Elementary
DESCRIPTION:
URL:https://www.historicmedley.org/event/lux-manor-elementary/
LOCATION:Seneca Schoolhouse
ORGANIZER;CN="Sydney Buell":MAILTO:sydney_k_buell@mcpsmd.org
END:VEVENT
BEGIN:VEVENT
DTSTART;TZID=America/New_York:20250426T140000
DTEND;TZID=America/New_York:20250426T163000
DTSTAMP:20260424T040412
CREATED:20250308T025239Z
LAST-MODIFIED:20250404T213332Z
UID:5681-1745676000-1745685000@www.historicmedley.org
SUMMARY:Houston Birthday Party
DESCRIPTION:Lucy’s 9th birthday party
URL:https://www.historicmedley.org/event/houston-birthday-party/
LOCATION:Seneca Schoolhouse
ORGANIZER;CN="Katherine Houston":MAILTO:kvhouston@gmail.com
END:VEVENT
BEGIN:VEVENT
DTSTART;TZID=America/New_York:20250425T100000
DTEND;TZID=America/New_York:20250425T140000
DTSTAMP:20260424T040412
CREATED:20250209T025210Z
LAST-MODIFIED:20250209T025210Z
UID:5643-1745575200-1745589600@www.historicmedley.org
SUMMARY:TORCH
DESCRIPTION:
URL:https://www.historicmedley.org/event/torch-3/
LOCATION:Seneca Schoolhouse
ORGANIZER;CN="Allyson Nealy":MAILTO:Allysonnealy@gmail.com
END:VEVENT
BEGIN:VEVENT
DTSTART;TZID=America/New_York:20250424T100000
DTEND;TZID=America/New_York:20250424T140000
DTSTAMP:20260424T040412
CREATED:20250308T023643Z
LAST-MODIFIED:20250308T023643Z
UID:5678-1745488800-1745503200@www.historicmedley.org
SUMMARY:Beltsville Adventist
DESCRIPTION:4th grade
URL:https://www.historicmedley.org/event/beltsville-adventist-4/
LOCATION:Seneca Schoolhouse
ORGANIZER;CN="Mircha Colin":MAILTO:mcolin@baschool.org
END:VEVENT
BEGIN:VEVENT
DTSTART;TZID=America/New_York:20250423T100000
DTEND;TZID=America/New_York:20250423T140000
DTSTAMP:20260424T040412
CREATED:20250209T025029Z
LAST-MODIFIED:20250209T025029Z
UID:5641-1745402400-1745416800@www.historicmedley.org
SUMMARY:Schola Familia Homeschool Co-op
DESCRIPTION:
URL:https://www.historicmedley.org/event/schola-familia-homeschool-co-op-2/
LOCATION:Seneca Schoolhouse
ORGANIZER;CN="Lindsay Weldon":MAILTO:lindsayeweldon@gmail.com
END:VEVENT
BEGIN:VEVENT
DTSTART;TZID=America/New_York:20250415T100000
DTEND;TZID=America/New_York:20250415T140000
DTSTAMP:20260424T040412
CREATED:20241127T220218Z
LAST-MODIFIED:20241127T220218Z
UID:5605-1744711200-1744725600@www.historicmedley.org
SUMMARY:Homesteaders Homeschoolers
DESCRIPTION:Attended a 2024 Thanksgiving class
URL:https://www.historicmedley.org/event/homesteaders-homeschoolers/
LOCATION:Seneca Schoolhouse
ORGANIZER;CN="Kathryn Norvedt":MAILTO:mommy2ellianna@gmail.com
END:VEVENT
BEGIN:VEVENT
DTSTART;TZID=America/New_York:20250411T100000
DTEND;TZID=America/New_York:20250411T140000
DTSTAMP:20260424T040412
CREATED:20250330T215629Z
LAST-MODIFIED:20250330T215629Z
UID:5693-1744365600-1744380000@www.historicmedley.org
SUMMARY:Frederick East Classical
DESCRIPTION:1st – 6th graders
URL:https://www.historicmedley.org/event/frederick-east-classical-2/
LOCATION:Seneca Schoolhouse
ORGANIZER;CN="Jenn Chucoski":MAILTO:jennchucoski@gmail.com
END:VEVENT
BEGIN:VEVENT
DTSTART;TZID=America/New_York:20250409T100000
DTEND;TZID=America/New_York:20250409T140000
DTSTAMP:20260424T040412
CREATED:20241025T013439Z
LAST-MODIFIED:20241025T013439Z
UID:5528-1744192800-1744207200@www.historicmedley.org
SUMMARY:Mount Airy Christian Academy
DESCRIPTION:2nd Grade
URL:https://www.historicmedley.org/event/mount-airy-christian-academy-6/
LOCATION:Seneca Schoolhouse
ORGANIZER;CN="Lisa Anderes":MAILTO:lisa.anderes@macamd.org
END:VEVENT
BEGIN:VEVENT
DTSTART;TZID=America/New_York:20250408T100000
DTEND;TZID=America/New_York:20250408T140000
DTSTAMP:20260424T040412
CREATED:20241025T013327Z
LAST-MODIFIED:20241025T013327Z
UID:5526-1744106400-1744120800@www.historicmedley.org
SUMMARY:Mount Airy Christian Academy
DESCRIPTION:2nd Grade
URL:https://www.historicmedley.org/event/mount-airy-christian-academy-5/
LOCATION:Seneca Schoolhouse
ORGANIZER;CN="Lisa Anderes":MAILTO:lisa.anderes@macamd.org
END:VEVENT
BEGIN:VEVENT
DTSTART;TZID=America/New_York:20250404T100000
DTEND;TZID=America/New_York:20250404T140000
DTSTAMP:20260424T040412
CREATED:20240727T183351Z
LAST-MODIFIED:20240815T223112Z
UID:5288-1743760800-1743775200@www.historicmedley.org
SUMMARY:World Explorers Homeschool Co-op
DESCRIPTION:~20 children
URL:https://www.historicmedley.org/event/world-explorers-homeschool-co-op-3/
LOCATION:Seneca Schoolhouse
CATEGORIES:Seneca Schoolhouse
ORGANIZER;CN="Mary-Gray Gordon":MAILTO:Marygray.gordon@gmail.com
END:VEVENT
BEGIN:VEVENT
DTSTART;TZID=America/New_York:20250403T100000
DTEND;TZID=America/New_York:20250403T140000
DTSTAMP:20260424T040412
CREATED:20250308T023356Z
LAST-MODIFIED:20250308T023356Z
UID:5676-1743674400-1743688800@www.historicmedley.org
SUMMARY:St. Jane De Chantal
DESCRIPTION:24 2nd graders
URL:https://www.historicmedley.org/event/st-jane-de-chantal-11/
LOCATION:Seneca Schoolhouse
END:VEVENT
BEGIN:VEVENT
DTSTART;TZID=America/New_York:20250401T100000
DTEND;TZID=America/New_York:20250401T140000
DTSTAMP:20260424T040412
CREATED:20240822T153931Z
LAST-MODIFIED:20240822T153931Z
UID:5334-1743501600-1743516000@www.historicmedley.org
SUMMARY:Dominion Christian School
DESCRIPTION:2nd grade \n3rd time attending SSH
URL:https://www.historicmedley.org/event/dominion-christian-school-5/
LOCATION:Seneca Schoolhouse
ORGANIZER;CN="Lillian Bewley":MAILTO:lbewley@dominionschool.com
END:VEVENT
END:VCALENDAR