BEGIN:VCALENDAR
VERSION:2.0
PRODID:-//Historic Medley District - ECPv6.15.20//NONSGML v1.0//EN
CALSCALE:GREGORIAN
METHOD:PUBLISH
X-WR-CALNAME:Historic Medley District
X-ORIGINAL-URL:https://www.historicmedley.org
X-WR-CALDESC:Events for Historic Medley District
REFRESH-INTERVAL;VALUE=DURATION:PT1H
X-Robots-Tag:noindex
X-PUBLISHED-TTL:PT1H
BEGIN:VTIMEZONE
TZID:America/New_York
BEGIN:DAYLIGHT
TZOFFSETFROM:-0500
TZOFFSETTO:-0400
TZNAME:EDT
DTSTART:20250309T070000
END:DAYLIGHT
BEGIN:STANDARD
TZOFFSETFROM:-0400
TZOFFSETTO:-0500
TZNAME:EST
DTSTART:20251102T060000
END:STANDARD
BEGIN:DAYLIGHT
TZOFFSETFROM:-0500
TZOFFSETTO:-0400
TZNAME:EDT
DTSTART:20260308T070000
END:DAYLIGHT
BEGIN:STANDARD
TZOFFSETFROM:-0400
TZOFFSETTO:-0500
TZNAME:EST
DTSTART:20261101T060000
END:STANDARD
BEGIN:DAYLIGHT
TZOFFSETFROM:-0500
TZOFFSETTO:-0400
TZNAME:EDT
DTSTART:20270314T070000
END:DAYLIGHT
BEGIN:STANDARD
TZOFFSETFROM:-0400
TZOFFSETTO:-0500
TZNAME:EST
DTSTART:20271107T060000
END:STANDARD
END:VTIMEZONE
BEGIN:VEVENT
DTSTART;TZID=America/New_York:20260602T100000
DTEND;TZID=America/New_York:20260602T140000
DTSTAMP:20260423T181232
CREATED:20260103T161159Z
LAST-MODIFIED:20260103T161159Z
UID:5985-1780394400-1780408800@www.historicmedley.org
SUMMARY:Rochambeau French International School
DESCRIPTION:
URL:https://www.historicmedley.org/event/rochambeau-french-international-school-4/
LOCATION:Seneca Schoolhouse
ORGANIZER;CN="Natalie Wagner":MAILTO:wagnern@rochambeau.org
END:VEVENT
BEGIN:VEVENT
DTSTART;TZID=America/New_York:20260604T100000
DTEND;TZID=America/New_York:20260604T140000
DTSTAMP:20260423T181232
CREATED:20260103T161305Z
LAST-MODIFIED:20260103T161305Z
UID:5987-1780567200-1780581600@www.historicmedley.org
SUMMARY:Rochambeau French International School
DESCRIPTION:
URL:https://www.historicmedley.org/event/rochambeau-french-international-school-5/
LOCATION:Seneca Schoolhouse
ORGANIZER;CN="Natalie Wagner":MAILTO:wagnern@rochambeau.org
END:VEVENT
BEGIN:VEVENT
DTSTART;TZID=America/New_York:20260628T120000
DTEND;TZID=America/New_York:20260628T160000
DTSTAMP:20260423T181232
CREATED:20260326T234612Z
LAST-MODIFIED:20260326T234612Z
UID:6072-1782648000-1782662400@www.historicmedley.org
SUMMARY:Heritage Days
DESCRIPTION:Seneca Schoolhouse\, John Poole House\, and Old Town Hall will be open to the public from 12:00 – 4:00
URL:https://www.historicmedley.org/event/heritage-days-16/
END:VEVENT
BEGIN:VEVENT
DTSTART;TZID=America/New_York:20260629T120000
DTEND;TZID=America/New_York:20260629T160000
DTSTAMP:20260423T181232
CREATED:20260326T234852Z
LAST-MODIFIED:20260326T234852Z
UID:6074-1782734400-1782748800@www.historicmedley.org
SUMMARY:Heritage Days
DESCRIPTION:Seneca Schoolhouse\, John Poole House and Old Town Hall will be open to the public from 12:00 – 4:00.
URL:https://www.historicmedley.org/event/heritage-days-17/
END:VEVENT
BEGIN:VEVENT
DTSTART;TZID=America/New_York:20260929T100000
DTEND;TZID=America/New_York:20260929T140000
DTSTAMP:20260423T181232
CREATED:20260215T231045Z
LAST-MODIFIED:20260215T231045Z
UID:6017-1790676000-1790690400@www.historicmedley.org
SUMMARY:Classical Conversations of Burke Virginia
DESCRIPTION:Traditional 1880s school day class
URL:https://www.historicmedley.org/event/classical-conversations-of-burke-virginia/
LOCATION:Seneca Schoolhouse
ORGANIZER;CN="Alison Clemens":MAILTO:alisonclemens@gmail.com
END:VEVENT
BEGIN:VEVENT
DTSTART;TZID=America/New_York:20261005T100000
DTEND;TZID=America/New_York:20261005T140000
DTSTAMP:20260423T181232
CREATED:20260304T181510Z
LAST-MODIFIED:20260304T181510Z
UID:6027-1791194400-1791208800@www.historicmedley.org
SUMMARY:Homeschoolers of Central Maryland
DESCRIPTION:
URL:https://www.historicmedley.org/event/homeschoolers-of-central-maryland-4/
LOCATION:Seneca Schoolhouse
ORGANIZER;CN="Kate Richer":MAILTO:katericher77@gmail.com
END:VEVENT
BEGIN:VEVENT
DTSTART;TZID=America/New_York:20261201T100000
DTEND;TZID=America/New_York:20261201T143000
DTSTAMP:20260423T181232
CREATED:20260326T221239Z
LAST-MODIFIED:20260326T221239Z
UID:6064-1796119200-1796135400@www.historicmedley.org
SUMMARY:Wild + Free Homeschoolers
DESCRIPTION:Christmas class
URL:https://www.historicmedley.org/event/wild-free-homeschoolers/
LOCATION:Seneca Schoolhouse
ORGANIZER;CN="Jennifer Jones":MAILTO:jenniferinbeam@gmail.com
END:VEVENT
BEGIN:VEVENT
DTSTART;TZID=America/New_York:20261209T100000
DTEND;TZID=America/New_York:20261209T143000
DTSTAMP:20260423T181232
CREATED:20260210T225201Z
LAST-MODIFIED:20260210T225201Z
UID:6014-1796810400-1796826600@www.historicmedley.org
SUMMARY:Peaceful Path Homeschool Co-op
DESCRIPTION:Christmas class
URL:https://www.historicmedley.org/event/peaceful-path-homeschool-co-op/
LOCATION:Seneca Schoolhouse
ORGANIZER;CN="Kaitlyn Keefer":MAILTO:kaitlynkeefer1004@gmail.com
END:VEVENT
BEGIN:VEVENT
DTSTART;TZID=America/New_York:20261211T100000
DTEND;TZID=America/New_York:20261211T143000
DTSTAMP:20260423T181232
CREATED:20260411T160753Z
LAST-MODIFIED:20260411T160753Z
UID:6077-1796983200-1796999400@www.historicmedley.org
SUMMARY:Anne Arundel County Homeschoolers
DESCRIPTION:Christmas Class
URL:https://www.historicmedley.org/event/anne-arundel-county-homeschoolers/
LOCATION:Seneca Schoolhouse
ORGANIZER;CN="Kaitlyn Gaj":MAILTO:info@totaltutoringservices.com
END:VEVENT
END:VCALENDAR