BEGIN:VCALENDAR
VERSION:2.0
PRODID:-//Historic Medley District - ECPv6.15.20//NONSGML v1.0//EN
CALSCALE:GREGORIAN
METHOD:PUBLISH
X-WR-CALNAME:Historic Medley District
X-ORIGINAL-URL:https://www.historicmedley.org
X-WR-CALDESC:Events for Historic Medley District
REFRESH-INTERVAL;VALUE=DURATION:PT1H
X-Robots-Tag:noindex
X-PUBLISHED-TTL:PT1H
BEGIN:VTIMEZONE
TZID:America/New_York
BEGIN:DAYLIGHT
TZOFFSETFROM:-0500
TZOFFSETTO:-0400
TZNAME:EDT
DTSTART:20240310T070000
END:DAYLIGHT
BEGIN:STANDARD
TZOFFSETFROM:-0400
TZOFFSETTO:-0500
TZNAME:EST
DTSTART:20241103T060000
END:STANDARD
BEGIN:DAYLIGHT
TZOFFSETFROM:-0500
TZOFFSETTO:-0400
TZNAME:EDT
DTSTART:20250309T070000
END:DAYLIGHT
BEGIN:STANDARD
TZOFFSETFROM:-0400
TZOFFSETTO:-0500
TZNAME:EST
DTSTART:20251102T060000
END:STANDARD
BEGIN:DAYLIGHT
TZOFFSETFROM:-0500
TZOFFSETTO:-0400
TZNAME:EDT
DTSTART:20260308T070000
END:DAYLIGHT
BEGIN:STANDARD
TZOFFSETFROM:-0400
TZOFFSETTO:-0500
TZNAME:EST
DTSTART:20261101T060000
END:STANDARD
END:VTIMEZONE
BEGIN:VEVENT
DTSTART;TZID=America/New_York:20251117T100000
DTEND;TZID=America/New_York:20251117T143000
DTSTAMP:20260423T195359
CREATED:20250809T022255Z
LAST-MODIFIED:20250809T022255Z
UID:5818-1763373600-1763389800@www.historicmedley.org
SUMMARY:LEAP Homeschool Co-op
DESCRIPTION:Thanksgiving Class
URL:https://www.historicmedley.org/event/leap-homeschool-co-op/
LOCATION:Seneca Schoolhouse
ORGANIZER;CN="Molli Bishop":MAILTO:mollib723@gmail.com
END:VEVENT
BEGIN:VEVENT
DTSTART;TZID=America/New_York:20251114T100000
DTEND;TZID=America/New_York:20251114T143000
DTSTAMP:20260423T195359
CREATED:20251010T142816Z
LAST-MODIFIED:20251010T142816Z
UID:5938-1763114400-1763130600@www.historicmedley.org
SUMMARY:Jesus Loving Mamas
DESCRIPTION:Thanksgiving Class
URL:https://www.historicmedley.org/event/jesus-loving-mamas/
LOCATION:Seneca Schoolhouse
ORGANIZER;CN="Jill Murray":MAILTO:jillmurrayrn@gmail.com
END:VEVENT
BEGIN:VEVENT
DTSTART;TZID=America/New_York:20251113T100000
DTEND;TZID=America/New_York:20251113T143000
DTSTAMP:20260423T195359
CREATED:20250804T020856Z
LAST-MODIFIED:20250804T020856Z
UID:5801-1763028000-1763044200@www.historicmedley.org
SUMMARY:Classical Conversations Damascus
DESCRIPTION:Thanksgiving Class
URL:https://www.historicmedley.org/event/classical-conversations-damascus/
LOCATION:Seneca Schoolhouse
ORGANIZER;CN="Laura Margiotta":MAILTO:lauramkm@hotmail.com
END:VEVENT
BEGIN:VEVENT
DTSTART;TZID=America/New_York:20251112T100000
DTEND;TZID=America/New_York:20251112T143000
DTSTAMP:20260423T195359
CREATED:20251018T031752Z
LAST-MODIFIED:20251018T031752Z
UID:5944-1762941600-1762957800@www.historicmedley.org
SUMMARY:Homeschool Hub
DESCRIPTION:Thanksgiving Class \nHomeschool Hub – Leesburg\, VA
URL:https://www.historicmedley.org/event/homeschool-hub/
LOCATION:Seneca Schoolhouse
ORGANIZER;CN="Sara Weekes":MAILTO:wproductionsdesigns@gmail.com
END:VEVENT
BEGIN:VEVENT
DTSTART;TZID=America/New_York:20251111T100000
DTEND;TZID=America/New_York:20251111T143000
DTSTAMP:20260423T195359
CREATED:20251018T031951Z
LAST-MODIFIED:20251018T031951Z
UID:5947-1762855200-1762871400@www.historicmedley.org
SUMMARY:Homeschool Hub
DESCRIPTION:Thanksgiving Class
URL:https://www.historicmedley.org/event/homeschool-hub-2/
LOCATION:Seneca Schoolhouse
ORGANIZER;CN="Regina Gossage":MAILTO:gossagefam@aol.com
END:VEVENT
BEGIN:VEVENT
DTSTART;TZID=America/New_York:20251110T100000
DTEND;TZID=America/New_York:20251110T143000
DTSTAMP:20260423T195359
CREATED:20250809T021138Z
LAST-MODIFIED:20250809T021138Z
UID:5815-1762768800-1762785000@www.historicmedley.org
SUMMARY:Capital Baptist Co-op
DESCRIPTION:Thanksgiving Class
URL:https://www.historicmedley.org/event/capital-baptist-co-op-4/
LOCATION:Seneca Schoolhouse
ORGANIZER;CN="Jessica Brewer":MAILTO:chiafair@gmail.com
END:VEVENT
BEGIN:VEVENT
DTSTART;TZID=America/New_York:20251107T100000
DTEND;TZID=America/New_York:20251107T140000
DTSTAMP:20260423T195359
CREATED:20250818T012512Z
LAST-MODIFIED:20250818T012512Z
UID:5842-1762509600-1762524000@www.historicmedley.org
SUMMARY:Family Fellowship Co-op
DESCRIPTION:New group \nFrom Hedgesville\, WV
URL:https://www.historicmedley.org/event/family-fellowship-co-op/
END:VEVENT
BEGIN:VEVENT
DTSTART;TZID=America/New_York:20251106T100000
DTEND;TZID=America/New_York:20251106T143000
DTSTAMP:20260423T195359
CREATED:20250209T042039Z
LAST-MODIFIED:20250429T005018Z
UID:5665-1762423200-1762439400@www.historicmedley.org
SUMMARY:Classical Conversations of Burke\, VA
DESCRIPTION:Thanksgiving Class
URL:https://www.historicmedley.org/event/classical-conversations-of-burke-va-5/
LOCATION:Seneca Schoolhouse
END:VEVENT
BEGIN:VEVENT
DTSTART;TZID=America/New_York:20251103T100000
DTEND;TZID=America/New_York:20251103T143000
DTSTAMP:20260423T195359
CREATED:20250814T135625Z
LAST-MODIFIED:20250814T135625Z
UID:5830-1762164000-1762180200@www.historicmedley.org
SUMMARY:TORCH
DESCRIPTION:Thanksgiving Class
URL:https://www.historicmedley.org/event/torch-4/
LOCATION:Seneca Schoolhouse
ORGANIZER;CN="Ellen Higham":MAILTO:wheelhead1990@gmail.com
END:VEVENT
BEGIN:VEVENT
DTSTART;TZID=America/New_York:20251031T100000
DTEND;TZID=America/New_York:20251031T140000
DTSTAMP:20260423T195359
CREATED:20250908T165533Z
LAST-MODIFIED:20250908T165533Z
UID:5884-1761904800-1761919200@www.historicmedley.org
SUMMARY:Everjoy Christian Co-op
DESCRIPTION:West Virginia \nFirst time attending
URL:https://www.historicmedley.org/event/everjoy-christian-co-op/
LOCATION:Seneca Schoolhouse
ORGANIZER;CN="Jordan Camarena":MAILTO:jordanjorr@gmail.com
END:VEVENT
BEGIN:VEVENT
DTSTART;TZID=America/New_York:20251030T100000
DTEND;TZID=America/New_York:20251030T143000
DTSTAMP:20260423T195359
CREATED:20250829T222034Z
LAST-MODIFIED:20250829T222034Z
UID:5858-1761818400-1761834600@www.historicmedley.org
SUMMARY:St. Andrew's Episcopal School
DESCRIPTION:4th grade \n 
URL:https://www.historicmedley.org/event/st-andrews-episcopal-school-6/
LOCATION:Seneca Schoolhouse
ORGANIZER;CN="Megan Rogge":MAILTO:mrogge@saes.org
END:VEVENT
BEGIN:VEVENT
DTSTART;TZID=America/New_York:20251029T100000
DTEND;TZID=America/New_York:20251029T140000
DTSTAMP:20260423T195359
CREATED:20251016T023200Z
LAST-MODIFIED:20251016T023200Z
UID:5940-1761732000-1761746400@www.historicmedley.org
SUMMARY:Avalon School
DESCRIPTION:3rd grade  11 students
URL:https://www.historicmedley.org/event/avalon-school-4/
LOCATION:Seneca Schoolhouse
ORGANIZER;CN="Tomas Alicea":MAILTO:talicea@avalonschools.org
END:VEVENT
BEGIN:VEVENT
DTSTART;TZID=America/New_York:20251023T100000
DTEND;TZID=America/New_York:20251023T140000
DTSTAMP:20260423T195359
CREATED:20250913T040438Z
LAST-MODIFIED:20250913T040438Z
UID:5890-1761213600-1761228000@www.historicmedley.org
SUMMARY:Concord Hill School
DESCRIPTION:3rd Grade \n15 students
URL:https://www.historicmedley.org/event/concord-hill-school-4/
LOCATION:Seneca Schoolhouse
ORGANIZER;CN="Colleen Massaquoi":MAILTO:cmassaquoi@concordhill.org
END:VEVENT
BEGIN:VEVENT
DTSTART;TZID=America/New_York:20251022T100000
DTEND;TZID=America/New_York:20251022T140000
DTSTAMP:20260423T195359
CREATED:20250829T223532Z
LAST-MODIFIED:20250829T223532Z
UID:5869-1761127200-1761141600@www.historicmedley.org
SUMMARY:German International School
DESCRIPTION:3rd Grade
URL:https://www.historicmedley.org/event/german-international-school-8/
LOCATION:Seneca Schoolhouse
ORGANIZER;CN="Marlen Ascencio":MAILTO:mascencio@giswashington.org
END:VEVENT
BEGIN:VEVENT
DTSTART;TZID=America/New_York:20251021T100000
DTEND;TZID=America/New_York:20251021T140000
DTSTAMP:20260423T195359
CREATED:20250829T224353Z
LAST-MODIFIED:20250829T224353Z
UID:5871-1761040800-1761055200@www.historicmedley.org
SUMMARY:Homesteaders Homeschool Group
DESCRIPTION:Homeschoolers of varying ages
URL:https://www.historicmedley.org/event/homesteaders-homeschool-group-9/
LOCATION:Seneca Schoolhouse
ORGANIZER;CN="Katherine Norva":MAILTO:mommy2ellianna@gmail.com
END:VEVENT
BEGIN:VEVENT
DTSTART;TZID=America/New_York:20251020T100000
DTEND;TZID=America/New_York:20251020T140000
DTSTAMP:20260423T195359
CREATED:20250829T223415Z
LAST-MODIFIED:20250829T223415Z
UID:5867-1760954400-1760968800@www.historicmedley.org
SUMMARY:German International School
DESCRIPTION:3rd Grade
URL:https://www.historicmedley.org/event/german-international-school-7/
LOCATION:Seneca Schoolhouse
ORGANIZER;CN="Marlen Ascencio":MAILTO:mascencio@giswashington.org
END:VEVENT
BEGIN:VEVENT
DTSTART;TZID=America/New_York:20251017T100000
DTEND;TZID=America/New_York:20251017T140000
DTSTAMP:20260423T195359
CREATED:20250913T040026Z
LAST-MODIFIED:20250913T040026Z
UID:5887-1760695200-1760709600@www.historicmedley.org
SUMMARY:Ambleside School
DESCRIPTION:2nd grade – 14 students \nFirst time attending
URL:https://www.historicmedley.org/event/ambleside-school/
LOCATION:Seneca Schoolhouse
ORGANIZER;CN="Hayden Kebles":MAILTO:hkebles@ambleside.org
END:VEVENT
BEGIN:VEVENT
DTSTART;TZID=America/New_York:20251016T100000
DTEND;TZID=America/New_York:20251016T140000
DTSTAMP:20260423T195359
CREATED:20250803T165154Z
LAST-MODIFIED:20250803T165154Z
UID:5799-1760608800-1760623200@www.historicmedley.org
SUMMARY:Poolesville Elementary
DESCRIPTION:4th grade
URL:https://www.historicmedley.org/event/poolesville-elementary-15/
LOCATION:Seneca Schoolhouse
ORGANIZER;CN="Kelli Fox":MAILTO:Kelli_S_Fox@mcpsmd.org
END:VEVENT
BEGIN:VEVENT
DTSTART;TZID=America/New_York:20251015T100000
DTEND;TZID=America/New_York:20251015T140000
DTSTAMP:20260423T195359
CREATED:20250803T165035Z
LAST-MODIFIED:20250803T165035Z
UID:5797-1760522400-1760536800@www.historicmedley.org
SUMMARY:Poolesville Elementary
DESCRIPTION:4th grade
URL:https://www.historicmedley.org/event/poolesville-elementary-14/
LOCATION:Seneca Schoolhouse
ORGANIZER;CN="Kelli Fox":MAILTO:Kelli_S_Fox@mcpsmd.org
END:VEVENT
BEGIN:VEVENT
DTSTART;TZID=America/New_York:20251014T100000
DTEND;TZID=America/New_York:20251014T140000
DTSTAMP:20260423T195359
CREATED:20250803T164917Z
LAST-MODIFIED:20250803T164917Z
UID:5795-1760436000-1760450400@www.historicmedley.org
SUMMARY:Poolesville Elementary
DESCRIPTION:4th grade
URL:https://www.historicmedley.org/event/poolesville-elementary-13/
LOCATION:Seneca Schoolhouse
ORGANIZER;CN="Kelli Fox":MAILTO:Kelli_S_Fox@mcpsmd.org
END:VEVENT
BEGIN:VEVENT
DTSTART;TZID=America/New_York:20251013T100000
DTEND;TZID=America/New_York:20251013T140000
DTSTAMP:20260423T195359
CREATED:20250803T164753Z
LAST-MODIFIED:20250803T164753Z
UID:5793-1760349600-1760364000@www.historicmedley.org
SUMMARY:Poolesville Elementary
DESCRIPTION:4th grade
URL:https://www.historicmedley.org/event/poolesville-elementary-12/
LOCATION:Seneca Schoolhouse
ORGANIZER;CN="Kelli Fox":MAILTO:Kelli_S_Fox@mcpsmd.org
END:VEVENT
BEGIN:VEVENT
DTSTART;TZID=America/New_York:20251010T100000
DTEND;TZID=America/New_York:20251010T140000
DTSTAMP:20260423T195359
CREATED:20250803T164258Z
LAST-MODIFIED:20250803T164258Z
UID:5790-1760090400-1760104800@www.historicmedley.org
SUMMARY:Frederick East Classical
DESCRIPTION:Homeschool group of varying ages
URL:https://www.historicmedley.org/event/frederick-east-classical-3/
LOCATION:Seneca Schoolhouse
ORGANIZER;CN="Jenn Chucoski":MAILTO:jennchucoski@gmailcom
END:VEVENT
BEGIN:VEVENT
DTSTART;TZID=America/New_York:20251007T100000
DTEND;TZID=America/New_York:20251007T140000
DTSTAMP:20260423T195359
CREATED:20250819T211019Z
LAST-MODIFIED:20250819T211019Z
UID:5849-1759831200-1759845600@www.historicmedley.org
SUMMARY:Edlin School
DESCRIPTION:15 5th graders
URL:https://www.historicmedley.org/event/edlin-school-3/
LOCATION:Seneca Schoolhouse
ORGANIZER;CN="Rebecca Mize":MAILTO:rmize@edlinschool.com
END:VEVENT
BEGIN:VEVENT
DTSTART;TZID=America/New_York:20251003T093000
DTEND;TZID=America/New_York:20251003T133000
DTSTAMP:20260423T195359
CREATED:20250820T153050Z
LAST-MODIFIED:20250820T153050Z
UID:5851-1759483800-1759498200@www.historicmedley.org
SUMMARY:Carroll Christian Academy
DESCRIPTION:2nd grade \n22 students
URL:https://www.historicmedley.org/event/carroll-christian-academy/
LOCATION:Seneca Schoolhouse
ORGANIZER;CN="Kyle Green":MAILTO:kgreen@carrollchristian.com
END:VEVENT
BEGIN:VEVENT
DTSTART;TZID=America/New_York:20251002T100000
DTEND;TZID=America/New_York:20251002T140000
DTSTAMP:20260423T195359
CREATED:20250814T135436Z
LAST-MODIFIED:20250814T135436Z
UID:5828-1759399200-1759413600@www.historicmedley.org
SUMMARY:Frederick Adventist Academy
DESCRIPTION:3rd and 4th grades
URL:https://www.historicmedley.org/event/frederick-adventist-academy-3/
LOCATION:Seneca Schoolhouse
ORGANIZER;CN="Ellen Higham":MAILTO:wheelhead1990@gmail.com
END:VEVENT
BEGIN:VEVENT
DTSTART;TZID=America/New_York:20250629T120000
DTEND;TZID=America/New_York:20250629T160000
DTSTAMP:20260423T195359
CREATED:20250503T023728Z
LAST-MODIFIED:20250503T023728Z
UID:5724-1751198400-1751212800@www.historicmedley.org
SUMMARY:Heritage Days
DESCRIPTION:SSH\, OTH\, JPH open to the public 12:00 – 4:00
URL:https://www.historicmedley.org/event/heritage-days-15/
END:VEVENT
BEGIN:VEVENT
DTSTART;TZID=America/New_York:20250628T120000
DTEND;TZID=America/New_York:20250628T160000
DTSTAMP:20260423T195359
CREATED:20250503T023556Z
LAST-MODIFIED:20250503T023556Z
UID:5722-1751112000-1751126400@www.historicmedley.org
SUMMARY:Heritage Days
DESCRIPTION:SSH\, OTH\, and JPH open to the public 12:00 – 4:00
URL:https://www.historicmedley.org/event/heritage-days-14/
END:VEVENT
BEGIN:VEVENT
DTSTART;TZID=America/New_York:20250614T100000
DTEND;TZID=America/New_York:20250614T120000
DTSTAMP:20260423T195359
CREATED:20250330T220909Z
LAST-MODIFIED:20250330T220909Z
UID:5699-1749895200-1749902400@www.historicmedley.org
SUMMARY:Girl Scout Troop 70290
DESCRIPTION:12 4th grade girls
URL:https://www.historicmedley.org/event/girl-scout-troop-70290/
LOCATION:Seneca Schoolhouse
ORGANIZER;CN="Morgan Cobuzzi":MAILTO:mlcobuzzi@gmail.com
END:VEVENT
BEGIN:VEVENT
DTSTART;TZID=America/New_York:20250603T100000
DTEND;TZID=America/New_York:20250603T140000
DTSTAMP:20260423T195359
CREATED:20240823T024632Z
LAST-MODIFIED:20250330T221758Z
UID:5357-1748944800-1748959200@www.historicmedley.org
SUMMARY:Rochambeau\, The French International School
DESCRIPTION:
URL:https://www.historicmedley.org/event/rochambeau-the-french-international-school-5/
LOCATION:Seneca Schoolhouse
ORGANIZER;CN="Leslie Dorit":MAILTO:ldorit@rochambeau.org
END:VEVENT
BEGIN:VEVENT
DTSTART;TZID=America/New_York:20250602T100000
DTEND;TZID=America/New_York:20250602T140000
DTSTAMP:20260423T195359
CREATED:20240823T023505Z
LAST-MODIFIED:20250105T042156Z
UID:5351-1748858400-1748872800@www.historicmedley.org
SUMMARY:Rochambeau\, The French International School
DESCRIPTION:
URL:https://www.historicmedley.org/event/rochambeau-the-french-international-school-2/
LOCATION:Seneca Schoolhouse
ORGANIZER;CN="Leslie Dorit":MAILTO:ldorit@rochambeau.org
END:VEVENT
END:VCALENDAR