BEGIN:VCALENDAR
VERSION:2.0
PRODID:-//Historic Medley District - ECPv6.15.20//NONSGML v1.0//EN
CALSCALE:GREGORIAN
METHOD:PUBLISH
X-WR-CALNAME:Historic Medley District
X-ORIGINAL-URL:https://www.historicmedley.org
X-WR-CALDESC:Events for Historic Medley District
REFRESH-INTERVAL;VALUE=DURATION:PT1H
X-Robots-Tag:noindex
X-PUBLISHED-TTL:PT1H
BEGIN:VTIMEZONE
TZID:America/New_York
BEGIN:DAYLIGHT
TZOFFSETFROM:-0500
TZOFFSETTO:-0400
TZNAME:EDT
DTSTART:20220313T070000
END:DAYLIGHT
BEGIN:STANDARD
TZOFFSETFROM:-0400
TZOFFSETTO:-0500
TZNAME:EST
DTSTART:20221106T060000
END:STANDARD
BEGIN:DAYLIGHT
TZOFFSETFROM:-0500
TZOFFSETTO:-0400
TZNAME:EDT
DTSTART:20230312T070000
END:DAYLIGHT
BEGIN:STANDARD
TZOFFSETFROM:-0400
TZOFFSETTO:-0500
TZNAME:EST
DTSTART:20231105T060000
END:STANDARD
BEGIN:DAYLIGHT
TZOFFSETFROM:-0500
TZOFFSETTO:-0400
TZNAME:EDT
DTSTART:20240310T070000
END:DAYLIGHT
BEGIN:STANDARD
TZOFFSETFROM:-0400
TZOFFSETTO:-0500
TZNAME:EST
DTSTART:20241103T060000
END:STANDARD
BEGIN:DAYLIGHT
TZOFFSETFROM:-0500
TZOFFSETTO:-0400
TZNAME:EDT
DTSTART:20250309T070000
END:DAYLIGHT
BEGIN:STANDARD
TZOFFSETFROM:-0400
TZOFFSETTO:-0500
TZNAME:EST
DTSTART:20251102T060000
END:STANDARD
END:VTIMEZONE
BEGIN:VEVENT
DTSTART;TZID=America/New_York:20240315T100000
DTEND;TZID=America/New_York:20240315T140000
DTSTAMP:20260425T072452
CREATED:20240103T220618Z
LAST-MODIFIED:20240103T220618Z
UID:4485-1710496800-1710511200@www.historicmedley.org
SUMMARY:Capital Co-op/Fort Belvoir Homeschool Group
DESCRIPTION:First time attending
URL:https://www.historicmedley.org/event/capital-co-op-fort-belvoir-homeschool-group/
LOCATION:Seneca Schoolhouse
ORGANIZER;CN="Heidi Fahrner":MAILTO:carpediemcorumdeo@yahoo.com
END:VEVENT
BEGIN:VEVENT
DTSTART;TZID=America/New_York:20240314T093000
DTEND;TZID=America/New_York:20240314T133000
DTSTAMP:20260425T072452
CREATED:20240213T154618Z
LAST-MODIFIED:20240213T154618Z
UID:4564-1710408600-1710423000@www.historicmedley.org
SUMMARY:Monarch Global Academy
DESCRIPTION:1st Grade
URL:https://www.historicmedley.org/event/monarch-global-academy-8/
LOCATION:Seneca Schoolhouse
ORGANIZER;CN="Beth Matthews":MAILTO:matthewsb@monarchacademy.org
END:VEVENT
BEGIN:VEVENT
DTSTART;TZID=America/New_York:20240312T100000
DTEND;TZID=America/New_York:20240312T130000
DTSTAMP:20260425T072452
CREATED:20240213T154509Z
LAST-MODIFIED:20240226T183657Z
UID:4562-1710237600-1710248400@www.historicmedley.org
SUMMARY:Monarch Global Academy
DESCRIPTION:1st grade
URL:https://www.historicmedley.org/event/monarch-global-academy-7/
LOCATION:Seneca Schoolhouse
ORGANIZER;CN="Beth Matthews":MAILTO:matthewsb@monarchacademy.org
END:VEVENT
BEGIN:VEVENT
DTSTART;TZID=America/New_York:20240311T093000
DTEND;TZID=America/New_York:20240311T133000
DTSTAMP:20260425T072452
CREATED:20240108T234601Z
LAST-MODIFIED:20240118T163650Z
UID:4497-1710149400-1710163800@www.historicmedley.org
SUMMARY:Landon School
DESCRIPTION:First time attending \n23 3rd grade boys
URL:https://www.historicmedley.org/event/landon-school/
LOCATION:Seneca Schoolhouse
ORGANIZER;CN="Saima Ahmad":MAILTO:saima_ahmad@landon.net
END:VEVENT
BEGIN:VEVENT
DTSTART;TZID=America/New_York:20240309T133000
DTEND;TZID=America/New_York:20240309T150000
DTSTAMP:20260425T072452
CREATED:20240215T000118Z
LAST-MODIFIED:20240215T000118Z
UID:4598-1709991000-1709996400@www.historicmedley.org
SUMMARY:Geldon Girl Scout Troop
DESCRIPTION:Up to 14 3rd and 4th graders
URL:https://www.historicmedley.org/event/geldon-girl-scout-troop/
LOCATION:Seneca Schoolhouse
ORGANIZER;CN="Heather Geldon":MAILTO:heather.geldon@gmail.com
END:VEVENT
BEGIN:VEVENT
DTSTART;TZID=America/New_York:20240307T100000
DTEND;TZID=America/New_York:20240307T140000
DTSTAMP:20260425T072452
CREATED:20240117T034109Z
LAST-MODIFIED:20240117T034109Z
UID:4518-1709805600-1709820000@www.historicmedley.org
SUMMARY:Classical Conversations - Maugansville
DESCRIPTION:New group to SSH
URL:https://www.historicmedley.org/event/classical-conversations-maugansville/
LOCATION:Seneca Schoolhouse
ORGANIZER;CN="Lisa Valchev":MAILTO:lisa.valchev@icould.com
END:VEVENT
BEGIN:VEVENT
DTSTART;TZID=America/New_York:20240229T100000
DTEND;TZID=America/New_York:20240229T140000
DTSTAMP:20260425T072452
CREATED:20240103T194932Z
LAST-MODIFIED:20240103T194932Z
UID:4479-1709200800-1709215200@www.historicmedley.org
SUMMARY:Coughlin Schoolhouse
DESCRIPTION:Homeschool Group from Timonium\, MD
URL:https://www.historicmedley.org/event/coughlin-schoolhouse-3/
LOCATION:Seneca Schoolhouse
ORGANIZER;CN="Johanna Coughlin":MAILTO:coughlinschoolhouse@gmail.com
END:VEVENT
BEGIN:VEVENT
DTSTART;TZID=America/New_York:20240205T100000
DTEND;TZID=America/New_York:20240205T140000
DTSTAMP:20260425T072452
CREATED:20240103T222131Z
LAST-MODIFIED:20240103T222251Z
UID:4488-1707127200-1707141600@www.historicmedley.org
SUMMARY:Chieftain Christian Academy
DESCRIPTION:Homeschool Group
URL:https://www.historicmedley.org/event/chieftain-christian-academy/
LOCATION:Seneca Schoolhouse
ORGANIZER;CN="Naomi Glenn":MAILTO:naomiglenn@hotmail.com
END:VEVENT
BEGIN:VEVENT
DTSTART;TZID=America/New_York:20240202T080000
DTEND;TZID=America/New_York:20240202T170000
DTSTAMP:20260425T072452
CREATED:20240103T195122Z
LAST-MODIFIED:20240103T195122Z
UID:4481-1706860800-1706893200@www.historicmedley.org
SUMMARY:St. John the Beloved Academy
DESCRIPTION:3rd Grade – 17 Students
URL:https://www.historicmedley.org/event/st-john-the-beloved-academy-3/
LOCATION:Seneca Schoolhouse
END:VEVENT
BEGIN:VEVENT
DTSTART;TZID=America/New_York:20240131T100000
DTEND;TZID=America/New_York:20240131T140000
DTSTAMP:20260425T072452
CREATED:20240103T195244Z
LAST-MODIFIED:20240112T042013Z
UID:4483-1706695200-1706709600@www.historicmedley.org
SUMMARY:St. John the Beloved Academy
DESCRIPTION:3rd Grade – 17 Students
URL:https://www.historicmedley.org/event/st-john-the-beloved-academy-4/
LOCATION:Seneca Schoolhouse
END:VEVENT
BEGIN:VEVENT
DTSTART;TZID=America/New_York:20240129T100000
DTEND;TZID=America/New_York:20240129T140000
DTSTAMP:20260425T072452
CREATED:20240129T134013Z
LAST-MODIFIED:20240129T134013Z
UID:4530-1706522400-1706536800@www.historicmedley.org
SUMMARY:Classical Conversations of Burke\, VA
DESCRIPTION:New Group
URL:https://www.historicmedley.org/event/classical-conversations-of-burke-va-3/
LOCATION:Seneca Schoolhouse
ORGANIZER;CN="Jennifer Yavari":MAILTO:jennifer.yavari@gmail.com
END:VEVENT
BEGIN:VEVENT
DTSTART;TZID=America/New_York:20240126T103000
DTEND;TZID=America/New_York:20240126T143000
DTSTAMP:20260425T072452
CREATED:20240103T192500Z
LAST-MODIFIED:20240103T192500Z
UID:4476-1706265000-1706279400@www.historicmedley.org
SUMMARY:World Explorers Homeschool Co-op
DESCRIPTION:No bonnet punishment
URL:https://www.historicmedley.org/event/world-explorers-homeschool-co-op-2/
LOCATION:Seneca Schoolhouse
ORGANIZER;CN="Cynthia Landesberg":MAILTO:wehcoop.moco@gmail.com
END:VEVENT
BEGIN:VEVENT
DTSTART;TZID=America/New_York:20240118T100000
DTEND;TZID=America/New_York:20240118T140000
DTSTAMP:20260425T072452
CREATED:20240103T191254Z
LAST-MODIFIED:20240103T191254Z
UID:4468-1705572000-1705586400@www.historicmedley.org
SUMMARY:Stoddert Elementary
DESCRIPTION:2nd Grade
URL:https://www.historicmedley.org/event/stoddert-elementary-19/
LOCATION:Seneca Schoolhouse
ORGANIZER;CN="Kelley Lasov":MAILTO:kelley.lasov@dc.gov
END:VEVENT
BEGIN:VEVENT
DTSTART;TZID=America/New_York:20240112T100000
DTEND;TZID=America/New_York:20240112T140000
DTSTAMP:20260425T072452
CREATED:20240103T192139Z
LAST-MODIFIED:20240103T192139Z
UID:4473-1705053600-1705068000@www.historicmedley.org
SUMMARY:PAX Academy
DESCRIPTION:Peaceful Worldschoolers
URL:https://www.historicmedley.org/event/pax-academy/
LOCATION:Seneca Schoolhouse
ORGANIZER;CN="Angela Harders":MAILTO:info@paxacademy.org
END:VEVENT
BEGIN:VEVENT
DTSTART;TZID=America/New_York:20240111T100000
DTEND;TZID=America/New_York:20240111T140000
DTSTAMP:20260425T072452
CREATED:20240103T191057Z
LAST-MODIFIED:20240103T191057Z
UID:4466-1704967200-1704981600@www.historicmedley.org
SUMMARY:Stoddert Elementary
DESCRIPTION:2nd Grade
URL:https://www.historicmedley.org/event/stoddert-elementary-18/
LOCATION:Seneca Schoolhouse
ORGANIZER;CN="Kelley Lasov":MAILTO:kelley.lasov@dc.gov
END:VEVENT
BEGIN:VEVENT
DTSTART;TZID=America/New_York:20240109T100000
DTEND;TZID=America/New_York:20240109T140000
DTSTAMP:20260425T072452
CREATED:20240103T190826Z
LAST-MODIFIED:20240103T190826Z
UID:4464-1704794400-1704808800@www.historicmedley.org
SUMMARY:Stoddert Elementary
DESCRIPTION:2nd Grade
URL:https://www.historicmedley.org/event/stoddert-elementary-17/
LOCATION:Seneca Schoolhouse
ORGANIZER;CN="Kelley Lasov":MAILTO:kelley.lasov@dc.gov
END:VEVENT
BEGIN:VEVENT
DTSTART;TZID=America/New_York:20240108T100000
DTEND;TZID=America/New_York:20240108T140000
DTSTAMP:20260425T072452
CREATED:20240103T190517Z
LAST-MODIFIED:20240103T190517Z
UID:4462-1704708000-1704722400@www.historicmedley.org
SUMMARY:Stoddert Elementary
DESCRIPTION:2nd grade
URL:https://www.historicmedley.org/event/stoddert-elementary-16/
LOCATION:Seneca Schoolhouse
ORGANIZER;CN="Kelley Lasov":MAILTO:kelley.lasov@dc.gov
END:VEVENT
BEGIN:VEVENT
DTSTART;TZID=America/New_York:20240107T150000
DTEND;TZID=America/New_York:20240107T163000
DTSTAMP:20260425T072452
CREATED:20231209T041852Z
LAST-MODIFIED:20231209T041852Z
UID:4454-1704639600-1704645000@www.historicmedley.org
SUMMARY:Procknal Brownie Troop
DESCRIPTION:12 -16 Brownies
URL:https://www.historicmedley.org/event/procknal-brownie-troop/
LOCATION:Seneca Schoolhouse
ORGANIZER;CN="Amy Procknal":MAILTO:amy706@gmail.com
END:VEVENT
BEGIN:VEVENT
DTSTART;TZID=America/New_York:20240106T110000
DTEND;TZID=America/New_York:20240106T130000
DTSTAMP:20260425T072452
CREATED:20240103T191715Z
LAST-MODIFIED:20240103T191715Z
UID:4470-1704538800-1704546000@www.historicmedley.org
SUMMARY:Hall Birthday Party
DESCRIPTION:Ink making \n10 years old \nAttended with her Girl Scout troop
URL:https://www.historicmedley.org/event/hall-birthday-party/
LOCATION:Seneca Schoolhouse
ORGANIZER;CN="Megan Hall":MAILTO:megankhall@gmail.com
END:VEVENT
BEGIN:VEVENT
DTSTART;TZID=America/New_York:20240105T100000
DTEND;TZID=America/New_York:20240105T140000
DTSTAMP:20260425T072452
CREATED:20231209T041625Z
LAST-MODIFIED:20231209T041625Z
UID:4451-1704448800-1704463200@www.historicmedley.org
SUMMARY:Classical Conversations of Bowie
DESCRIPTION:Homeschool Group
URL:https://www.historicmedley.org/event/classical-conversations-of-bowie-2/
LOCATION:Seneca Schoolhouse
ORGANIZER;CN="Rachel Heisig":MAILTO:rachel heisig.com
END:VEVENT
BEGIN:VEVENT
DTSTART;VALUE=DATE:20231223
DTEND;VALUE=DATE:20231224
DTSTAMP:20260425T072452
CREATED:20230827T010454Z
LAST-MODIFIED:20230827T010454Z
UID:4312-1703289600-1703375999@www.historicmedley.org
SUMMARY:Seneca Schoolhouse Closed
DESCRIPTION:
URL:https://www.historicmedley.org/event/seneca-schoolhouse-closed-10/
LOCATION:Seneca Schoolhouse
END:VEVENT
BEGIN:VEVENT
DTSTART;VALUE=DATE:20231222
DTEND;VALUE=DATE:20231223
DTSTAMP:20260425T072452
CREATED:20230827T010357Z
LAST-MODIFIED:20230827T010357Z
UID:4310-1703203200-1703289599@www.historicmedley.org
SUMMARY:Seneca Schoolhouse Closed
DESCRIPTION:
URL:https://www.historicmedley.org/event/seneca-schoolhouse-closed-9/
LOCATION:Seneca Schoolhouse
END:VEVENT
BEGIN:VEVENT
DTSTART;TZID=America/New_York:20231221T100000
DTEND;TZID=America/New_York:20231221T143000
DTSTAMP:20260425T072452
CREATED:20230827T004116Z
LAST-MODIFIED:20230827T004116Z
UID:4299-1703152800-1703169000@www.historicmedley.org
SUMMARY:TORCH Homeschool Group
DESCRIPTION:Ellen’s older children’s Christmas class
URL:https://www.historicmedley.org/event/torch-homeschool-group-11/
LOCATION:Seneca Schoolhouse
ORGANIZER;CN="Ellen Higham":MAILTO:wheelhead1990@gmail.com
END:VEVENT
BEGIN:VEVENT
DTSTART;TZID=America/New_York:20231220T100000
DTEND;TZID=America/New_York:20231220T143000
DTSTAMP:20260425T072452
CREATED:20230729T213026Z
LAST-MODIFIED:20230911T124021Z
UID:4250-1703066400-1703082600@www.historicmedley.org
SUMMARY:Homeschoolers of Annapolis
DESCRIPTION:Christmas Class
URL:https://www.historicmedley.org/event/homeschoolers-of-annapolis/
LOCATION:Seneca Schoolhouse
ORGANIZER;CN="Michelle Harbaugh":MAILTO:michelle.harbaugh@hotmail.com
END:VEVENT
BEGIN:VEVENT
DTSTART;TZID=America/New_York:20231219T093000
DTEND;TZID=America/New_York:20231219T140000
DTSTAMP:20260425T072452
CREATED:20230914T031948Z
LAST-MODIFIED:20230914T031948Z
UID:4372-1702978200-1702994400@www.historicmedley.org
SUMMARY:Avalon School
DESCRIPTION:27 students \nChristmas class
URL:https://www.historicmedley.org/event/avalon-school-2/
LOCATION:Seneca Schoolhouse
END:VEVENT
BEGIN:VEVENT
DTSTART;TZID=America/New_York:20231218T100000
DTEND;TZID=America/New_York:20231218T143000
DTSTAMP:20260425T072452
CREATED:20230820T000455Z
LAST-MODIFIED:20230820T000455Z
UID:4289-1702893600-1702909800@www.historicmedley.org
SUMMARY:TORCH Homeschool Group
DESCRIPTION:Christmas class with Ellen Higham
URL:https://www.historicmedley.org/event/torch-homeschool-group-10/
LOCATION:Seneca Schoolhouse
ORGANIZER;CN="Ellen Higham":MAILTO:wheelhead1990@gmail.com
END:VEVENT
BEGIN:VEVENT
DTSTART;TZID=America/New_York:20231215T100000
DTEND;TZID=America/New_York:20231215T143000
DTSTAMP:20260425T072452
CREATED:20230729T213216Z
LAST-MODIFIED:20230729T213216Z
UID:4252-1702634400-1702650600@www.historicmedley.org
SUMMARY:Classical Conversations of Centreville
DESCRIPTION:Christmas Class
URL:https://www.historicmedley.org/event/classical-conversations-of-centreville/
LOCATION:Seneca Schoolhouse
ORGANIZER;CN="kristan purrington":MAILTO:kristanpurr@gmail.com
END:VEVENT
BEGIN:VEVENT
DTSTART;TZID=America/New_York:20231214T100000
DTEND;TZID=America/New_York:20231214T143000
DTSTAMP:20260425T072452
CREATED:20230827T005235Z
LAST-MODIFIED:20230827T005235Z
UID:4306-1702548000-1702564200@www.historicmedley.org
SUMMARY:Raising Arrows Homeschool Group
DESCRIPTION:Christmas class \nFirst time at SSH \nWhite Marsh/Baltimore County area
URL:https://www.historicmedley.org/event/raising-arrows-homeschool-group/
LOCATION:Seneca Schoolhouse
END:VEVENT
BEGIN:VEVENT
DTSTART;TZID=America/New_York:20231213T100000
DTEND;TZID=America/New_York:20231213T143000
DTSTAMP:20260425T072452
CREATED:20230819T151126Z
LAST-MODIFIED:20230819T151126Z
UID:4270-1702461600-1702477800@www.historicmedley.org
SUMMARY:Classical Conversations of Damascus
DESCRIPTION:Christmas Class
URL:https://www.historicmedley.org/event/classical-conversations-of-damascus-2/
LOCATION:Seneca Schoolhouse
ORGANIZER;CN="Devon Watkins":MAILTO:devwatkins@yahoo.com
END:VEVENT
BEGIN:VEVENT
DTSTART;TZID=America/New_York:20231212T100000
DTEND;TZID=America/New_York:20231212T143000
DTSTAMP:20260425T072452
CREATED:20230827T004912Z
LAST-MODIFIED:20230827T004912Z
UID:4303-1702375200-1702391400@www.historicmedley.org
SUMMARY:Schola Familia Homeschool Cooperative
DESCRIPTION:Christmas class \nAlso attended Christmas class last year as Hyattsville Homeschool Academy
URL:https://www.historicmedley.org/event/schola-familia-homeschool-cooperative/
LOCATION:Seneca Schoolhouse
ORGANIZER;CN="Susan Mathis":MAILTO:jsmathis@comcast.net
END:VEVENT
END:VCALENDAR