BEGIN:VCALENDAR
VERSION:2.0
PRODID:-//Historic Medley District - ECPv6.15.20//NONSGML v1.0//EN
CALSCALE:GREGORIAN
METHOD:PUBLISH
X-WR-CALNAME:Historic Medley District
X-ORIGINAL-URL:https://www.historicmedley.org
X-WR-CALDESC:Events for Historic Medley District
REFRESH-INTERVAL;VALUE=DURATION:PT1H
X-Robots-Tag:noindex
X-PUBLISHED-TTL:PT1H
BEGIN:VTIMEZONE
TZID:America/New_York
BEGIN:DAYLIGHT
TZOFFSETFROM:-0500
TZOFFSETTO:-0400
TZNAME:EDT
DTSTART:20220313T070000
END:DAYLIGHT
BEGIN:STANDARD
TZOFFSETFROM:-0400
TZOFFSETTO:-0500
TZNAME:EST
DTSTART:20221106T060000
END:STANDARD
BEGIN:DAYLIGHT
TZOFFSETFROM:-0500
TZOFFSETTO:-0400
TZNAME:EDT
DTSTART:20230312T070000
END:DAYLIGHT
BEGIN:STANDARD
TZOFFSETFROM:-0400
TZOFFSETTO:-0500
TZNAME:EST
DTSTART:20231105T060000
END:STANDARD
BEGIN:DAYLIGHT
TZOFFSETFROM:-0500
TZOFFSETTO:-0400
TZNAME:EDT
DTSTART:20240310T070000
END:DAYLIGHT
BEGIN:STANDARD
TZOFFSETFROM:-0400
TZOFFSETTO:-0500
TZNAME:EST
DTSTART:20241103T060000
END:STANDARD
END:VTIMEZONE
BEGIN:VEVENT
DTSTART;TZID=America/New_York:20231122T080000
DTEND;TZID=America/New_York:20231122T170000
DTSTAMP:20260425T064627
CREATED:20230914T032316Z
LAST-MODIFIED:20230914T032316Z
UID:4374-1700640000-1700672400@www.historicmedley.org
SUMMARY:Closed for Thanksgiving holidays
DESCRIPTION:
URL:https://www.historicmedley.org/event/closed-for-thanksgiving-holidays-3/
END:VEVENT
BEGIN:VEVENT
DTSTART;TZID=America/New_York:20231122T080000
DTEND;TZID=America/New_York:20231122T170000
DTSTAMP:20260425T064627
CREATED:20230911T125531Z
LAST-MODIFIED:20230911T125531Z
UID:4366-1700640000-1700672400@www.historicmedley.org
SUMMARY:Closed for Thanksgiving holidays
DESCRIPTION:
URL:https://www.historicmedley.org/event/closed-for-thanksgiving-holidays-2/
END:VEVENT
BEGIN:VEVENT
DTSTART;TZID=America/New_York:20231121T080000
DTEND;TZID=America/New_York:20231121T170000
DTSTAMP:20260425T064627
CREATED:20230911T123435Z
LAST-MODIFIED:20230911T123435Z
UID:4363-1700553600-1700586000@www.historicmedley.org
SUMMARY:Closed for Thanksgiving holidays
DESCRIPTION:
URL:https://www.historicmedley.org/event/closed-for-thanksgiving-holidays/
LOCATION:Seneca Schoolhouse
END:VEVENT
BEGIN:VEVENT
DTSTART;TZID=America/New_York:20231120T100000
DTEND;TZID=America/New_York:20231120T143000
DTSTAMP:20260425T064627
CREATED:20230911T035025Z
LAST-MODIFIED:20230925T145822Z
UID:4356-1700474400-1700490600@www.historicmedley.org
SUMMARY:Classical Conversations of Leesburg
DESCRIPTION:Thanksgiving Class
URL:https://www.historicmedley.org/event/classical-conversations-7/
LOCATION:Seneca Schoolhouse
ORGANIZER;CN="Heidi Amita":MAILTO:hveale@gmail.com
END:VEVENT
BEGIN:VEVENT
DTSTART;TZID=America/New_York:20231117T100000
DTEND;TZID=America/New_York:20231117T143000
DTSTAMP:20260425T064627
CREATED:20230729T212050Z
LAST-MODIFIED:20230729T212050Z
UID:4246-1700215200-1700231400@www.historicmedley.org
SUMMARY:Classical Conversations of South Frederick
DESCRIPTION:Thanksgiving class
URL:https://www.historicmedley.org/event/classical-conversations-of-south-frederick/
LOCATION:Seneca Schoolhouse
ORGANIZER;CN="Dianna Cardarella":MAILTO:gatorpt99@yahoo.com
END:VEVENT
BEGIN:VEVENT
DTSTART;TZID=America/New_York:20231116T100000
DTEND;TZID=America/New_York:20231116T143000
DTSTAMP:20260425T064627
CREATED:20230819T152226Z
LAST-MODIFIED:20230819T152226Z
UID:4281-1700128800-1700145000@www.historicmedley.org
SUMMARY:The Orchard Classical Co-op
DESCRIPTION:Thanksgiving Class
URL:https://www.historicmedley.org/event/the-orchard-classical-co-op-2/
LOCATION:Seneca Schoolhouse
ORGANIZER;CN="Rebecca Gallop":MAILTO:adailysomething@gmail.com
END:VEVENT
BEGIN:VEVENT
DTSTART;TZID=America/New_York:20231115T100000
DTEND;TZID=America/New_York:20231115T143000
DTSTAMP:20260425T064627
CREATED:20230819T152108Z
LAST-MODIFIED:20230819T152108Z
UID:4278-1700042400-1700058600@www.historicmedley.org
SUMMARY:The Orchard Classical Co-op
DESCRIPTION:Thanksgiving class
URL:https://www.historicmedley.org/event/the-orchard-classical-co-op/
LOCATION:Seneca Schoolhouse
ORGANIZER;CN="Rebecca Gallop":MAILTO:adailysomething@gmail.com
END:VEVENT
BEGIN:VEVENT
DTSTART;TZID=America/New_York:20231114T100000
DTEND;TZID=America/New_York:20231114T140000
DTSTAMP:20260425T064627
CREATED:20230819T230428Z
LAST-MODIFIED:20230819T230428Z
UID:4283-1699956000-1699970400@www.historicmedley.org
SUMMARY:Classical Conversations of Burke\, VA
DESCRIPTION:Other half of group attending on November 6
URL:https://www.historicmedley.org/event/classical-conversations-of-burke-va-2/
LOCATION:Seneca Schoolhouse
ORGANIZER;CN="Jennifer Yavari":MAILTO:jennifer.yavari@gmail.com
END:VEVENT
BEGIN:VEVENT
DTSTART;TZID=America/New_York:20231113T100000
DTEND;TZID=America/New_York:20231113T143000
DTSTAMP:20260425T064627
CREATED:20230819T235823Z
LAST-MODIFIED:20230819T235823Z
UID:4287-1699869600-1699885800@www.historicmedley.org
SUMMARY:TORCH Homeschool Grop
DESCRIPTION:Thanksgiving class with Ellen Higham
URL:https://www.historicmedley.org/event/torch-homeschool-grop/
LOCATION:Seneca Schoolhouse
ORGANIZER;CN="Ellen Higham":MAILTO:wheelhead1990@gmail.com
END:VEVENT
BEGIN:VEVENT
DTSTART;TZID=America/New_York:20231110T100000
DTEND;TZID=America/New_York:20231110T143000
DTSTAMP:20260425T064627
CREATED:20230729T174552Z
LAST-MODIFIED:20230729T174552Z
UID:4234-1699610400-1699626600@www.historicmedley.org
SUMMARY:Wild and Free Homeschool Group
DESCRIPTION:Thanksgiving Class \nLoudon County
URL:https://www.historicmedley.org/event/wild-and-free-homeschool-group/
LOCATION:Seneca Schoolhouse
ORGANIZER;CN="Amber Fawcett":MAILTO:amber.l.fawcett@gmail.com
END:VEVENT
BEGIN:VEVENT
DTSTART;TZID=America/New_York:20231109T100000
DTEND;TZID=America/New_York:20231109T140000
DTSTAMP:20260425T064627
CREATED:20230901T194423Z
LAST-MODIFIED:20230901T194423Z
UID:4348-1699524000-1699538400@www.historicmedley.org
SUMMARY:Beverly Farms
DESCRIPTION:4th grade
URL:https://www.historicmedley.org/event/beverly-farms-6/
LOCATION:Seneca Schoolhouse
ORGANIZER;CN="Kate Allen":MAILTO:Mary_k_Allen@mcpsmd.org
END:VEVENT
BEGIN:VEVENT
DTSTART;TZID=America/New_York:20231108T100000
DTEND;TZID=America/New_York:20231108T140000
DTSTAMP:20260425T064627
CREATED:20230901T194310Z
LAST-MODIFIED:20230901T194310Z
UID:4346-1699437600-1699452000@www.historicmedley.org
SUMMARY:Beverly Farms
DESCRIPTION:4th grade
URL:https://www.historicmedley.org/event/beverly-farms-5/
LOCATION:Seneca Schoolhouse
ORGANIZER;CN="Kate Allen":MAILTO:Mary_k_Allen@mcpsmd.org
END:VEVENT
BEGIN:VEVENT
DTSTART;TZID=America/New_York:20231107T100000
DTEND;TZID=America/New_York:20231107T140000
DTSTAMP:20260425T064627
CREATED:20230729T173948Z
LAST-MODIFIED:20230729T173948Z
UID:4232-1699351200-1699365600@www.historicmedley.org
SUMMARY:Coughlin Schoolhouse
DESCRIPTION:Traditional class
URL:https://www.historicmedley.org/event/coughlin-schoolhouse-2/
LOCATION:Seneca Schoolhouse
ORGANIZER;CN="Johanna Coughlin":MAILTO:coughlinschoolhouse@gmail.com
END:VEVENT
BEGIN:VEVENT
DTSTART;TZID=America/New_York:20231106T100000
DTEND;TZID=America/New_York:20231106T140000
DTSTAMP:20260425T064627
CREATED:20230801T223048Z
LAST-MODIFIED:20230801T223048Z
UID:4258-1699264800-1699279200@www.historicmedley.org
SUMMARY:Classical Conversations of Burke\, VA
DESCRIPTION:New to SSH
URL:https://www.historicmedley.org/event/classical-conversations-of-burke-va/
LOCATION:Seneca Schoolhouse
ORGANIZER;CN="Katie Malandrino":MAILTO:katie.malandrino@gmail.com
END:VEVENT
BEGIN:VEVENT
DTSTART;TZID=America/New_York:20231103T100000
DTEND;TZID=America/New_York:20231103T143000
DTSTAMP:20260425T064627
CREATED:20230326T153412Z
LAST-MODIFIED:20231005T024800Z
UID:4053-1699005600-1699021800@www.historicmedley.org
SUMMARY:Jennifer Solomon Homeschool Group
DESCRIPTION:Thanksgiving Class
URL:https://www.historicmedley.org/event/rivendell-homeschool-group/
LOCATION:Seneca Schoolhouse
ORGANIZER;CN="Jennifer Solomon":MAILTO:jennifer.solomon@gmail.com
END:VEVENT
BEGIN:VEVENT
DTSTART;TZID=America/New_York:20231102T100000
DTEND;TZID=America/New_York:20231102T140000
DTSTAMP:20260425T064627
CREATED:20230830T153906Z
LAST-MODIFIED:20230830T153906Z
UID:4322-1698919200-1698933600@www.historicmedley.org
SUMMARY:Concord Hill
DESCRIPTION:3rd grade
URL:https://www.historicmedley.org/event/concord-hill-3/
LOCATION:Seneca Schoolhouse
ORGANIZER;CN="Colleen Massaquoi":MAILTO:cmassaquoi@concordhill.org
END:VEVENT
BEGIN:VEVENT
DTSTART;TZID=America/New_York:20231101T100000
DTEND;TZID=America/New_York:20231101T143000
DTSTAMP:20260425T064627
CREATED:20230819T151548Z
LAST-MODIFIED:20230819T151548Z
UID:4273-1698832800-1698849000@www.historicmedley.org
SUMMARY:Hagerstown Area Homeschoolers
DESCRIPTION:Thanksgiving Class
URL:https://www.historicmedley.org/event/hagerstown-area-homeschoolers-2/
LOCATION:Seneca Schoolhouse
ORGANIZER;CN="Jessica Lantz":MAILTO:jesslantz0@gmail.com
END:VEVENT
BEGIN:VEVENT
DTSTART;TZID=America/New_York:20231031T100000
DTEND;TZID=America/New_York:20231031T140000
DTSTAMP:20260425T064627
CREATED:20230916T002810Z
LAST-MODIFIED:20230916T003017Z
UID:4382-1698746400-1698760800@www.historicmedley.org
SUMMARY:Grace Christian School
DESCRIPTION:3rd grade
URL:https://www.historicmedley.org/event/melody-dillon/
LOCATION:Seneca Schoolhouse
ORGANIZER;CN="Melody Dillon":MAILTO:mmdillon@gcsbowie.org
END:VEVENT
BEGIN:VEVENT
DTSTART;TZID=America/New_York:20231030T100000
DTEND;TZID=America/New_York:20231030T140000
DTSTAMP:20260425T064627
CREATED:20230901T150737Z
LAST-MODIFIED:20230901T150737Z
UID:4343-1698660000-1698674400@www.historicmedley.org
SUMMARY:Poolesville Elementary
DESCRIPTION:4th grade
URL:https://www.historicmedley.org/event/poolesville-elementary-11/
LOCATION:Seneca Schoolhouse
END:VEVENT
BEGIN:VEVENT
DTSTART;TZID=America/New_York:20231027T100000
DTEND;TZID=America/New_York:20231027T140000
DTSTAMP:20260425T064627
CREATED:20230729T172540Z
LAST-MODIFIED:20230729T172540Z
UID:4227-1698400800-1698415200@www.historicmedley.org
SUMMARY:St. Andrew's Episcopal School
DESCRIPTION:4th grade
URL:https://www.historicmedley.org/event/st-andrews-episcopal-school-5/
LOCATION:Seneca Schoolhouse
ORGANIZER;CN="Megan Rogge":MAILTO:mrogge@saes.org
END:VEVENT
BEGIN:VEVENT
DTSTART;TZID=America/New_York:20231026T100000
DTEND;TZID=America/New_York:20231026T140000
DTSTAMP:20260425T064627
CREATED:20230729T172335Z
LAST-MODIFIED:20230729T172335Z
UID:4225-1698314400-1698328800@www.historicmedley.org
SUMMARY:St. Andrew's Episcopal
DESCRIPTION:4th grade
URL:https://www.historicmedley.org/event/st-andrews-episcopal-3/
LOCATION:Seneca Schoolhouse
ORGANIZER;CN="Megan Rogge":MAILTO:mrogge@saes.org
END:VEVENT
BEGIN:VEVENT
DTSTART;TZID=America/New_York:20231025T100000
DTEND;TZID=America/New_York:20231025T140000
DTSTAMP:20260425T064627
CREATED:20230926T125418Z
LAST-MODIFIED:20230926T125418Z
UID:4393-1698228000-1698242400@www.historicmedley.org
SUMMARY:MD-Area CM Homeschoolers
DESCRIPTION:Attended last year
URL:https://www.historicmedley.org/event/md-area-cm-homeschoolers/
LOCATION:Seneca Schoolhouse
ORGANIZER;CN="Karolina Dembinska-Lemus":MAILTO:Anilorak13ska@hotmail.com
END:VEVENT
BEGIN:VEVENT
DTSTART;TZID=America/New_York:20231024T100000
DTEND;TZID=America/New_York:20231024T140000
DTSTAMP:20260425T064627
CREATED:20230830T155635Z
LAST-MODIFIED:20230830T155635Z
UID:4327-1698141600-1698156000@www.historicmedley.org
SUMMARY:Classical Conversations of Annapolis
DESCRIPTION:Elementary through middle school ages
URL:https://www.historicmedley.org/event/classical-conversations-of-annapolis/
LOCATION:Seneca Schoolhouse
ORGANIZER;CN="Ashley Waugh":MAILTO:apw1229@gmail.com
END:VEVENT
BEGIN:VEVENT
DTSTART;TZID=America/New_York:20231023T100000
DTEND;TZID=America/New_York:20231023T140000
DTSTAMP:20260425T064627
CREATED:20230819T151820Z
LAST-MODIFIED:20230819T151820Z
UID:4275-1698055200-1698069600@www.historicmedley.org
SUMMARY:Classical Conversations of Bethesda
DESCRIPTION:Anna teaching her homeschool group
URL:https://www.historicmedley.org/event/classical-conversations-of-bethesda/
LOCATION:Seneca Schoolhouse
ORGANIZER;CN="Erin Frerichs":MAILTO:erinfrerichs@gmailcom
END:VEVENT
BEGIN:VEVENT
DTSTART;TZID=America/New_York:20231022T150000
DTEND;TZID=America/New_York:20231022T163000
DTSTAMP:20260425T064627
CREATED:20230924T135401Z
LAST-MODIFIED:20230924T135401Z
UID:4387-1697986800-1697992200@www.historicmedley.org
SUMMARY:Girl Scouts
DESCRIPTION:4th grade
URL:https://www.historicmedley.org/event/girl-scouts-2/
LOCATION:Seneca Schoolhouse
ORGANIZER;CN="Maria Crawford":MAILTO:maria.s.crawford@gmail.com
END:VEVENT
BEGIN:VEVENT
DTSTART;TZID=America/New_York:20231020T100000
DTEND;TZID=America/New_York:20231020T140000
DTSTAMP:20260425T064627
CREATED:20230729T172052Z
LAST-MODIFIED:20230830T144422Z
UID:4223-1697796000-1697810400@www.historicmedley.org
SUMMARY:Fort Belvoir Homeschool Group
DESCRIPTION:Was going to come in June and rescheduled
URL:https://www.historicmedley.org/event/fort-belvoir-homeschool-group-2/
LOCATION:Seneca Schoolhouse
ORGANIZER;CN="Caroline Chamberlin":MAILTO:caroline.chamberlin@gmail.com
END:VEVENT
BEGIN:VEVENT
DTSTART;TZID=America/New_York:20231019T100000
DTEND;TZID=America/New_York:20231019T140000
DTSTAMP:20260425T064627
CREATED:20230830T153623Z
LAST-MODIFIED:20230830T154927Z
UID:4319-1697709600-1697724000@www.historicmedley.org
SUMMARY:German International School
DESCRIPTION:3rd grade
URL:https://www.historicmedley.org/event/german-international-schol/
LOCATION:Seneca Schoolhouse
ORGANIZER;CN="Marlen Ascencio":MAILTO:mascencio@giswashington.org
END:VEVENT
BEGIN:VEVENT
DTSTART;TZID=America/New_York:20231018T100000
DTEND;TZID=America/New_York:20231018T140000
DTSTAMP:20260425T064627
CREATED:20230830T153422Z
LAST-MODIFIED:20230830T153422Z
UID:4316-1697623200-1697637600@www.historicmedley.org
SUMMARY:German International School
DESCRIPTION:3rd grade
URL:https://www.historicmedley.org/event/german-international-school-6/
LOCATION:Seneca Schoolhouse
ORGANIZER;CN="mascencio@giswashington.org":MAILTO:mascencio@giswashington.org
END:VEVENT
BEGIN:VEVENT
DTSTART;TZID=America/New_York:20231017T100000
DTEND;TZID=America/New_York:20231017T140000
DTSTAMP:20260425T064627
CREATED:20230916T002658Z
LAST-MODIFIED:20230916T002658Z
UID:4380-1697536800-1697551200@www.historicmedley.org
SUMMARY:Grace Christian School
DESCRIPTION:3rd grade
URL:https://www.historicmedley.org/event/grace-christian-school-13/
LOCATION:Seneca Schoolhouse
END:VEVENT
BEGIN:VEVENT
DTSTART;TZID=America/New_York:20231012T100000
DTEND;TZID=America/New_York:20231012T140000
DTSTAMP:20260425T064627
CREATED:20230901T150521Z
LAST-MODIFIED:20230901T150521Z
UID:4341-1697104800-1697119200@www.historicmedley.org
SUMMARY:Poolesville Elementary
DESCRIPTION:4th grade
URL:https://www.historicmedley.org/event/poolesville-elementary-10/
LOCATION:Seneca Schoolhouse
ORGANIZER;CN="Kelli Fox":MAILTO:Kelli_S_Fox@mcpsmd.org
END:VEVENT
END:VCALENDAR