BEGIN:VCALENDAR
VERSION:2.0
PRODID:-//Historic Medley District - ECPv6.15.20//NONSGML v1.0//EN
CALSCALE:GREGORIAN
METHOD:PUBLISH
X-WR-CALNAME:Historic Medley District
X-ORIGINAL-URL:https://www.historicmedley.org
X-WR-CALDESC:Events for Historic Medley District
REFRESH-INTERVAL;VALUE=DURATION:PT1H
X-Robots-Tag:noindex
X-PUBLISHED-TTL:PT1H
BEGIN:VTIMEZONE
TZID:America/New_York
BEGIN:DAYLIGHT
TZOFFSETFROM:-0500
TZOFFSETTO:-0400
TZNAME:EDT
DTSTART:20210314T070000
END:DAYLIGHT
BEGIN:STANDARD
TZOFFSETFROM:-0400
TZOFFSETTO:-0500
TZNAME:EST
DTSTART:20211107T060000
END:STANDARD
BEGIN:DAYLIGHT
TZOFFSETFROM:-0500
TZOFFSETTO:-0400
TZNAME:EDT
DTSTART:20220313T070000
END:DAYLIGHT
BEGIN:STANDARD
TZOFFSETFROM:-0400
TZOFFSETTO:-0500
TZNAME:EST
DTSTART:20221106T060000
END:STANDARD
BEGIN:DAYLIGHT
TZOFFSETFROM:-0500
TZOFFSETTO:-0400
TZNAME:EDT
DTSTART:20230312T070000
END:DAYLIGHT
BEGIN:STANDARD
TZOFFSETFROM:-0400
TZOFFSETTO:-0500
TZNAME:EST
DTSTART:20231105T060000
END:STANDARD
END:VTIMEZONE
BEGIN:VEVENT
DTSTART;TZID=America/New_York:20221123T080000
DTEND;TZID=America/New_York:20221123T170000
DTSTAMP:20260425T232604
CREATED:20220831T034602Z
LAST-MODIFIED:20220831T034602Z
UID:3528-1669190400-1669222800@www.historicmedley.org
SUMMARY:Seneca Schoolhouse Closed
DESCRIPTION:
URL:https://www.historicmedley.org/event/seneca-schoolhouse-closed-3/
END:VEVENT
BEGIN:VEVENT
DTSTART;TZID=America/New_York:20221122T080000
DTEND;TZID=America/New_York:20221122T170000
DTSTAMP:20260425T232604
CREATED:20221002T190940Z
LAST-MODIFIED:20221002T190940Z
UID:3612-1669104000-1669136400@www.historicmedley.org
SUMMARY:Seneca Schoolhouse Closed
DESCRIPTION:
URL:https://www.historicmedley.org/event/seneca-schoolhouse-closed-4/
LOCATION:Seneca Schoolhouse
END:VEVENT
BEGIN:VEVENT
DTSTART;TZID=America/New_York:20221121T100000
DTEND;TZID=America/New_York:20221121T143000
DTSTAMP:20260425T232604
CREATED:20220815T024454Z
LAST-MODIFIED:20220815T024454Z
UID:3390-1669024800-1669041000@www.historicmedley.org
SUMMARY:The Inkling Homeschool Group
DESCRIPTION:Thanksgiving Class
URL:https://www.historicmedley.org/event/the-inkling-homeschool-group/
LOCATION:Seneca Schoolhouse
ORGANIZER;CN="Stephanie Gilbert":MAILTO:sgilbert80@yahoo.com
END:VEVENT
BEGIN:VEVENT
DTSTART;TZID=America/New_York:20221118T100000
DTEND;TZID=America/New_York:20221118T143000
DTSTAMP:20260425T232604
CREATED:20220831T032610Z
LAST-MODIFIED:20220831T032610Z
UID:3505-1668765600-1668781800@www.historicmedley.org
SUMMARY:Open Air Electives
DESCRIPTION:Thanksgiving Class
URL:https://www.historicmedley.org/event/open-air-electives-3/
LOCATION:Seneca Schoolhouse
ORGANIZER;CN="Elisabeth Gardiner":MAILTO:egohlke@gmail.com
END:VEVENT
BEGIN:VEVENT
DTSTART;TZID=America/New_York:20221117T100000
DTEND;TZID=America/New_York:20221117T140000
DTSTAMP:20260425T232604
CREATED:20220919T004941Z
LAST-MODIFIED:20220919T004941Z
UID:3591-1668679200-1668693600@www.historicmedley.org
SUMMARY:Classical Conversations of Rockville
DESCRIPTION:Traditional class
URL:https://www.historicmedley.org/event/classical-conversations-of-rockville/
LOCATION:Seneca Schoolhouse
ORGANIZER;CN="Patricia Malone":MAILTO:andy_tricia@hotmail.com
END:VEVENT
BEGIN:VEVENT
DTSTART;TZID=America/New_York:20221116T100000
DTEND;TZID=America/New_York:20221116T143000
DTSTAMP:20260425T232604
CREATED:20220901T011712Z
LAST-MODIFIED:20220901T011712Z
UID:3551-1668592800-1668609000@www.historicmedley.org
SUMMARY:Andrea Reeves Homeschool Group
DESCRIPTION:Thanksgiving class
URL:https://www.historicmedley.org/event/andrea-reeves-homeschool-group/
LOCATION:Seneca Schoolhouse
ORGANIZER;CN="Andrea Reeves":MAILTO:andreareeves@gmail.com
END:VEVENT
BEGIN:VEVENT
DTSTART;TZID=America/New_York:20221115T100000
DTEND;TZID=America/New_York:20221115T140000
DTSTAMP:20260425T232604
CREATED:20220831T032813Z
LAST-MODIFIED:20220831T032813Z
UID:3507-1668506400-1668520800@www.historicmedley.org
SUMMARY:Concord Hill
DESCRIPTION:3rd grade
URL:https://www.historicmedley.org/event/concord-hill-2/
LOCATION:Seneca Schoolhouse
ORGANIZER;CN="Wendy Glasser":MAILTO:wglasser@concordhill.org
END:VEVENT
BEGIN:VEVENT
DTSTART;TZID=America/New_York:20221114T100000
DTEND;TZID=America/New_York:20221114T140000
DTSTAMP:20260425T232604
CREATED:20221006T000107Z
LAST-MODIFIED:20221006T000107Z
UID:3619-1668420000-1668434400@www.historicmedley.org
SUMMARY:St. Martin's
DESCRIPTION:20 4th graders
URL:https://www.historicmedley.org/event/st-martins-6/
LOCATION:Seneca Schoolhouse
ORGANIZER;CN="Sherry Meadows":MAILTO:smeadows@smsmd.org
END:VEVENT
BEGIN:VEVENT
DTSTART;TZID=America/New_York:20221111T100000
DTEND;TZID=America/New_York:20221111T143000
DTSTAMP:20260425T232604
CREATED:20220831T032432Z
LAST-MODIFIED:20220831T032432Z
UID:3503-1668160800-1668177000@www.historicmedley.org
SUMMARY:Open Air Electives
DESCRIPTION:Thanksgiving Class
URL:https://www.historicmedley.org/event/open-air-electives-2/
LOCATION:Seneca Schoolhouse
ORGANIZER;CN="Elisabeth Gardiner":MAILTO:egohlke@gmail.com
END:VEVENT
BEGIN:VEVENT
DTSTART;TZID=America/New_York:20221110T100000
DTEND;TZID=America/New_York:20221110T140000
DTSTAMP:20260425T232604
CREATED:20220831T032106Z
LAST-MODIFIED:20220831T032106Z
UID:3499-1668074400-1668088800@www.historicmedley.org
SUMMARY:Chava Allgood's Homeschool Group
DESCRIPTION:28 students of varying ages
URL:https://www.historicmedley.org/event/chava-allgoods-homeschool-group/
LOCATION:Seneca Schoolhouse
ORGANIZER;CN="Chava Allgood":MAILTO:chava.allgood@gmail.com
END:VEVENT
BEGIN:VEVENT
DTSTART;TZID=America/New_York:20221109T100000
DTEND;TZID=America/New_York:20221109T140000
DTSTAMP:20260425T232604
CREATED:20220919T002421Z
LAST-MODIFIED:20220919T002421Z
UID:3587-1667988000-1668002400@www.historicmedley.org
SUMMARY:St. Andrew's Episcopal School
DESCRIPTION:17 4th grade students
URL:https://www.historicmedley.org/event/st-andrews-episcopal-school-4/
LOCATION:Seneca Schoolhouse
ORGANIZER;CN="Megan Rogge":MAILTO:mrogge@saes.org
END:VEVENT
BEGIN:VEVENT
DTSTART;TZID=America/New_York:20221107T100000
DTEND;TZID=America/New_York:20221107T140000
DTSTAMP:20260425T232604
CREATED:20220831T031739Z
LAST-MODIFIED:20220831T031739Z
UID:3496-1667815200-1667829600@www.historicmedley.org
SUMMARY:Covenant Christian Co-op
DESCRIPTION:20 students \n1-8 grade
URL:https://www.historicmedley.org/event/covenant-christian-co-op/
LOCATION:Seneca Schoolhouse
ORGANIZER;CN="Melynda Wortendyke":MAILTO:mwortend@yahoo.com
END:VEVENT
BEGIN:VEVENT
DTSTART;TZID=America/New_York:20221104T100000
DTEND;TZID=America/New_York:20221104T140000
DTSTAMP:20260425T232604
CREATED:20220815T025030Z
LAST-MODIFIED:20220815T025030Z
UID:3396-1667556000-1667570400@www.historicmedley.org
SUMMARY:Classical Conversations of Southern Frederick
DESCRIPTION:Traditional Class
URL:https://www.historicmedley.org/event/classical-conversations-of-southern-frederick/
LOCATION:Seneca Schoolhouse
ORGANIZER;CN="Dianna Cardarella":MAILTO:gatorpt99@yahoo.com
END:VEVENT
BEGIN:VEVENT
DTSTART;TZID=America/New_York:20221102T100000
DTEND;TZID=America/New_York:20221102T143000
DTSTAMP:20260425T232604
CREATED:20220831T031030Z
LAST-MODIFIED:20220831T031030Z
UID:3494-1667383200-1667399400@www.historicmedley.org
SUMMARY:Coughlin Schoolhouse
DESCRIPTION:Thanksgiving Class
URL:https://www.historicmedley.org/event/coughlin-schoolhouse/
LOCATION:Seneca Schoolhouse
ORGANIZER;CN="Johanna Coughlin":MAILTO:coughlinschoolhouse@gmail.com
END:VEVENT
BEGIN:VEVENT
DTSTART;TZID=America/New_York:20221101T100000
DTEND;TZID=America/New_York:20221101T140000
DTSTAMP:20260425T232604
CREATED:20221019T193934Z
LAST-MODIFIED:20221019T193934Z
UID:3679-1667296800-1667311200@www.historicmedley.org
SUMMARY:Feynman School
DESCRIPTION:13 4th and 5th graders \n1st time visit
URL:https://www.historicmedley.org/event/feynman-school/
LOCATION:Seneca Schoolhouse
ORGANIZER;CN="Kai Brinson":MAILTO:kbrinson@feynmanschool.org
END:VEVENT
BEGIN:VEVENT
DTSTART;TZID=America/New_York:20221028T100000
DTEND;TZID=America/New_York:20221028T140000
DTSTAMP:20260425T232604
CREATED:20220815T024822Z
LAST-MODIFIED:20220815T024822Z
UID:3393-1666951200-1666965600@www.historicmedley.org
SUMMARY:Jennifer Solomon Homeschool Group
DESCRIPTION:No. Baltimore/So. PA
URL:https://www.historicmedley.org/event/jennifer-solomon-homeschool-group/
LOCATION:Seneca Schoolhouse
ORGANIZER;CN="Jennifer Solomon":MAILTO:jennifer.solomon@gmail.com
END:VEVENT
BEGIN:VEVENT
DTSTART;TZID=America/New_York:20221026T100000
DTEND;TZID=America/New_York:20221026T140000
DTSTAMP:20260425T232604
CREATED:20220919T002249Z
LAST-MODIFIED:20220919T002249Z
UID:3585-1666778400-1666792800@www.historicmedley.org
SUMMARY:St. Andrew's Episcopal School
DESCRIPTION:17 4th graders
URL:https://www.historicmedley.org/event/st-andrews-episcopal-school-3/
LOCATION:Seneca Schoolhouse
ORGANIZER;CN="Megan Rogge":MAILTO:mrogge@saes.org
END:VEVENT
BEGIN:VEVENT
DTSTART;TZID=America/New_York:20221024T100000
DTEND;TZID=America/New_York:20221024T140000
DTSTAMP:20260425T232604
CREATED:20221002T185029Z
LAST-MODIFIED:20221002T185029Z
UID:3609-1666605600-1666620000@www.historicmedley.org
SUMMARY:Autumn Metzger's Darnestown Group
DESCRIPTION:MoCo students organized by a parent. 2nd – 7th graders \n 
URL:https://www.historicmedley.org/event/autumn-metzgers-darnestown-group/
LOCATION:Seneca Schoolhouse
ORGANIZER;CN="Autumn Metzger":MAILTO:metzger.autumn@gmail.com
END:VEVENT
BEGIN:VEVENT
DTSTART;TZID=America/New_York:20221021T100000
DTEND;TZID=America/New_York:20221021T143000
DTSTAMP:20260425T232604
CREATED:20220901T012622Z
LAST-MODIFIED:20220901T012622Z
UID:3554-1666346400-1666362600@www.historicmedley.org
SUMMARY:St. Joseph's School
DESCRIPTION:Martinsburg\, WV
URL:https://www.historicmedley.org/event/st-josephs-school-2/
LOCATION:Seneca Schoolhouse
ORGANIZER;CN="Vanessa Smith":MAILTO:vsmith@sjswv.org
END:VEVENT
BEGIN:VEVENT
DTSTART;TZID=America/New_York:20221014T100000
DTEND;TZID=America/New_York:20221014T140000
DTSTAMP:20260425T232604
CREATED:20220831T030532Z
LAST-MODIFIED:20220831T030532Z
UID:3491-1665741600-1665756000@www.historicmedley.org
SUMMARY:STAT
DESCRIPTION:25 – 28 students
URL:https://www.historicmedley.org/event/stat/
LOCATION:Seneca Schoolhouse
ORGANIZER;CN="Katlyn McGrath":MAILTO:kaitlyn.m.mcgrath@gamil.com
END:VEVENT
BEGIN:VEVENT
DTSTART;TZID=America/New_York:20221013T100000
DTEND;TZID=America/New_York:20221013T140000
DTSTAMP:20260425T232604
CREATED:20220831T030109Z
LAST-MODIFIED:20220831T030109Z
UID:3488-1665655200-1665669600@www.historicmedley.org
SUMMARY:Team Homeschool
DESCRIPTION:Traditional 1880s school day
URL:https://www.historicmedley.org/event/team-homeschool/
LOCATION:Seneca Schoolhouse
ORGANIZER;CN="Adrienne Kyzar":MAILTO:my2bubbleguppies@gmail.com
END:VEVENT
BEGIN:VEVENT
DTSTART;TZID=America/New_York:20220608T100000
DTEND;TZID=America/New_York:20220608T140000
DTSTAMP:20260425T232604
CREATED:20220527T011239Z
LAST-MODIFIED:20220527T011239Z
UID:3375-1654682400-1654696800@www.historicmedley.org
SUMMARY:French International School
DESCRIPTION:2nd graders who missed out last year
URL:https://www.historicmedley.org/event/french-international-school-21/
LOCATION:Seneca Schoolhouse
ORGANIZER;CN="Natalie Wagner":MAILTO:wagnern@rochambeau.org
END:VEVENT
BEGIN:VEVENT
DTSTART;TZID=America/New_York:20220607T090000
DTEND;TZID=America/New_York:20220607T130000
DTSTAMP:20260425T232604
CREATED:20220527T011045Z
LAST-MODIFIED:20220527T011045Z
UID:3372-1654592400-1654606800@www.historicmedley.org
SUMMARY:Butler Montessori
DESCRIPTION:6 – 9 year olds
URL:https://www.historicmedley.org/event/butler-montessori-3/
LOCATION:Seneca Schoolhouse
ORGANIZER;CN="Rainey":MAILTO:rainey@butlerschool.org
END:VEVENT
BEGIN:VEVENT
DTSTART;TZID=America/New_York:20220603T080000
DTEND;TZID=America/New_York:20220603T170000
DTSTAMP:20260425T232604
CREATED:20220318T012136Z
LAST-MODIFIED:20220318T012136Z
UID:3335-1654243200-1654275600@www.historicmedley.org
SUMMARY:Carderock Elementary School
DESCRIPTION:1st time attending SSH \n2nd grade
URL:https://www.historicmedley.org/event/carderock-elementary-school/
LOCATION:Seneca Schoolhouse
ORGANIZER;CN="Jessica Kasenetz":MAILTO:jessica_y_kasenetz@mcpsmd.org
END:VEVENT
BEGIN:VEVENT
DTSTART;TZID=America/New_York:20220602T100000
DTEND;TZID=America/New_York:20220602T140000
DTSTAMP:20260425T232604
CREATED:20220405T040228Z
LAST-MODIFIED:20220405T040228Z
UID:3364-1654164000-1654178400@www.historicmedley.org
SUMMARY:Montgomery County Homeschoolers
DESCRIPTION:
URL:https://www.historicmedley.org/event/montgomery-county-homeschoolers/
LOCATION:Seneca Schoolhouse
ORGANIZER;CN="Jordan Clark":MAILTO:jordanmclark11@gmail.com
END:VEVENT
BEGIN:VEVENT
DTSTART;TZID=America/New_York:20220601T100000
DTEND;TZID=America/New_York:20220601T130000
DTSTAMP:20260425T232604
CREATED:20220318T012003Z
LAST-MODIFIED:20220318T012003Z
UID:3333-1654077600-1654088400@www.historicmedley.org
SUMMARY:Carderock Springs Elementary School
DESCRIPTION:1st time attending SSH \n2nd grade
URL:https://www.historicmedley.org/event/carderock-springs-elementary-school-2/
LOCATION:Seneca Schoolhouse
ORGANIZER;CN="Jessica Kasenetz":MAILTO:jessica_y_kasenetz@mcpsmd.org
END:VEVENT
BEGIN:VEVENT
DTSTART;TZID=America/New_York:20220531T100000
DTEND;TZID=America/New_York:20220531T130000
DTSTAMP:20260425T232604
CREATED:20220318T011719Z
LAST-MODIFIED:20220318T011719Z
UID:3330-1653991200-1654002000@www.historicmedley.org
SUMMARY:Carderock Springs Elementary School
DESCRIPTION:1st time attending SSH \n2nd graders
URL:https://www.historicmedley.org/event/carderock-springs-elementary-school/
LOCATION:Seneca Schoolhouse
ORGANIZER;CN="Jessica Kasenetz":MAILTO:jessica_y_kasenetz@mcpsmd.org
END:VEVENT
BEGIN:VEVENT
DTSTART;TZID=America/New_York:20220527T100000
DTEND;TZID=America/New_York:20220527T140000
DTSTAMP:20260425T232604
CREATED:20220310T003811Z
LAST-MODIFIED:20220310T003811Z
UID:3302-1653645600-1653660000@www.historicmedley.org
SUMMARY:Jone Lane Elementary
DESCRIPTION:4th grade
URL:https://www.historicmedley.org/event/jone-lane-elementary/
LOCATION:Seneca Schoolhouse
ORGANIZER;CN="Debbi Tehrani":MAILTO:debra_m_shoaeetehrani@mcpsmd.org
END:VEVENT
BEGIN:VEVENT
DTSTART;TZID=America/New_York:20220526T100000
DTEND;TZID=America/New_York:20220526T140000
DTSTAMP:20260425T232604
CREATED:20220310T003556Z
LAST-MODIFIED:20220310T003556Z
UID:3300-1653559200-1653573600@www.historicmedley.org
SUMMARY:Jones Lane Elementary
DESCRIPTION:4th grade
URL:https://www.historicmedley.org/event/jones-lane-elementary-11/
LOCATION:Seneca Schoolhouse
ORGANIZER;CN="Debbi Tehrani":MAILTO:debra_m_shoaeetehrani@mcpsmd.org
END:VEVENT
BEGIN:VEVENT
DTSTART;TZID=America/New_York:20220525T100000
DTEND;TZID=America/New_York:20220525T140000
DTSTAMP:20260425T232604
CREATED:20220301T144544Z
LAST-MODIFIED:20220301T144544Z
UID:3286-1653472800-1653487200@www.historicmedley.org
SUMMARY:St. Jane de Chatal
DESCRIPTION:18 2nd graders
URL:https://www.historicmedley.org/event/st-jane-de-chatal/
LOCATION:Seneca Schoolhouse
ORGANIZER;CN="Dee Lozupone":MAILTO:dlozupone@dechantal.org
END:VEVENT
END:VCALENDAR