BEGIN:VCALENDAR
VERSION:2.0
PRODID:-//Historic Medley District - ECPv6.15.20//NONSGML v1.0//EN
CALSCALE:GREGORIAN
METHOD:PUBLISH
X-WR-CALNAME:Historic Medley District
X-ORIGINAL-URL:https://www.historicmedley.org
X-WR-CALDESC:Events for Historic Medley District
REFRESH-INTERVAL;VALUE=DURATION:PT1H
X-Robots-Tag:noindex
X-PUBLISHED-TTL:PT1H
BEGIN:VTIMEZONE
TZID:America/New_York
BEGIN:DAYLIGHT
TZOFFSETFROM:-0500
TZOFFSETTO:-0400
TZNAME:EDT
DTSTART:20240310T070000
END:DAYLIGHT
BEGIN:STANDARD
TZOFFSETFROM:-0400
TZOFFSETTO:-0500
TZNAME:EST
DTSTART:20241103T060000
END:STANDARD
BEGIN:DAYLIGHT
TZOFFSETFROM:-0500
TZOFFSETTO:-0400
TZNAME:EDT
DTSTART:20250309T070000
END:DAYLIGHT
BEGIN:STANDARD
TZOFFSETFROM:-0400
TZOFFSETTO:-0500
TZNAME:EST
DTSTART:20251102T060000
END:STANDARD
BEGIN:DAYLIGHT
TZOFFSETFROM:-0500
TZOFFSETTO:-0400
TZNAME:EDT
DTSTART:20260308T070000
END:DAYLIGHT
BEGIN:STANDARD
TZOFFSETFROM:-0400
TZOFFSETTO:-0500
TZNAME:EST
DTSTART:20261101T060000
END:STANDARD
BEGIN:DAYLIGHT
TZOFFSETFROM:-0500
TZOFFSETTO:-0400
TZNAME:EDT
DTSTART:20270314T070000
END:DAYLIGHT
BEGIN:STANDARD
TZOFFSETFROM:-0400
TZOFFSETTO:-0500
TZNAME:EST
DTSTART:20271107T060000
END:STANDARD
END:VTIMEZONE
BEGIN:VEVENT
DTSTART;TZID=America/New_York:20260105T100000
DTEND;TZID=America/New_York:20260105T143000
DTSTAMP:20260423T163443
CREATED:20250829T221823Z
LAST-MODIFIED:20260103T150533Z
UID:5855-1767607200-1767623400@www.historicmedley.org
SUMMARY:FISH Homeschoolers
DESCRIPTION:  \nChristmas Class
URL:https://www.historicmedley.org/event/fish-homeschoolers/
LOCATION:Seneca Schoolhouse
ORGANIZER;CN="Mandy Shanaberger":MAILTO:mandyshanaberger@gmail.com
END:VEVENT
BEGIN:VEVENT
DTSTART;TZID=America/New_York:20251219T100000
DTEND;TZID=America/New_York:20251219T143000
DTSTAMP:20260423T163443
CREATED:20250814T135015Z
LAST-MODIFIED:20250814T135015Z
UID:5825-1766138400-1766154600@www.historicmedley.org
SUMMARY:The Orchard Classical
DESCRIPTION:Christmas class
URL:https://www.historicmedley.org/event/the-orchard-classical/
LOCATION:Seneca Schoolhouse
ORGANIZER;CN="Rebecca Gallop":MAILTO:adailysomething@gmail.com
END:VEVENT
BEGIN:VEVENT
DTSTART;TZID=America/New_York:20251218T100000
DTEND;TZID=America/New_York:20251218T143000
DTSTAMP:20260423T163443
CREATED:20250926T203824Z
LAST-MODIFIED:20250926T203824Z
UID:5905-1766052000-1766068200@www.historicmedley.org
SUMMARY:Christina Bennett Homeschool Group
DESCRIPTION:Christmas class
URL:https://www.historicmedley.org/event/christina-bennett-homeschool-group/
LOCATION:Seneca Schoolhouse
END:VEVENT
BEGIN:VEVENT
DTSTART;TZID=America/New_York:20251217T100000
DTEND;TZID=America/New_York:20251217T143000
DTSTAMP:20260423T163443
CREATED:20250814T134853Z
LAST-MODIFIED:20250814T134853Z
UID:5823-1765965600-1765981800@www.historicmedley.org
SUMMARY:The Orchard Classical Community
DESCRIPTION:Christmas Class
URL:https://www.historicmedley.org/event/the-orchard-classical-community-5/
LOCATION:Seneca Schoolhouse
ORGANIZER;CN="Rebecca Gallop":MAILTO:adailysomething@gmail.com
END:VEVENT
BEGIN:VEVENT
DTSTART;TZID=America/New_York:20251216T100000
DTEND;TZID=America/New_York:20251216T143000
DTSTAMP:20260423T163443
CREATED:20250818T022846Z
LAST-MODIFIED:20250818T022846Z
UID:5844-1765879200-1765895400@www.historicmedley.org
SUMMARY:PAX Academy
DESCRIPTION:Christmas Class
URL:https://www.historicmedley.org/event/pax-academy-3/
LOCATION:Seneca Schoolhouse
ORGANIZER;CN="Rebeca Betancourt":MAILTO:rebeca.betancourt@paxacademy.org
END:VEVENT
BEGIN:VEVENT
DTSTART;TZID=America/New_York:20251212T100000
DTEND;TZID=America/New_York:20251212T143000
DTSTAMP:20260423T163443
CREATED:20250926T203239Z
LAST-MODIFIED:20250926T203239Z
UID:5903-1765533600-1765549800@www.historicmedley.org
SUMMARY:SNAC
DESCRIPTION:St. Nicolas Academic Community \nStephanie teaching
URL:https://www.historicmedley.org/event/snac/
LOCATION:Seneca Schoolhouse
ORGANIZER;CN="Leah Peterson":MAILTO:lrdobler@gmailcom
END:VEVENT
BEGIN:VEVENT
DTSTART;TZID=America/New_York:20251211T100000
DTEND;TZID=America/New_York:20251211T143000
DTSTAMP:20260423T163443
CREATED:20250804T021520Z
LAST-MODIFIED:20250804T021520Z
UID:5806-1765447200-1765463400@www.historicmedley.org
SUMMARY:FCF Homeschool Co-op
DESCRIPTION:Christmas Class
URL:https://www.historicmedley.org/event/fcf-homeschool-co-op-2/
LOCATION:Seneca Schoolhouse
ORGANIZER;CN="Stephanie Hannah":MAILTO:sdhannah2@gmail.com
END:VEVENT
BEGIN:VEVENT
DTSTART;TZID=America/New_York:20251210T093000
DTEND;TZID=America/New_York:20251210T140000
DTSTAMP:20260423T163443
CREATED:20250818T012305Z
LAST-MODIFIED:20250818T012609Z
UID:5840-1765359000-1765375200@www.historicmedley.org
SUMMARY:The Avalon School
DESCRIPTION:Christmas Class – 2nd grade – 22 boys
URL:https://www.historicmedley.org/event/the-avalon-school/
LOCATION:Seneca Schoolhouse
END:VEVENT
BEGIN:VEVENT
DTSTART;TZID=America/New_York:20251209T100000
DTEND;TZID=America/New_York:20251209T143000
DTSTAMP:20260423T163443
CREATED:20250814T135922Z
LAST-MODIFIED:20250814T135922Z
UID:5833-1765274400-1765290600@www.historicmedley.org
SUMMARY:TORCH
DESCRIPTION:Christmas Class
URL:https://www.historicmedley.org/event/torch-5/
LOCATION:Seneca Schoolhouse
ORGANIZER;CN="Ellen Higham":MAILTO:wheelhead1990@gmail.com
END:VEVENT
BEGIN:VEVENT
DTSTART;TZID=America/New_York:20251208T100000
DTEND;TZID=America/New_York:20251208T143000
DTSTAMP:20260423T163443
CREATED:20250209T041844Z
LAST-MODIFIED:20250209T042105Z
UID:5663-1765188000-1765204200@www.historicmedley.org
SUMMARY:Homeschoolers of Central Maryland
DESCRIPTION:Christmas class
URL:https://www.historicmedley.org/event/homeschoolers-of-central-maryland-3/
LOCATION:Seneca Schoolhouse
ORGANIZER;CN="Kate Richer":MAILTO:katericher77@gmail.com
END:VEVENT
BEGIN:VEVENT
DTSTART;TZID=America/New_York:20251205T100000
DTEND;TZID=America/New_York:20251205T143000
DTSTAMP:20260423T163443
CREATED:20250804T022012Z
LAST-MODIFIED:20250804T022012Z
UID:5810-1764928800-1764945000@www.historicmedley.org
SUMMARY:Friends and Field Trips Group
DESCRIPTION:Christmas Class
URL:https://www.historicmedley.org/event/friends-and-field-trips-group-2/
LOCATION:Seneca Schoolhouse
END:VEVENT
BEGIN:VEVENT
DTSTART;TZID=America/New_York:20251204T100000
DTEND;TZID=America/New_York:20251204T143000
DTSTAMP:20260423T163443
CREATED:20250804T021738Z
LAST-MODIFIED:20250809T025402Z
UID:5808-1764842400-1764858600@www.historicmedley.org
SUMMARY:FCF Homeschool Co-op
DESCRIPTION:Christmas Class
URL:https://www.historicmedley.org/event/friends-and-field-trips-group/
LOCATION:Seneca Schoolhouse
ORGANIZER;CN="Stephanie Hannah":MAILTO:sdhannah2@gmail.com
END:VEVENT
BEGIN:VEVENT
DTSTART;TZID=America/New_York:20251203T100000
DTEND;TZID=America/New_York:20251203T143000
DTSTAMP:20260423T163443
CREATED:20250814T140655Z
LAST-MODIFIED:20250814T140655Z
UID:5835-1764756000-1764772200@www.historicmedley.org
SUMMARY:Friends and Field Trips Homeschool Group
DESCRIPTION:Christmas Class
URL:https://www.historicmedley.org/event/friends-and-field-trips-homeschool-group-2/
LOCATION:Seneca Schoolhouse
END:VEVENT
BEGIN:VEVENT
DTSTART;TZID=America/New_York:20251202T100000
DTEND;TZID=America/New_York:20251202T143000
DTSTAMP:20260423T163443
CREATED:20250404T214020Z
LAST-MODIFIED:20250404T214020Z
UID:5705-1764669600-1764685800@www.historicmedley.org
SUMMARY:Classical Conversations of South Frederick
DESCRIPTION:Christmas Class
URL:https://www.historicmedley.org/event/classical-conversations-of-south-frederick-5/
LOCATION:Seneca Schoolhouse
ORGANIZER;CN="Beckah Sivilli":MAILTO:risivilli@gmail.com
END:VEVENT
BEGIN:VEVENT
DTSTART;TZID=America/New_York:20251201T100000
DTEND;TZID=America/New_York:20251201T143000
DTSTAMP:20260423T163443
CREATED:20250404T213837Z
LAST-MODIFIED:20250404T213837Z
UID:5703-1764583200-1764599400@www.historicmedley.org
SUMMARY:Classical Conversations of South Frederick
DESCRIPTION:Christmas Class
URL:https://www.historicmedley.org/event/classical-conversations-of-south-frederick-4/
LOCATION:Seneca Schoolhouse
ORGANIZER;CN="Beckah Sivilli":MAILTO:risivilli@gmail.com
END:VEVENT
BEGIN:VEVENT
DTSTART;TZID=America/New_York:20251124T080000
DTEND;TZID=America/New_York:20251124T170000
DTSTAMP:20260423T163443
CREATED:20250829T222215Z
LAST-MODIFIED:20250829T222215Z
UID:5860-1763971200-1764003600@www.historicmedley.org
SUMMARY:Chieftain Christian Academy
DESCRIPTION:Homeschool group
URL:https://www.historicmedley.org/event/chieftain-christian-academy-2/
LOCATION:Seneca Schoolhouse
ORGANIZER;CN="Naomi Glenn":MAILTO:naomiglenn@hotmail.com
END:VEVENT
BEGIN:VEVENT
DTSTART;TZID=America/New_York:20251121T100000
DTEND;TZID=America/New_York:20251121T140000
DTSTAMP:20260423T163443
CREATED:20250818T011911Z
LAST-MODIFIED:20250818T011911Z
UID:5837-1763719200-1763733600@www.historicmedley.org
SUMMARY:St. Thomas More Academy
DESCRIPTION:4th Grade -21 students
URL:https://www.historicmedley.org/event/st-thomas-more-academy-4/
LOCATION:Seneca Schoolhouse
ORGANIZER;CN="Peggy Nicely":MAILTO:nicelym@stmamd.org
END:VEVENT
BEGIN:VEVENT
DTSTART;TZID=America/New_York:20251119T100000
DTEND;TZID=America/New_York:20251119T143000
DTSTAMP:20260423T163443
CREATED:20251021T000828Z
LAST-MODIFIED:20251021T000828Z
UID:5950-1763546400-1763562600@www.historicmedley.org
SUMMARY:LEAP Homeschool Co-op
DESCRIPTION:Thanksgiving class
URL:https://www.historicmedley.org/event/leap-homeschool-co-op-2/
LOCATION:Seneca Schoolhouse
ORGANIZER;CN="Jackie Davidson":MAILTO:jakidav617@gmail.com
END:VEVENT
BEGIN:VEVENT
DTSTART;TZID=America/New_York:20251118T100000
DTEND;TZID=America/New_York:20251118T143000
DTSTAMP:20260423T163443
CREATED:20250907T033714Z
LAST-MODIFIED:20250907T033714Z
UID:5882-1763460000-1763476200@www.historicmedley.org
SUMMARY:CCM Homeschool Co-op
DESCRIPTION:Thanksgiving Class
URL:https://www.historicmedley.org/event/ccm-homeschool-co-op/
LOCATION:Seneca Schoolhouse
END:VEVENT
BEGIN:VEVENT
DTSTART;TZID=America/New_York:20251117T100000
DTEND;TZID=America/New_York:20251117T143000
DTSTAMP:20260423T163443
CREATED:20250809T022255Z
LAST-MODIFIED:20250809T022255Z
UID:5818-1763373600-1763389800@www.historicmedley.org
SUMMARY:LEAP Homeschool Co-op
DESCRIPTION:Thanksgiving Class
URL:https://www.historicmedley.org/event/leap-homeschool-co-op/
LOCATION:Seneca Schoolhouse
ORGANIZER;CN="Molli Bishop":MAILTO:mollib723@gmail.com
END:VEVENT
BEGIN:VEVENT
DTSTART;TZID=America/New_York:20251114T100000
DTEND;TZID=America/New_York:20251114T143000
DTSTAMP:20260423T163443
CREATED:20251010T142816Z
LAST-MODIFIED:20251010T142816Z
UID:5938-1763114400-1763130600@www.historicmedley.org
SUMMARY:Jesus Loving Mamas
DESCRIPTION:Thanksgiving Class
URL:https://www.historicmedley.org/event/jesus-loving-mamas/
LOCATION:Seneca Schoolhouse
ORGANIZER;CN="Jill Murray":MAILTO:jillmurrayrn@gmail.com
END:VEVENT
BEGIN:VEVENT
DTSTART;TZID=America/New_York:20251113T100000
DTEND;TZID=America/New_York:20251113T143000
DTSTAMP:20260423T163443
CREATED:20250804T020856Z
LAST-MODIFIED:20250804T020856Z
UID:5801-1763028000-1763044200@www.historicmedley.org
SUMMARY:Classical Conversations Damascus
DESCRIPTION:Thanksgiving Class
URL:https://www.historicmedley.org/event/classical-conversations-damascus/
LOCATION:Seneca Schoolhouse
ORGANIZER;CN="Laura Margiotta":MAILTO:lauramkm@hotmail.com
END:VEVENT
BEGIN:VEVENT
DTSTART;TZID=America/New_York:20251112T100000
DTEND;TZID=America/New_York:20251112T143000
DTSTAMP:20260423T163443
CREATED:20251018T031752Z
LAST-MODIFIED:20251018T031752Z
UID:5944-1762941600-1762957800@www.historicmedley.org
SUMMARY:Homeschool Hub
DESCRIPTION:Thanksgiving Class \nHomeschool Hub – Leesburg\, VA
URL:https://www.historicmedley.org/event/homeschool-hub/
LOCATION:Seneca Schoolhouse
ORGANIZER;CN="Sara Weekes":MAILTO:wproductionsdesigns@gmail.com
END:VEVENT
BEGIN:VEVENT
DTSTART;TZID=America/New_York:20251111T100000
DTEND;TZID=America/New_York:20251111T143000
DTSTAMP:20260423T163443
CREATED:20251018T031951Z
LAST-MODIFIED:20251018T031951Z
UID:5947-1762855200-1762871400@www.historicmedley.org
SUMMARY:Homeschool Hub
DESCRIPTION:Thanksgiving Class
URL:https://www.historicmedley.org/event/homeschool-hub-2/
LOCATION:Seneca Schoolhouse
ORGANIZER;CN="Regina Gossage":MAILTO:gossagefam@aol.com
END:VEVENT
BEGIN:VEVENT
DTSTART;TZID=America/New_York:20251110T100000
DTEND;TZID=America/New_York:20251110T143000
DTSTAMP:20260423T163443
CREATED:20250809T021138Z
LAST-MODIFIED:20250809T021138Z
UID:5815-1762768800-1762785000@www.historicmedley.org
SUMMARY:Capital Baptist Co-op
DESCRIPTION:Thanksgiving Class
URL:https://www.historicmedley.org/event/capital-baptist-co-op-4/
LOCATION:Seneca Schoolhouse
ORGANIZER;CN="Jessica Brewer":MAILTO:chiafair@gmail.com
END:VEVENT
BEGIN:VEVENT
DTSTART;TZID=America/New_York:20251107T100000
DTEND;TZID=America/New_York:20251107T140000
DTSTAMP:20260423T163443
CREATED:20250818T012512Z
LAST-MODIFIED:20250818T012512Z
UID:5842-1762509600-1762524000@www.historicmedley.org
SUMMARY:Family Fellowship Co-op
DESCRIPTION:New group \nFrom Hedgesville\, WV
URL:https://www.historicmedley.org/event/family-fellowship-co-op/
END:VEVENT
BEGIN:VEVENT
DTSTART;TZID=America/New_York:20251106T100000
DTEND;TZID=America/New_York:20251106T143000
DTSTAMP:20260423T163443
CREATED:20250209T042039Z
LAST-MODIFIED:20250429T005018Z
UID:5665-1762423200-1762439400@www.historicmedley.org
SUMMARY:Classical Conversations of Burke\, VA
DESCRIPTION:Thanksgiving Class
URL:https://www.historicmedley.org/event/classical-conversations-of-burke-va-5/
LOCATION:Seneca Schoolhouse
END:VEVENT
BEGIN:VEVENT
DTSTART;TZID=America/New_York:20251103T100000
DTEND;TZID=America/New_York:20251103T143000
DTSTAMP:20260423T163443
CREATED:20250814T135625Z
LAST-MODIFIED:20250814T135625Z
UID:5830-1762164000-1762180200@www.historicmedley.org
SUMMARY:TORCH
DESCRIPTION:Thanksgiving Class
URL:https://www.historicmedley.org/event/torch-4/
LOCATION:Seneca Schoolhouse
ORGANIZER;CN="Ellen Higham":MAILTO:wheelhead1990@gmail.com
END:VEVENT
BEGIN:VEVENT
DTSTART;TZID=America/New_York:20251031T100000
DTEND;TZID=America/New_York:20251031T140000
DTSTAMP:20260423T163443
CREATED:20250908T165533Z
LAST-MODIFIED:20250908T165533Z
UID:5884-1761904800-1761919200@www.historicmedley.org
SUMMARY:Everjoy Christian Co-op
DESCRIPTION:West Virginia \nFirst time attending
URL:https://www.historicmedley.org/event/everjoy-christian-co-op/
LOCATION:Seneca Schoolhouse
ORGANIZER;CN="Jordan Camarena":MAILTO:jordanjorr@gmail.com
END:VEVENT
BEGIN:VEVENT
DTSTART;TZID=America/New_York:20251030T100000
DTEND;TZID=America/New_York:20251030T143000
DTSTAMP:20260423T163443
CREATED:20250829T222034Z
LAST-MODIFIED:20250829T222034Z
UID:5858-1761818400-1761834600@www.historicmedley.org
SUMMARY:St. Andrew's Episcopal School
DESCRIPTION:4th grade \n 
URL:https://www.historicmedley.org/event/st-andrews-episcopal-school-6/
LOCATION:Seneca Schoolhouse
ORGANIZER;CN="Megan Rogge":MAILTO:mrogge@saes.org
END:VEVENT
END:VCALENDAR