BEGIN:VCALENDAR
VERSION:2.0
PRODID:-//Historic Medley District - ECPv6.15.20//NONSGML v1.0//EN
CALSCALE:GREGORIAN
METHOD:PUBLISH
X-WR-CALNAME:Historic Medley District
X-ORIGINAL-URL:https://www.historicmedley.org
X-WR-CALDESC:Events for Historic Medley District
REFRESH-INTERVAL;VALUE=DURATION:PT1H
X-Robots-Tag:noindex
X-PUBLISHED-TTL:PT1H
BEGIN:VTIMEZONE
TZID:America/New_York
BEGIN:DAYLIGHT
TZOFFSETFROM:-0500
TZOFFSETTO:-0400
TZNAME:EDT
DTSTART:20210314T070000
END:DAYLIGHT
BEGIN:STANDARD
TZOFFSETFROM:-0400
TZOFFSETTO:-0500
TZNAME:EST
DTSTART:20211107T060000
END:STANDARD
BEGIN:DAYLIGHT
TZOFFSETFROM:-0500
TZOFFSETTO:-0400
TZNAME:EDT
DTSTART:20220313T070000
END:DAYLIGHT
BEGIN:STANDARD
TZOFFSETFROM:-0400
TZOFFSETTO:-0500
TZNAME:EST
DTSTART:20221106T060000
END:STANDARD
BEGIN:DAYLIGHT
TZOFFSETFROM:-0500
TZOFFSETTO:-0400
TZNAME:EDT
DTSTART:20230312T070000
END:DAYLIGHT
BEGIN:STANDARD
TZOFFSETFROM:-0400
TZOFFSETTO:-0500
TZNAME:EST
DTSTART:20231105T060000
END:STANDARD
BEGIN:DAYLIGHT
TZOFFSETFROM:-0500
TZOFFSETTO:-0400
TZNAME:EDT
DTSTART:20240310T070000
END:DAYLIGHT
BEGIN:STANDARD
TZOFFSETFROM:-0400
TZOFFSETTO:-0500
TZNAME:EST
DTSTART:20241103T060000
END:STANDARD
END:VTIMEZONE
BEGIN:VEVENT
DTSTART;TZID=America/New_York:20230130T093000
DTEND;TZID=America/New_York:20230130T130000
DTSTAMP:20260425T214917
CREATED:20221216T040156Z
LAST-MODIFIED:20221216T040156Z
UID:3722-1675071000-1675083600@www.historicmedley.org
SUMMARY:Excel Academy
DESCRIPTION:4th grade
URL:https://www.historicmedley.org/event/excel-academy/
LOCATION:Seneca Schoolhouse
ORGANIZER;CN="Erin Troast":MAILTO:erin.mcguire@pgcps.org
END:VEVENT
BEGIN:VEVENT
DTSTART;TZID=America/New_York:20230127T100000
DTEND;TZID=America/New_York:20230127T140000
DTSTAMP:20260425T214917
CREATED:20221213T135605Z
LAST-MODIFIED:20221213T135605Z
UID:3712-1674813600-1674828000@www.historicmedley.org
SUMMARY:St. John the Beloved Academy
DESCRIPTION:20 3rd grade students
URL:https://www.historicmedley.org/event/st-john-the-beloved-academy-2/
LOCATION:Seneca Schoolhouse
END:VEVENT
BEGIN:VEVENT
DTSTART;TZID=America/New_York:20230124T100000
DTEND;TZID=America/New_York:20230124T140000
DTSTAMP:20260425T214917
CREATED:20221216T035837Z
LAST-MODIFIED:20221216T035837Z
UID:3720-1674554400-1674568800@www.historicmedley.org
SUMMARY:Stoddert Elementary
DESCRIPTION:2nd graders
URL:https://www.historicmedley.org/event/stoddert-elementary-15/
LOCATION:Seneca Schoolhouse
ORGANIZER;CN="Kelley Lasov":MAILTO:kelley.lasov@dc.gov
END:VEVENT
BEGIN:VEVENT
DTSTART;TZID=America/New_York:20230122T150000
DTEND;TZID=America/New_York:20230122T163000
DTSTAMP:20260425T214917
CREATED:20230102T022917Z
LAST-MODIFIED:20230102T022917Z
UID:3728-1674399600-1674405000@www.historicmedley.org
SUMMARY:Girl Scout Troop
DESCRIPTION:12 -15 third grade girls
URL:https://www.historicmedley.org/event/girl-scout-troop-8/
LOCATION:Seneca Schoolhouse
ORGANIZER;CN="Julie Shileds":MAILTO:shields.julie@gmail.com
END:VEVENT
BEGIN:VEVENT
DTSTART;TZID=America/New_York:20230118T100000
DTEND;TZID=America/New_York:20230118T140000
DTSTAMP:20260425T214917
CREATED:20221213T135334Z
LAST-MODIFIED:20221213T135334Z
UID:3708-1674036000-1674050400@www.historicmedley.org
SUMMARY:Avalon School
DESCRIPTION:9 2nd graders and 9 3rd graders \nFirst time attending SSH \nTomas Alicea and Yvonne O’Neill
URL:https://www.historicmedley.org/event/avalon-school/
LOCATION:Seneca Schoolhouse
END:VEVENT
BEGIN:VEVENT
DTSTART;TZID=America/New_York:20230112T100000
DTEND;TZID=America/New_York:20230112T140000
DTSTAMP:20260425T214917
CREATED:20221216T035713Z
LAST-MODIFIED:20221216T035713Z
UID:3718-1673517600-1673532000@www.historicmedley.org
SUMMARY:Stoddert Elementary
DESCRIPTION:2nd grade
URL:https://www.historicmedley.org/event/stoddert-elementary-14/
LOCATION:Seneca Schoolhouse
ORGANIZER;CN="Kelley Lasov":MAILTO:kelley.lasov@dc.gov
END:VEVENT
BEGIN:VEVENT
DTSTART;TZID=America/New_York:20230111T100000
DTEND;TZID=America/New_York:20230111T140000
DTSTAMP:20260425T214917
CREATED:20221216T035600Z
LAST-MODIFIED:20221216T035600Z
UID:3716-1673431200-1673445600@www.historicmedley.org
SUMMARY:Stoddert Elementary
DESCRIPTION:2nd grade
URL:https://www.historicmedley.org/event/stoddert-elementary-13/
LOCATION:Seneca Schoolhouse
ORGANIZER;CN="Kelley Lasov":MAILTO:kelley.lasov@dc.gov
END:VEVENT
BEGIN:VEVENT
DTSTART;TZID=America/New_York:20221223T080000
DTEND;TZID=America/New_York:20221223T170000
DTSTAMP:20260425T214917
CREATED:20220831T034449Z
LAST-MODIFIED:20220831T034449Z
UID:3526-1671782400-1671814800@www.historicmedley.org
SUMMARY:Seneca Schoolhouse Closed
DESCRIPTION:
URL:https://www.historicmedley.org/event/seneca-schoolhouse-closed-2/
END:VEVENT
BEGIN:VEVENT
DTSTART;TZID=America/New_York:20221222T080000
DTEND;TZID=America/New_York:20221222T170000
DTSTAMP:20260425T214917
CREATED:20220831T034406Z
LAST-MODIFIED:20220831T034406Z
UID:3524-1671696000-1671728400@www.historicmedley.org
SUMMARY:Seneca Schoolhouse Closed
DESCRIPTION:
URL:https://www.historicmedley.org/event/seneca-schoolhouse-closed/
END:VEVENT
BEGIN:VEVENT
DTSTART;TZID=America/New_York:20221221T080000
DTEND;TZID=America/New_York:20221221T170000
DTSTAMP:20260425T214917
CREATED:20221105T143250Z
LAST-MODIFIED:20221105T143250Z
UID:3685-1671609600-1671642000@www.historicmedley.org
SUMMARY:Seneca Schoolhouse Closed
DESCRIPTION:
URL:https://www.historicmedley.org/event/seneca-schoolhouse-closed-5/
END:VEVENT
BEGIN:VEVENT
DTSTART;TZID=America/New_York:20221220T100000
DTEND;TZID=America/New_York:20221220T143000
DTSTAMP:20260425T214917
CREATED:20220831T034250Z
LAST-MODIFIED:20220831T034250Z
UID:3522-1671530400-1671546600@www.historicmedley.org
SUMMARY:April Snyder Homeschool Group
DESCRIPTION:Christmas Class
URL:https://www.historicmedley.org/event/april-snyder-homeschool-group-5/
LOCATION:Seneca Schoolhouse
END:VEVENT
BEGIN:VEVENT
DTSTART;TZID=America/New_York:20221219T100000
DTEND;TZID=America/New_York:20221219T143000
DTSTAMP:20260425T214917
CREATED:20220831T034126Z
LAST-MODIFIED:20220831T034126Z
UID:3520-1671444000-1671460200@www.historicmedley.org
SUMMARY:April Snyder Homeschool Group
DESCRIPTION:Christmas Class
URL:https://www.historicmedley.org/event/april-snyder-homeschool-group-4/
LOCATION:Seneca Schoolhouse
END:VEVENT
BEGIN:VEVENT
DTSTART;TZID=America/New_York:20221216T100000
DTEND;TZID=America/New_York:20221216T143000
DTSTAMP:20260425T214917
CREATED:20220815T023410Z
LAST-MODIFIED:20220815T023410Z
UID:3385-1671184800-1671201000@www.historicmedley.org
SUMMARY:Hyattsville Home Academy
DESCRIPTION:Christmas class
URL:https://www.historicmedley.org/event/hyattsville-home-academy-4/
LOCATION:Seneca Schoolhouse
ORGANIZER;CN="Lindsay Weldon":MAILTO:lindsayeweldon@gmail.com
END:VEVENT
BEGIN:VEVENT
DTSTART;TZID=America/New_York:20221215T100000
DTEND;TZID=America/New_York:20221215T143000
DTSTAMP:20260425T214917
CREATED:20220815T022631Z
LAST-MODIFIED:20220815T022631Z
UID:3383-1671098400-1671114600@www.historicmedley.org
SUMMARY:Hyattsville Home Academy
DESCRIPTION:Christmas class
URL:https://www.historicmedley.org/event/hyattsville-home-academy-3/
LOCATION:Seneca Schoolhouse
ORGANIZER;CN="Lindsay Weldon":MAILTO:lindsayeweldon@gmail.com
END:VEVENT
BEGIN:VEVENT
DTSTART;TZID=America/New_York:20221214T100000
DTEND;TZID=America/New_York:20221214T143000
DTSTAMP:20260425T214917
CREATED:20220831T033927Z
LAST-MODIFIED:20220831T033927Z
UID:3518-1671012000-1671028200@www.historicmedley.org
SUMMARY:Hip and Happening Homeschool Fun Times
DESCRIPTION:Christmas class
URL:https://www.historicmedley.org/event/hip-and-happening-homeschool-fun-times-3/
LOCATION:Seneca Schoolhouse
ORGANIZER;CN="Allison Magee":MAILTO:allisonmagee@ymail.com
END:VEVENT
BEGIN:VEVENT
DTSTART;TZID=America/New_York:20221213T100000
DTEND;TZID=America/New_York:20221213T143000
DTSTAMP:20260425T214917
CREATED:20220831T033756Z
LAST-MODIFIED:20220831T033756Z
UID:3516-1670925600-1670941800@www.historicmedley.org
SUMMARY:Hip and Happening Homeschool Fun Times
DESCRIPTION:Christmas Class
URL:https://www.historicmedley.org/event/hip-and-happening-homeschool-fun-times-2/
LOCATION:Seneca Schoolhouse
ORGANIZER;CN="Allison Magee":MAILTO:allisonmagee@ymail.com
END:VEVENT
BEGIN:VEVENT
DTSTART;TZID=America/New_York:20221212T100000
DTEND;TZID=America/New_York:20221212T143000
DTSTAMP:20260425T214917
CREATED:20221019T193310Z
LAST-MODIFIED:20221019T193310Z
UID:3674-1670839200-1670855400@www.historicmedley.org
SUMMARY:Calvary Baptist Umbrella Homeschool Group
DESCRIPTION:Christmas class
URL:https://www.historicmedley.org/event/calvary-baptist-umbrella-homeschool-group-2/
LOCATION:Seneca Schoolhouse
ORGANIZER;CN="Amanda Wilson":MAILTO:amandawilson100@gmail.com
END:VEVENT
BEGIN:VEVENT
DTSTART;TZID=America/New_York:20221209T100000
DTEND;TZID=America/New_York:20221209T143000
DTSTAMP:20260425T214917
CREATED:20220831T033533Z
LAST-MODIFIED:20220831T033533Z
UID:3514-1670580000-1670596200@www.historicmedley.org
SUMMARY:The Orchard Classical Community
DESCRIPTION:Christmas Class
URL:https://www.historicmedley.org/event/the-orchard-classical-community-3/
LOCATION:Seneca Schoolhouse
ORGANIZER;CN="Raynel Knight":MAILTO:raynel.knight@gmail.com
END:VEVENT
BEGIN:VEVENT
DTSTART;TZID=America/New_York:20221208T100000
DTEND;TZID=America/New_York:20221208T143000
DTSTAMP:20260425T214917
CREATED:20221002T200106Z
LAST-MODIFIED:20221002T200106Z
UID:3617-1670493600-1670509800@www.historicmedley.org
SUMMARY:Knoxville Classical Conversations Community
DESCRIPTION:Christmas Class
URL:https://www.historicmedley.org/event/knoxville-classical-conversations-community/
LOCATION:Seneca Schoolhouse
ORGANIZER;CN="Kjirstin Cole":MAILTO:kjirstincole@gmail.com
END:VEVENT
BEGIN:VEVENT
DTSTART;TZID=America/New_York:20221207T100000
DTEND;TZID=America/New_York:20221207T143000
DTSTAMP:20260425T214917
CREATED:20220831T033250Z
LAST-MODIFIED:20220831T033250Z
UID:3509-1670407200-1670423400@www.historicmedley.org
SUMMARY:The Orchard Classical Community
DESCRIPTION:Christmas Class
URL:https://www.historicmedley.org/event/the-orchard-classical-community/
LOCATION:Seneca Schoolhouse
ORGANIZER;CN="Raynel Knight":MAILTO:raynel.knight@gmail.com
END:VEVENT
BEGIN:VEVENT
DTSTART;TZID=America/New_York:20221206T100000
DTEND;TZID=America/New_York:20221206T123000
DTSTAMP:20260425T214917
CREATED:20220919T011212Z
LAST-MODIFIED:20220919T011212Z
UID:3601-1670320800-1670329800@www.historicmedley.org
SUMMARY:Hip and Happening Homeschool Fun Times
DESCRIPTION:Christmas Class
URL:https://www.historicmedley.org/event/hip-and-happening-homeschool-fun-times-4/
LOCATION:Seneca Schoolhouse
END:VEVENT
BEGIN:VEVENT
DTSTART;TZID=America/New_York:20221205T100000
DTEND;TZID=America/New_York:20221205T140000
DTSTAMP:20260425T214917
CREATED:20221019T193705Z
LAST-MODIFIED:20221019T193705Z
UID:3676-1670234400-1670248800@www.historicmedley.org
SUMMARY:Holy Cross Co-op/Charlotte Mason MD
DESCRIPTION:Traditional School Day
URL:https://www.historicmedley.org/event/holy-cross-co-op-charlotte-mason-md/
LOCATION:Seneca Schoolhouse
ORGANIZER;CN="Karolina Dembinska-Lemus":MAILTO:Anilorak13ska@hotmail.com
END:VEVENT
BEGIN:VEVENT
DTSTART;TZID=America/New_York:20221202T100000
DTEND;TZID=America/New_York:20221202T143000
DTSTAMP:20260425T214917
CREATED:20220815T024010Z
LAST-MODIFIED:20220815T024010Z
UID:3387-1669975200-1669991400@www.historicmedley.org
SUMMARY:Wild & Free Loudon County Homeschool Group
DESCRIPTION:Christmas Class
URL:https://www.historicmedley.org/event/wild-free-loudon-county-homeschool-group/
LOCATION:Seneca Schoolhouse
ORGANIZER;CN="Amber Fawcett":MAILTO:amber.l.fawcett@gmail.com
END:VEVENT
BEGIN:VEVENT
DTSTART;TZID=America/New_York:20221201T100000
DTEND;TZID=America/New_York:20221201T140000
DTSTAMP:20260425T214917
CREATED:20220919T010001Z
LAST-MODIFIED:20220919T010104Z
UID:3594-1669888800-1669903200@www.historicmedley.org
SUMMARY:Homesteaders Homeschool Group
DESCRIPTION:Traditional Class
URL:https://www.historicmedley.org/event/homesteaders-homeschool-group-6/
LOCATION:Seneca Schoolhouse
ORGANIZER;CN="Alisa Smith":MAILTO:alisa82479@yahoo.com
END:VEVENT
BEGIN:VEVENT
DTSTART;TZID=America/New_York:20221130T100000
DTEND;TZID=America/New_York:20221130T143000
DTSTAMP:20260425T214917
CREATED:20221002T191353Z
LAST-MODIFIED:20221002T191353Z
UID:3614-1669802400-1669818600@www.historicmedley.org
SUMMARY:Friends Learning Together
DESCRIPTION:Thanksgiving Class
URL:https://www.historicmedley.org/event/friends-learning-together/
LOCATION:Seneca Schoolhouse
ORGANIZER;CN="Rebekah Overstreet":MAILTO:rebekah@vt.edu
END:VEVENT
BEGIN:VEVENT
DTSTART;TZID=America/New_York:20221125T080000
DTEND;TZID=America/New_York:20221125T170000
DTSTAMP:20260425T214917
CREATED:20221006T000431Z
LAST-MODIFIED:20221006T000431Z
UID:3625-1669363200-1669395600@www.historicmedley.org
SUMMARY:Seneca Schoolhouse closed
DESCRIPTION:
URL:https://www.historicmedley.org/event/seneca-schoolhouse-closed-6/
END:VEVENT
BEGIN:VEVENT
DTSTART;TZID=America/New_York:20221124T080000
DTEND;TZID=America/New_York:20221124T170000
DTSTAMP:20260425T214917
CREATED:20221006T000318Z
LAST-MODIFIED:20221006T000318Z
UID:3621-1669276800-1669309200@www.historicmedley.org
SUMMARY:Thanksgiving
DESCRIPTION:
URL:https://www.historicmedley.org/event/thanksgiving-2/
END:VEVENT
BEGIN:VEVENT
DTSTART;TZID=America/New_York:20221123T080000
DTEND;TZID=America/New_York:20221123T170000
DTSTAMP:20260425T214917
CREATED:20220831T034602Z
LAST-MODIFIED:20220831T034602Z
UID:3528-1669190400-1669222800@www.historicmedley.org
SUMMARY:Seneca Schoolhouse Closed
DESCRIPTION:
URL:https://www.historicmedley.org/event/seneca-schoolhouse-closed-3/
END:VEVENT
BEGIN:VEVENT
DTSTART;TZID=America/New_York:20221122T080000
DTEND;TZID=America/New_York:20221122T170000
DTSTAMP:20260425T214917
CREATED:20221002T190940Z
LAST-MODIFIED:20221002T190940Z
UID:3612-1669104000-1669136400@www.historicmedley.org
SUMMARY:Seneca Schoolhouse Closed
DESCRIPTION:
URL:https://www.historicmedley.org/event/seneca-schoolhouse-closed-4/
LOCATION:Seneca Schoolhouse
END:VEVENT
BEGIN:VEVENT
DTSTART;TZID=America/New_York:20221121T100000
DTEND;TZID=America/New_York:20221121T143000
DTSTAMP:20260425T214917
CREATED:20220815T024454Z
LAST-MODIFIED:20220815T024454Z
UID:3390-1669024800-1669041000@www.historicmedley.org
SUMMARY:The Inkling Homeschool Group
DESCRIPTION:Thanksgiving Class
URL:https://www.historicmedley.org/event/the-inkling-homeschool-group/
LOCATION:Seneca Schoolhouse
ORGANIZER;CN="Stephanie Gilbert":MAILTO:sgilbert80@yahoo.com
END:VEVENT
END:VCALENDAR