BEGIN:VCALENDAR
VERSION:2.0
PRODID:-//Historic Medley District - ECPv6.15.20//NONSGML v1.0//EN
CALSCALE:GREGORIAN
METHOD:PUBLISH
X-WR-CALNAME:Historic Medley District
X-ORIGINAL-URL:https://www.historicmedley.org
X-WR-CALDESC:Events for Historic Medley District
REFRESH-INTERVAL;VALUE=DURATION:PT1H
X-Robots-Tag:noindex
X-PUBLISHED-TTL:PT1H
BEGIN:VTIMEZONE
TZID:America/New_York
BEGIN:DAYLIGHT
TZOFFSETFROM:-0500
TZOFFSETTO:-0400
TZNAME:EDT
DTSTART:20230312T070000
END:DAYLIGHT
BEGIN:STANDARD
TZOFFSETFROM:-0400
TZOFFSETTO:-0500
TZNAME:EST
DTSTART:20231105T060000
END:STANDARD
BEGIN:DAYLIGHT
TZOFFSETFROM:-0500
TZOFFSETTO:-0400
TZNAME:EDT
DTSTART:20240310T070000
END:DAYLIGHT
BEGIN:STANDARD
TZOFFSETFROM:-0400
TZOFFSETTO:-0500
TZNAME:EST
DTSTART:20241103T060000
END:STANDARD
BEGIN:DAYLIGHT
TZOFFSETFROM:-0500
TZOFFSETTO:-0400
TZNAME:EDT
DTSTART:20250309T070000
END:DAYLIGHT
BEGIN:STANDARD
TZOFFSETFROM:-0400
TZOFFSETTO:-0500
TZNAME:EST
DTSTART:20251102T060000
END:STANDARD
END:VTIMEZONE
BEGIN:VEVENT
DTSTART;TZID=America/New_York:20241225T080000
DTEND;TZID=America/New_York:20241225T170000
DTSTAMP:20260424T083148
CREATED:20241012T143921Z
LAST-MODIFIED:20241012T143921Z
UID:5477-1735113600-1735146000@www.historicmedley.org
SUMMARY:Seneca Schoolhouse Closed
DESCRIPTION:
URL:https://www.historicmedley.org/event/seneca-schoolhouse-closed-17/
END:VEVENT
BEGIN:VEVENT
DTSTART;TZID=America/New_York:20241224T080000
DTEND;TZID=America/New_York:20241224T170000
DTSTAMP:20260424T083148
CREATED:20241012T143851Z
LAST-MODIFIED:20241012T143851Z
UID:5475-1735027200-1735059600@www.historicmedley.org
SUMMARY:Seneca Schoolhouse Closed
DESCRIPTION:
URL:https://www.historicmedley.org/event/seneca-schoolhouse-closed-16/
END:VEVENT
BEGIN:VEVENT
DTSTART;TZID=America/New_York:20241223T080000
DTEND;TZID=America/New_York:20241223T170000
DTSTAMP:20260424T083148
CREATED:20241012T143819Z
LAST-MODIFIED:20241012T143819Z
UID:5473-1734940800-1734973200@www.historicmedley.org
SUMMARY:Seneca Schoolhouse Closed
DESCRIPTION:
URL:https://www.historicmedley.org/event/seneca-schoolhouse-closed-15/
LOCATION:Seneca Schoolhouse
END:VEVENT
BEGIN:VEVENT
DTSTART;TZID=America/New_York:20241220T080000
DTEND;TZID=America/New_York:20241220T170000
DTSTAMP:20260424T083148
CREATED:20241012T143709Z
LAST-MODIFIED:20241012T143709Z
UID:5471-1734681600-1734714000@www.historicmedley.org
SUMMARY:Seneca Schoolhouse Closed
DESCRIPTION:
URL:https://www.historicmedley.org/event/seneca-schoolhouse-closed-14/
LOCATION:Seneca Schoolhouse
END:VEVENT
BEGIN:VEVENT
DTSTART;TZID=America/New_York:20241218T100000
DTEND;TZID=America/New_York:20241218T143000
DTSTAMP:20260424T083148
CREATED:20241114T052116Z
LAST-MODIFIED:20241114T052116Z
UID:5577-1734516000-1734532200@www.historicmedley.org
SUMMARY:Open Air Electives
DESCRIPTION:Christmas class
URL:https://www.historicmedley.org/event/open-air-electives-5/
LOCATION:Seneca Schoolhouse
ORGANIZER;CN="Elisabeth Gardiner":MAILTO:egohlke@gmail.com
END:VEVENT
BEGIN:VEVENT
DTSTART;TZID=America/New_York:20241217T100000
DTEND;TZID=America/New_York:20241217T143000
DTSTAMP:20260424T083148
CREATED:20241111T031759Z
LAST-MODIFIED:20241111T031759Z
UID:5574-1734429600-1734445800@www.historicmedley.org
SUMMARY:Jesus Loving Mommas
DESCRIPTION:Christmas class
URL:https://www.historicmedley.org/event/jesus-loving-mommas/
LOCATION:Seneca Schoolhouse
ORGANIZER;CN="Jill Murray":MAILTO:jillmurrayrn@gmail.com
END:VEVENT
BEGIN:VEVENT
DTSTART;TZID=America/New_York:20241216T100000
DTEND;TZID=America/New_York:20241216T143000
DTSTAMP:20260424T083148
CREATED:20241012T142737Z
LAST-MODIFIED:20241012T142737Z
UID:5466-1734343200-1734359400@www.historicmedley.org
SUMMARY:TORCH
DESCRIPTION:Christmas class
URL:https://www.historicmedley.org/event/torch-2/
LOCATION:Seneca Schoolhouse
ORGANIZER;CN="Ellen Higham":MAILTO:wheelhead1990@gmail.com
END:VEVENT
BEGIN:VEVENT
DTSTART;TZID=America/New_York:20241213T100000
DTEND;TZID=America/New_York:20241213T143000
DTSTAMP:20260424T083148
CREATED:20240822T153500Z
LAST-MODIFIED:20240822T153500Z
UID:5332-1734084000-1734100200@www.historicmedley.org
SUMMARY:Plumbline Schoolhouse
DESCRIPTION:Christmas class
URL:https://www.historicmedley.org/event/plumbline-schoolhouse-2/
LOCATION:Seneca Schoolhouse
ORGANIZER;CN="Vanessa Hart":MAILTO:vanessalhart77@gmail.com
END:VEVENT
BEGIN:VEVENT
DTSTART;TZID=America/New_York:20241212T100000
DTEND;TZID=America/New_York:20241212T143000
DTSTAMP:20260424T083148
CREATED:20240926T024914Z
LAST-MODIFIED:20240926T024914Z
UID:5407-1733997600-1734013800@www.historicmedley.org
SUMMARY:Open Air Electives
DESCRIPTION:Christmas Class
URL:https://www.historicmedley.org/event/open-air-electives-4/
LOCATION:Seneca Schoolhouse
ORGANIZER;CN="Elisabeth Gardiner":MAILTO:egohlke@gmail.com
END:VEVENT
BEGIN:VEVENT
DTSTART;TZID=America/New_York:20241211T100000
DTEND;TZID=America/New_York:20241211T143000
DTSTAMP:20260424T083148
CREATED:20241012T142932Z
LAST-MODIFIED:20241012T143235Z
UID:5468-1733911200-1733927400@www.historicmedley.org
SUMMARY:Avalon School
DESCRIPTION:Christmas class
URL:https://www.historicmedley.org/event/avalon-school-3/
LOCATION:Seneca Schoolhouse
END:VEVENT
BEGIN:VEVENT
DTSTART;TZID=America/New_York:20241210T100000
DTEND;TZID=America/New_York:20241210T143000
DTSTAMP:20260424T083148
CREATED:20241025T001149Z
LAST-MODIFIED:20241025T001149Z
UID:5523-1733824800-1733841000@www.historicmedley.org
SUMMARY:Damascus Classical Conversations
DESCRIPTION:Christmas class
URL:https://www.historicmedley.org/event/damascus-classical-conversations/
LOCATION:Seneca Schoolhouse
ORGANIZER;CN="Erica Granada":MAILTO:ericagranada@gmail.com
END:VEVENT
BEGIN:VEVENT
DTSTART;TZID=America/New_York:20241209T100000
DTEND;TZID=America/New_York:20241209T143000
DTSTAMP:20260424T083148
CREATED:20240822T153218Z
LAST-MODIFIED:20240822T153218Z
UID:5330-1733738400-1733754600@www.historicmedley.org
SUMMARY:LEAP Co-op
DESCRIPTION:Christmas Class
URL:https://www.historicmedley.org/event/leap-co-op-3/
LOCATION:Seneca Schoolhouse
ORGANIZER;CN="Molli Bishop":MAILTO:mollib723@gmail.com
END:VEVENT
BEGIN:VEVENT
DTSTART;TZID=America/New_York:20241206T100000
DTEND;TZID=America/New_York:20241206T143000
DTSTAMP:20260424T083148
CREATED:20240118T225334Z
LAST-MODIFIED:20240815T224313Z
UID:4524-1733479200-1733495400@www.historicmedley.org
SUMMARY:Jennifer Solomon Homeschoolers
DESCRIPTION:Christmas class
URL:https://www.historicmedley.org/event/jennifer-solomon-homeschoolers/
LOCATION:Seneca Schoolhouse
CATEGORIES:Seneca Schoolhouse
ORGANIZER;CN="Jennifer Solomon":MAILTO:jennifer.solomon@gmail.com
END:VEVENT
BEGIN:VEVENT
DTSTART;TZID=America/New_York:20241205T100000
DTEND;TZID=America/New_York:20241205T143000
DTSTAMP:20260424T083148
CREATED:20240926T024715Z
LAST-MODIFIED:20240926T024715Z
UID:5404-1733392800-1733409000@www.historicmedley.org
SUMMARY:Adventure Club
DESCRIPTION:Christmas Class \nBaltimore Bible Church
URL:https://www.historicmedley.org/event/adventure-club/
LOCATION:Seneca Schoolhouse
ORGANIZER;CN="Mengning":MAILTO:sacilicas@gmail.com
END:VEVENT
BEGIN:VEVENT
DTSTART;TZID=America/New_York:20241204T100000
DTEND;TZID=America/New_York:20241204T140000
DTSTAMP:20260424T083148
CREATED:20241024T234217Z
LAST-MODIFIED:20241024T234217Z
UID:5521-1733306400-1733320800@www.historicmedley.org
SUMMARY:St. Martin of Tours
DESCRIPTION:4th grade
URL:https://www.historicmedley.org/event/st-martin-of-tours-4/
LOCATION:Seneca Schoolhouse
ORGANIZER;CN="Emily McDonald":MAILTO:emcdonald@smsmd.org
END:VEVENT
BEGIN:VEVENT
DTSTART;TZID=America/New_York:20241204T100000
DTEND;TZID=America/New_York:20241204T140000
DTSTAMP:20260424T083148
CREATED:20241007T021921Z
LAST-MODIFIED:20241007T021921Z
UID:5421-1733306400-1733320800@www.historicmedley.org
SUMMARY:St. Martin of Tours
DESCRIPTION:
URL:https://www.historicmedley.org/event/st-martin-of-tours-3/
LOCATION:Seneca Schoolhouse
END:VEVENT
BEGIN:VEVENT
DTSTART;TZID=America/New_York:20241203T100000
DTEND;TZID=America/New_York:20241203T143000
DTSTAMP:20260424T083148
CREATED:20240926T024212Z
LAST-MODIFIED:20240926T024212Z
UID:5401-1733220000-1733236200@www.historicmedley.org
SUMMARY:Classical Conversations of Burke\, VA
DESCRIPTION:Christmas class
URL:https://www.historicmedley.org/event/classical-conversations-of-burke-va-4/
LOCATION:Seneca Schoolhouse
ORGANIZER;CN="Beth Chuway":MAILTO:bchuway@gmail.com
END:VEVENT
BEGIN:VEVENT
DTSTART;TZID=America/New_York:20241202T100000
DTEND;TZID=America/New_York:20241202T140000
DTSTAMP:20260424T083148
CREATED:20241024T234003Z
LAST-MODIFIED:20241024T234003Z
UID:5518-1733133600-1733148000@www.historicmedley.org
SUMMARY:St. Martin of Tours School
DESCRIPTION:5th grade
URL:https://www.historicmedley.org/event/st-martin-of-tours-school/
LOCATION:Seneca Schoolhouse
ORGANIZER;CN="Emily McDonald":MAILTO:emcdonald@smsmd.org
END:VEVENT
BEGIN:VEVENT
DTSTART;TZID=America/New_York:20241202T100000
DTEND;TZID=America/New_York:20241202T140000
DTSTAMP:20260424T083148
CREATED:20241007T021829Z
LAST-MODIFIED:20241007T021829Z
UID:5419-1733133600-1733148000@www.historicmedley.org
SUMMARY:St. Martin of Tours
DESCRIPTION:
URL:https://www.historicmedley.org/event/st-martin-of-tours-2/
LOCATION:Seneca Schoolhouse
END:VEVENT
BEGIN:VEVENT
DTSTART;TZID=America/New_York:20241129T080000
DTEND;TZID=America/New_York:20241129T170000
DTSTAMP:20260424T083148
CREATED:20240822T154451Z
LAST-MODIFIED:20240822T154451Z
UID:5342-1732867200-1732899600@www.historicmedley.org
SUMMARY:Seneca Schoolhouse closed
DESCRIPTION:
URL:https://www.historicmedley.org/event/seneca-schoolhouse-closed-13/
END:VEVENT
BEGIN:VEVENT
DTSTART;TZID=America/New_York:20241128T080000
DTEND;TZID=America/New_York:20241128T170000
DTSTAMP:20260424T083148
CREATED:20240822T154409Z
LAST-MODIFIED:20240822T154409Z
UID:5340-1732780800-1732813200@www.historicmedley.org
SUMMARY:Thanksgiving - Seneca Schoolhouse closed
DESCRIPTION:
URL:https://www.historicmedley.org/event/thanksgiving-seneca-schoolhouse-closed/
END:VEVENT
BEGIN:VEVENT
DTSTART;TZID=America/New_York:20241127T080000
DTEND;TZID=America/New_York:20241127T170000
DTSTAMP:20260424T083148
CREATED:20240822T154323Z
LAST-MODIFIED:20240822T154323Z
UID:5338-1732694400-1732726800@www.historicmedley.org
SUMMARY:Seneca Schoolhouse closed
DESCRIPTION:
URL:https://www.historicmedley.org/event/seneca-schoolhouse-closed-12/
END:VEVENT
BEGIN:VEVENT
DTSTART;TZID=America/New_York:20241126T080000
DTEND;TZID=America/New_York:20241126T170000
DTSTAMP:20260424T083148
CREATED:20240822T154244Z
LAST-MODIFIED:20240822T154244Z
UID:5336-1732608000-1732640400@www.historicmedley.org
SUMMARY:Seneca Schoolhouse closed
DESCRIPTION:
URL:https://www.historicmedley.org/event/seneca-schoolhouse-closed-11/
LOCATION:Seneca Schoolhouse
END:VEVENT
BEGIN:VEVENT
DTSTART;TZID=America/New_York:20241125T100000
DTEND;TZID=America/New_York:20241125T140000
DTSTAMP:20260424T083148
CREATED:20240719T023833Z
LAST-MODIFIED:20240719T023833Z
UID:5280-1732528800-1732543200@www.historicmedley.org
SUMMARY:North Carroll Community School
DESCRIPTION:2nd and 3rd graders \n20 students
URL:https://www.historicmedley.org/event/north-carroll-community-school-2/
LOCATION:Seneca Schoolhouse
ORGANIZER;CN="Sarah Rose":MAILTO:sarahrose@nccs.school
END:VEVENT
BEGIN:VEVENT
DTSTART;TZID=America/New_York:20241122T100000
DTEND;TZID=America/New_York:20241122T143000
DTSTAMP:20260424T083148
CREATED:20241103T143032Z
LAST-MODIFIED:20241103T143032Z
UID:5559-1732269600-1732285800@www.historicmedley.org
SUMMARY:Bowie Catholic Homeschoolers
DESCRIPTION:Thanksgiving class \nStephanie teaching
URL:https://www.historicmedley.org/event/bowie-catholic-homeschoolers/
LOCATION:Seneca Schoolhouse
ORGANIZER;CN="Carah Tabar":MAILTO:carahtabar@googlemail.com
END:VEVENT
BEGIN:VEVENT
DTSTART;TZID=America/New_York:20241121T100000
DTEND;TZID=America/New_York:20241121T140000
DTSTAMP:20260424T083148
CREATED:20240719T023512Z
LAST-MODIFIED:20240719T023512Z
UID:5277-1732183200-1732197600@www.historicmedley.org
SUMMARY:North Carroll Community School
DESCRIPTION:2nd and 3rd graders \n2 classes  – 20 students in each
URL:https://www.historicmedley.org/event/north-carroll-community-school/
LOCATION:Seneca Schoolhouse
ORGANIZER;CN="Katelyn Rhoads":MAILTO:katelyn@nccs.school
END:VEVENT
BEGIN:VEVENT
DTSTART;TZID=America/New_York:20241120T100000
DTEND;TZID=America/New_York:20241120T143000
DTSTAMP:20260424T083148
CREATED:20240822T152805Z
LAST-MODIFIED:20240822T152805Z
UID:5328-1732096800-1732113000@www.historicmedley.org
SUMMARY:Wednesday Morning Explorers
DESCRIPTION:Thanksgiving class
URL:https://www.historicmedley.org/event/wednesday-morning-explorers/
LOCATION:Seneca Schoolhouse
ORGANIZER;CN="Susan Mathis":MAILTO:jsmathis@comcast.net
END:VEVENT
BEGIN:VEVENT
DTSTART;TZID=America/New_York:20241119T100000
DTEND;TZID=America/New_York:20241119T143000
DTSTAMP:20260424T083148
CREATED:20240719T021922Z
LAST-MODIFIED:20240719T021922Z
UID:5274-1732010400-1732026600@www.historicmedley.org
SUMMARY:Homesteaders Homeschool Group
DESCRIPTION:Thanksgiving Class
URL:https://www.historicmedley.org/event/homesteaders-homeschool-group-8/
LOCATION:Seneca Schoolhouse
ORGANIZER;CN="Kathryn Norvedt":MAILTO:mommy2ellianna@gmail.com
END:VEVENT
BEGIN:VEVENT
DTSTART;TZID=America/New_York:20241118T100000
DTEND;TZID=America/New_York:20241118T140000
DTSTAMP:20260424T083148
CREATED:20240918T142828Z
LAST-MODIFIED:20240918T142828Z
UID:5387-1731924000-1731938400@www.historicmedley.org
SUMMARY:Classical Conversations of Rockville
DESCRIPTION:Traditional class \nAttended Thanksgving class last year
URL:https://www.historicmedley.org/event/classical-conversations-of-rockville-3/
LOCATION:Seneca Schoolhouse
ORGANIZER;CN="Patricia Malone":MAILTO:andy_tricia@hotmail.com
END:VEVENT
BEGIN:VEVENT
DTSTART;TZID=America/New_York:20241115T100000
DTEND;TZID=America/New_York:20241115T143000
DTSTAMP:20260424T083148
CREATED:20240118T225111Z
LAST-MODIFIED:20240118T225111Z
UID:4522-1731664800-1731681000@www.historicmedley.org
SUMMARY:PAX Academy
DESCRIPTION:Thanksgiving Class \nFirst time in January 2024 for an 1880s school day class
URL:https://www.historicmedley.org/event/pax-academy-2/
LOCATION:Seneca Schoolhouse
ORGANIZER;CN="Angela Harders":MAILTO:info@paxacademy.org
END:VEVENT
END:VCALENDAR