BEGIN:VCALENDAR
VERSION:2.0
PRODID:-//Historic Medley District - ECPv6.15.20//NONSGML v1.0//EN
CALSCALE:GREGORIAN
METHOD:PUBLISH
X-WR-CALNAME:Historic Medley District
X-ORIGINAL-URL:https://www.historicmedley.org
X-WR-CALDESC:Events for Historic Medley District
REFRESH-INTERVAL;VALUE=DURATION:PT1H
X-Robots-Tag:noindex
X-PUBLISHED-TTL:PT1H
BEGIN:VTIMEZONE
TZID:America/New_York
BEGIN:DAYLIGHT
TZOFFSETFROM:-0500
TZOFFSETTO:-0400
TZNAME:EDT
DTSTART:20210314T070000
END:DAYLIGHT
BEGIN:STANDARD
TZOFFSETFROM:-0400
TZOFFSETTO:-0500
TZNAME:EST
DTSTART:20211107T060000
END:STANDARD
BEGIN:DAYLIGHT
TZOFFSETFROM:-0500
TZOFFSETTO:-0400
TZNAME:EDT
DTSTART:20220313T070000
END:DAYLIGHT
BEGIN:STANDARD
TZOFFSETFROM:-0400
TZOFFSETTO:-0500
TZNAME:EST
DTSTART:20221106T060000
END:STANDARD
BEGIN:DAYLIGHT
TZOFFSETFROM:-0500
TZOFFSETTO:-0400
TZNAME:EDT
DTSTART:20230312T070000
END:DAYLIGHT
BEGIN:STANDARD
TZOFFSETFROM:-0400
TZOFFSETTO:-0500
TZNAME:EST
DTSTART:20231105T060000
END:STANDARD
END:VTIMEZONE
BEGIN:VEVENT
DTSTART;TZID=America/New_York:20221026T100000
DTEND;TZID=America/New_York:20221026T140000
DTSTAMP:20260425T232642
CREATED:20220919T002249Z
LAST-MODIFIED:20220919T002249Z
UID:3585-1666778400-1666792800@www.historicmedley.org
SUMMARY:St. Andrew's Episcopal School
DESCRIPTION:17 4th graders
URL:https://www.historicmedley.org/event/st-andrews-episcopal-school-3/
LOCATION:Seneca Schoolhouse
ORGANIZER;CN="Megan Rogge":MAILTO:mrogge@saes.org
END:VEVENT
BEGIN:VEVENT
DTSTART;TZID=America/New_York:20221024T100000
DTEND;TZID=America/New_York:20221024T140000
DTSTAMP:20260425T232642
CREATED:20221002T185029Z
LAST-MODIFIED:20221002T185029Z
UID:3609-1666605600-1666620000@www.historicmedley.org
SUMMARY:Autumn Metzger's Darnestown Group
DESCRIPTION:MoCo students organized by a parent. 2nd – 7th graders \n 
URL:https://www.historicmedley.org/event/autumn-metzgers-darnestown-group/
LOCATION:Seneca Schoolhouse
ORGANIZER;CN="Autumn Metzger":MAILTO:metzger.autumn@gmail.com
END:VEVENT
BEGIN:VEVENT
DTSTART;TZID=America/New_York:20221021T100000
DTEND;TZID=America/New_York:20221021T143000
DTSTAMP:20260425T232642
CREATED:20220901T012622Z
LAST-MODIFIED:20220901T012622Z
UID:3554-1666346400-1666362600@www.historicmedley.org
SUMMARY:St. Joseph's School
DESCRIPTION:Martinsburg\, WV
URL:https://www.historicmedley.org/event/st-josephs-school-2/
LOCATION:Seneca Schoolhouse
ORGANIZER;CN="Vanessa Smith":MAILTO:vsmith@sjswv.org
END:VEVENT
BEGIN:VEVENT
DTSTART;TZID=America/New_York:20221014T100000
DTEND;TZID=America/New_York:20221014T140000
DTSTAMP:20260425T232642
CREATED:20220831T030532Z
LAST-MODIFIED:20220831T030532Z
UID:3491-1665741600-1665756000@www.historicmedley.org
SUMMARY:STAT
DESCRIPTION:25 – 28 students
URL:https://www.historicmedley.org/event/stat/
LOCATION:Seneca Schoolhouse
ORGANIZER;CN="Katlyn McGrath":MAILTO:kaitlyn.m.mcgrath@gamil.com
END:VEVENT
BEGIN:VEVENT
DTSTART;TZID=America/New_York:20221013T100000
DTEND;TZID=America/New_York:20221013T140000
DTSTAMP:20260425T232642
CREATED:20220831T030109Z
LAST-MODIFIED:20220831T030109Z
UID:3488-1665655200-1665669600@www.historicmedley.org
SUMMARY:Team Homeschool
DESCRIPTION:Traditional 1880s school day
URL:https://www.historicmedley.org/event/team-homeschool/
LOCATION:Seneca Schoolhouse
ORGANIZER;CN="Adrienne Kyzar":MAILTO:my2bubbleguppies@gmail.com
END:VEVENT
BEGIN:VEVENT
DTSTART;TZID=America/New_York:20220608T100000
DTEND;TZID=America/New_York:20220608T140000
DTSTAMP:20260425T232642
CREATED:20220527T011239Z
LAST-MODIFIED:20220527T011239Z
UID:3375-1654682400-1654696800@www.historicmedley.org
SUMMARY:French International School
DESCRIPTION:2nd graders who missed out last year
URL:https://www.historicmedley.org/event/french-international-school-21/
LOCATION:Seneca Schoolhouse
ORGANIZER;CN="Natalie Wagner":MAILTO:wagnern@rochambeau.org
END:VEVENT
BEGIN:VEVENT
DTSTART;TZID=America/New_York:20220607T090000
DTEND;TZID=America/New_York:20220607T130000
DTSTAMP:20260425T232642
CREATED:20220527T011045Z
LAST-MODIFIED:20220527T011045Z
UID:3372-1654592400-1654606800@www.historicmedley.org
SUMMARY:Butler Montessori
DESCRIPTION:6 – 9 year olds
URL:https://www.historicmedley.org/event/butler-montessori-3/
LOCATION:Seneca Schoolhouse
ORGANIZER;CN="Rainey":MAILTO:rainey@butlerschool.org
END:VEVENT
BEGIN:VEVENT
DTSTART;TZID=America/New_York:20220603T080000
DTEND;TZID=America/New_York:20220603T170000
DTSTAMP:20260425T232642
CREATED:20220318T012136Z
LAST-MODIFIED:20220318T012136Z
UID:3335-1654243200-1654275600@www.historicmedley.org
SUMMARY:Carderock Elementary School
DESCRIPTION:1st time attending SSH \n2nd grade
URL:https://www.historicmedley.org/event/carderock-elementary-school/
LOCATION:Seneca Schoolhouse
ORGANIZER;CN="Jessica Kasenetz":MAILTO:jessica_y_kasenetz@mcpsmd.org
END:VEVENT
BEGIN:VEVENT
DTSTART;TZID=America/New_York:20220602T100000
DTEND;TZID=America/New_York:20220602T140000
DTSTAMP:20260425T232642
CREATED:20220405T040228Z
LAST-MODIFIED:20220405T040228Z
UID:3364-1654164000-1654178400@www.historicmedley.org
SUMMARY:Montgomery County Homeschoolers
DESCRIPTION:
URL:https://www.historicmedley.org/event/montgomery-county-homeschoolers/
LOCATION:Seneca Schoolhouse
ORGANIZER;CN="Jordan Clark":MAILTO:jordanmclark11@gmail.com
END:VEVENT
BEGIN:VEVENT
DTSTART;TZID=America/New_York:20220601T100000
DTEND;TZID=America/New_York:20220601T130000
DTSTAMP:20260425T232642
CREATED:20220318T012003Z
LAST-MODIFIED:20220318T012003Z
UID:3333-1654077600-1654088400@www.historicmedley.org
SUMMARY:Carderock Springs Elementary School
DESCRIPTION:1st time attending SSH \n2nd grade
URL:https://www.historicmedley.org/event/carderock-springs-elementary-school-2/
LOCATION:Seneca Schoolhouse
ORGANIZER;CN="Jessica Kasenetz":MAILTO:jessica_y_kasenetz@mcpsmd.org
END:VEVENT
BEGIN:VEVENT
DTSTART;TZID=America/New_York:20220531T100000
DTEND;TZID=America/New_York:20220531T130000
DTSTAMP:20260425T232642
CREATED:20220318T011719Z
LAST-MODIFIED:20220318T011719Z
UID:3330-1653991200-1654002000@www.historicmedley.org
SUMMARY:Carderock Springs Elementary School
DESCRIPTION:1st time attending SSH \n2nd graders
URL:https://www.historicmedley.org/event/carderock-springs-elementary-school/
LOCATION:Seneca Schoolhouse
ORGANIZER;CN="Jessica Kasenetz":MAILTO:jessica_y_kasenetz@mcpsmd.org
END:VEVENT
BEGIN:VEVENT
DTSTART;TZID=America/New_York:20220527T100000
DTEND;TZID=America/New_York:20220527T140000
DTSTAMP:20260425T232642
CREATED:20220310T003811Z
LAST-MODIFIED:20220310T003811Z
UID:3302-1653645600-1653660000@www.historicmedley.org
SUMMARY:Jone Lane Elementary
DESCRIPTION:4th grade
URL:https://www.historicmedley.org/event/jone-lane-elementary/
LOCATION:Seneca Schoolhouse
ORGANIZER;CN="Debbi Tehrani":MAILTO:debra_m_shoaeetehrani@mcpsmd.org
END:VEVENT
BEGIN:VEVENT
DTSTART;TZID=America/New_York:20220526T100000
DTEND;TZID=America/New_York:20220526T140000
DTSTAMP:20260425T232642
CREATED:20220310T003556Z
LAST-MODIFIED:20220310T003556Z
UID:3300-1653559200-1653573600@www.historicmedley.org
SUMMARY:Jones Lane Elementary
DESCRIPTION:4th grade
URL:https://www.historicmedley.org/event/jones-lane-elementary-11/
LOCATION:Seneca Schoolhouse
ORGANIZER;CN="Debbi Tehrani":MAILTO:debra_m_shoaeetehrani@mcpsmd.org
END:VEVENT
BEGIN:VEVENT
DTSTART;TZID=America/New_York:20220525T100000
DTEND;TZID=America/New_York:20220525T140000
DTSTAMP:20260425T232642
CREATED:20220301T144544Z
LAST-MODIFIED:20220301T144544Z
UID:3286-1653472800-1653487200@www.historicmedley.org
SUMMARY:St. Jane de Chatal
DESCRIPTION:18 2nd graders
URL:https://www.historicmedley.org/event/st-jane-de-chatal/
LOCATION:Seneca Schoolhouse
ORGANIZER;CN="Dee Lozupone":MAILTO:dlozupone@dechantal.org
END:VEVENT
BEGIN:VEVENT
DTSTART;TZID=America/New_York:20220524T100000
DTEND;TZID=America/New_York:20220524T140000
DTSTAMP:20260425T232642
CREATED:20220301T144413Z
LAST-MODIFIED:20220301T144413Z
UID:3284-1653386400-1653400800@www.historicmedley.org
SUMMARY:St. Jane de Chantal
DESCRIPTION:18 2nd graders
URL:https://www.historicmedley.org/event/st-jane-de-chantal-7/
LOCATION:Seneca Schoolhouse
ORGANIZER;CN="Dee Lozupone":MAILTO:dlozupone@dechantal.org
END:VEVENT
BEGIN:VEVENT
DTSTART;TZID=America/New_York:20220523T100000
DTEND;TZID=America/New_York:20220523T140000
DTSTAMP:20260425T232642
CREATED:20220301T144250Z
LAST-MODIFIED:20220301T144250Z
UID:3281-1653300000-1653314400@www.historicmedley.org
SUMMARY:Holy Cross School
DESCRIPTION:26 2nd graders
URL:https://www.historicmedley.org/event/holy-cross-school/
LOCATION:Seneca Schoolhouse
END:VEVENT
BEGIN:VEVENT
DTSTART;TZID=America/New_York:20220521T080000
DTEND;TZID=America/New_York:20220521T170000
DTSTAMP:20260425T232642
CREATED:20220121T033611Z
LAST-MODIFIED:20220121T033611Z
UID:3257-1653120000-1653152400@www.historicmedley.org
SUMMARY:Bacansis Birthday Party
DESCRIPTION:
URL:https://www.historicmedley.org/event/bacansis-birthday-party/
LOCATION:Seneca Schoolhouse
ORGANIZER;CN="Lora Bacanskas":MAILTO:lbacanskas@aol.com
END:VEVENT
BEGIN:VEVENT
DTSTART;TZID=America/New_York:20220520T100000
DTEND;TZID=America/New_York:20220520T140000
DTSTAMP:20260425T232642
CREATED:20220310T003028Z
LAST-MODIFIED:20220310T003028Z
UID:3298-1653040800-1653055200@www.historicmedley.org
SUMMARY:Jones Lane Elementary
DESCRIPTION:4th grade
URL:https://www.historicmedley.org/event/jones-lane-elementary-10/
LOCATION:Seneca Schoolhouse
ORGANIZER;CN="Debbi Tehrani":MAILTO:debra_m_shoaeetehrani@mcpsmd.org
END:VEVENT
BEGIN:VEVENT
DTSTART;TZID=America/New_York:20220519T100000
DTEND;TZID=America/New_York:20220519T140000
DTSTAMP:20260425T232642
CREATED:20220430T130130Z
LAST-MODIFIED:20220430T130130Z
UID:3368-1652954400-1652968800@www.historicmedley.org
SUMMARY:St. Thomas More Academy
DESCRIPTION:3rd and 4th grades – 25 students \nProspect Street Middletown\, MD
URL:https://www.historicmedley.org/event/st-thomas-more-academy-2/
LOCATION:Seneca Schoolhouse
ORGANIZER;CN="Karly Houldsworth":MAILTO:houldsworthk@stmamd.org
END:VEVENT
BEGIN:VEVENT
DTSTART;TZID=America/New_York:20220518T100000
DTEND;TZID=America/New_York:20220518T140000
DTSTAMP:20260425T232642
CREATED:20220318T010802Z
LAST-MODIFIED:20220318T010802Z
UID:3325-1652868000-1652882400@www.historicmedley.org
SUMMARY:Hyattsville Home Academy
DESCRIPTION:Stephanie Runkles subbing
URL:https://www.historicmedley.org/event/hyattsville-home-academy-2/
LOCATION:Seneca Schoolhouse
ORGANIZER;CN="Lindsay Weldon":MAILTO:lindsayeweldon@gmail.com
END:VEVENT
BEGIN:VEVENT
DTSTART;TZID=America/New_York:20220517T100000
DTEND;TZID=America/New_York:20220517T140000
DTSTAMP:20260425T232642
CREATED:20220322T125823Z
LAST-MODIFIED:20220322T125823Z
UID:3343-1652781600-1652796000@www.historicmedley.org
SUMMARY:Butler School
DESCRIPTION:Ages 6 – 9
URL:https://www.historicmedley.org/event/butler-school/
LOCATION:Seneca Schoolhouse
ORGANIZER;CN="Anastasia Jantz":MAILTO:anastasia@butlerschool.org
END:VEVENT
BEGIN:VEVENT
DTSTART;TZID=America/New_York:20220516T100000
DTEND;TZID=America/New_York:20220516T140000
DTSTAMP:20260425T232642
CREATED:20220318T010601Z
LAST-MODIFIED:20220318T010601Z
UID:3322-1652695200-1652709600@www.historicmedley.org
SUMMARY:Hyattsville Home Academy
DESCRIPTION:Stephanie subbing \nMarie Meszaros coordinator for the day for Lindsay Weldon who is coming with Wednesday’s group
URL:https://www.historicmedley.org/event/hyattsville-home-academy/
LOCATION:Seneca Schoolhouse
ORGANIZER;CN="Lindsay Weldon":MAILTO:lindsayeweldon@gmail.com
END:VEVENT
BEGIN:VEVENT
DTSTART;TZID=America/New_York:20220513T100000
DTEND;TZID=America/New_York:20220513T140000
DTSTAMP:20260425T232642
CREATED:20220403T141650Z
LAST-MODIFIED:20220403T141650Z
UID:3359-1652436000-1652450400@www.historicmedley.org
SUMMARY:Timonium's Coughlin's Homeschool Group
DESCRIPTION:Up to 28 students of varying ages \nStephanie subbing for Julie
URL:https://www.historicmedley.org/event/timoniums-coughlins-homeschool-group/
LOCATION:Seneca Schoolhouse
ORGANIZER;CN="Johanna Coughlin":MAILTO:coughlinschoolhouse@gmail.com
END:VEVENT
BEGIN:VEVENT
DTSTART;TZID=America/New_York:20220511T100000
DTEND;TZID=America/New_York:20220511T140000
DTSTAMP:20260425T232642
CREATED:20220121T025347Z
LAST-MODIFIED:20220121T025347Z
UID:3252-1652263200-1652277600@www.historicmedley.org
SUMMARY:French International School
DESCRIPTION:
URL:https://www.historicmedley.org/event/french-international-school-20/
LOCATION:Seneca Schoolhouse
ORGANIZER;CN="Leslie Dorit":MAILTO:ldorit@rochambeau.org
END:VEVENT
BEGIN:VEVENT
DTSTART;TZID=America/New_York:20220510T100000
DTEND;TZID=America/New_York:20220510T140000
DTSTAMP:20260425T232642
CREATED:20220301T140623Z
LAST-MODIFIED:20220301T140623Z
UID:3267-1652176800-1652191200@www.historicmedley.org
SUMMARY:Washington Waldorf School
DESCRIPTION:19 4th graders
URL:https://www.historicmedley.org/event/washington-waldorf-school-3/
LOCATION:Seneca Schoolhouse
END:VEVENT
BEGIN:VEVENT
DTSTART;TZID=America/New_York:20220509T100000
DTEND;TZID=America/New_York:20220509T140000
DTSTAMP:20260425T232642
CREATED:20220121T025225Z
LAST-MODIFIED:20220121T025225Z
UID:3250-1652090400-1652104800@www.historicmedley.org
SUMMARY:French International School
DESCRIPTION:
URL:https://www.historicmedley.org/event/french-international-school-19/
LOCATION:Seneca Schoolhouse
ORGANIZER;CN="Leslie Dorit":MAILTO:ldorit@rochambeau.org
END:VEVENT
BEGIN:VEVENT
DTSTART;TZID=America/New_York:20220506T100000
DTEND;TZID=America/New_York:20220506T140000
DTSTAMP:20260425T232642
CREATED:20220121T024657Z
LAST-MODIFIED:20220121T024657Z
UID:3246-1651831200-1651845600@www.historicmedley.org
SUMMARY:French International School
DESCRIPTION:
URL:https://www.historicmedley.org/event/french-international-school-17/
LOCATION:Seneca Schoolhouse
END:VEVENT
BEGIN:VEVENT
DTSTART;TZID=America/New_York:20220505T100000
DTEND;TZID=America/New_York:20220505T140000
DTSTAMP:20260425T232642
CREATED:20220121T024349Z
LAST-MODIFIED:20220121T024539Z
UID:3244-1651744800-1651759200@www.historicmedley.org
SUMMARY:French International School
DESCRIPTION:
URL:https://www.historicmedley.org/event/french-international-school-16/
LOCATION:Seneca Schoolhouse
END:VEVENT
BEGIN:VEVENT
DTSTART;TZID=America/New_York:20220504T100000
DTEND;TZID=America/New_York:20220504T140000
DTSTAMP:20260425T232642
CREATED:20220121T025016Z
LAST-MODIFIED:20220121T025016Z
UID:3248-1651658400-1651672800@www.historicmedley.org
SUMMARY:French International School
DESCRIPTION:
URL:https://www.historicmedley.org/event/french-international-school-18/
LOCATION:Seneca Schoolhouse
END:VEVENT
BEGIN:VEVENT
DTSTART;TZID=America/New_York:20220503T100000
DTEND;TZID=America/New_York:20220503T140000
DTSTAMP:20260425T232642
CREATED:20220309T141317Z
LAST-MODIFIED:20220309T141317Z
UID:3292-1651572000-1651586400@www.historicmedley.org
SUMMARY:St. Jane de Chantal
DESCRIPTION:3rd grade
URL:https://www.historicmedley.org/event/st-jane-de-chantal-9/
LOCATION:Seneca Schoolhouse
END:VEVENT
END:VCALENDAR