BEGIN:VCALENDAR
VERSION:2.0
PRODID:-//Historic Medley District - ECPv6.15.20//NONSGML v1.0//EN
CALSCALE:GREGORIAN
METHOD:PUBLISH
X-WR-CALNAME:Historic Medley District
X-ORIGINAL-URL:https://www.historicmedley.org
X-WR-CALDESC:Events for Historic Medley District
REFRESH-INTERVAL;VALUE=DURATION:PT1H
X-Robots-Tag:noindex
X-PUBLISHED-TTL:PT1H
BEGIN:VTIMEZONE
TZID:America/New_York
BEGIN:DAYLIGHT
TZOFFSETFROM:-0500
TZOFFSETTO:-0400
TZNAME:EDT
DTSTART:20230312T070000
END:DAYLIGHT
BEGIN:STANDARD
TZOFFSETFROM:-0400
TZOFFSETTO:-0500
TZNAME:EST
DTSTART:20231105T060000
END:STANDARD
BEGIN:DAYLIGHT
TZOFFSETFROM:-0500
TZOFFSETTO:-0400
TZNAME:EDT
DTSTART:20240310T070000
END:DAYLIGHT
BEGIN:STANDARD
TZOFFSETFROM:-0400
TZOFFSETTO:-0500
TZNAME:EST
DTSTART:20241103T060000
END:STANDARD
BEGIN:DAYLIGHT
TZOFFSETFROM:-0500
TZOFFSETTO:-0400
TZNAME:EDT
DTSTART:20250309T070000
END:DAYLIGHT
BEGIN:STANDARD
TZOFFSETFROM:-0400
TZOFFSETTO:-0500
TZNAME:EST
DTSTART:20251102T060000
END:STANDARD
END:VTIMEZONE
BEGIN:VEVENT
DTSTART;TZID=America/New_York:20241111T100000
DTEND;TZID=America/New_York:20241111T140000
DTSTAMP:20260425T100701
CREATED:20240926T020004Z
LAST-MODIFIED:20240926T020004Z
UID:5394-1731319200-1731333600@www.historicmedley.org
SUMMARY:Wayside Elementary School
DESCRIPTION:First time attending \n4th grade \n18 students
URL:https://www.historicmedley.org/event/wayside-elementary-school/
LOCATION:Seneca Schoolhouse
ORGANIZER;CN="Kayla Bajwa":MAILTO:Kayla_R_Bajwa@mcpsmd.org
END:VEVENT
BEGIN:VEVENT
DTSTART;TZID=America/New_York:20241108T100000
DTEND;TZID=America/New_York:20241108T143000
DTSTAMP:20260425T100701
CREATED:20240719T020134Z
LAST-MODIFIED:20240719T020134Z
UID:5268-1731060000-1731076200@www.historicmedley.org
SUMMARY:Classical Conversations of Woodbridge
DESCRIPTION:Thanksgiving Class
URL:https://www.historicmedley.org/event/classical-conversations-of-woodbridge/
LOCATION:Seneca Schoolhouse
ORGANIZER;CN="Rachel Trumbore":MAILTO:racheltrumbore@gmail.com
END:VEVENT
BEGIN:VEVENT
DTSTART;TZID=America/New_York:20241107T100000
DTEND;TZID=America/New_York:20241107T143000
DTSTAMP:20260425T100701
CREATED:20240314T182923Z
LAST-MODIFIED:20240314T182923Z
UID:5027-1730973600-1730989800@www.historicmedley.org
SUMMARY:Charlotte Circle Homeschool Group
DESCRIPTION:Thanksgiving class
URL:https://www.historicmedley.org/event/charlotte-circle-homeschool-group/
LOCATION:Seneca Schoolhouse
ORGANIZER;CN="Nicole Davol":MAILTO:nicole.davol@gmail.com
END:VEVENT
BEGIN:VEVENT
DTSTART;TZID=America/New_York:20241105T100000
DTEND;TZID=America/New_York:20241105T143000
DTSTAMP:20260425T100701
CREATED:20241012T142455Z
LAST-MODIFIED:20241012T142455Z
UID:5464-1730800800-1730817000@www.historicmedley.org
SUMMARY:TORCH
DESCRIPTION:Thanksgiving class
URL:https://www.historicmedley.org/event/torch/
LOCATION:Seneca Schoolhouse
ORGANIZER;CN="Ellen Higham":MAILTO:wheelhead1990@gmail.com
END:VEVENT
BEGIN:VEVENT
DTSTART;TZID=America/New_York:20241104T100000
DTEND;TZID=America/New_York:20241104T143000
DTSTAMP:20260425T100701
CREATED:20240822T190733Z
LAST-MODIFIED:20240822T190733Z
UID:5344-1730714400-1730730600@www.historicmedley.org
SUMMARY:Capital Baptist Co-op
DESCRIPTION:Thanksgiving class
URL:https://www.historicmedley.org/event/capital-baptist-co-op/
LOCATION:Seneca Schoolhouse
ORGANIZER;CN="Katie Hardy":MAILTO:katiehardy2612@gmail.com
END:VEVENT
BEGIN:VEVENT
DTSTART;TZID=America/New_York:20241101T100000
DTEND;TZID=America/New_York:20241101T143000
DTSTAMP:20260425T100701
CREATED:20240719T020719Z
LAST-MODIFIED:20240719T020719Z
UID:5272-1730455200-1730471400@www.historicmedley.org
SUMMARY:Capital Co-op/Fort Belvoir Homeschool Group
DESCRIPTION:Thanksgiving Class
URL:https://www.historicmedley.org/event/capital-co-op-fort-belvoir-homeschool-group-2/
LOCATION:Seneca Schoolhouse
ORGANIZER;CN="Heidi Fahrner":MAILTO:carpediemcorumdeo@yahoo.com
END:VEVENT
BEGIN:VEVENT
DTSTART;TZID=America/New_York:20241031T100000
DTEND;TZID=America/New_York:20241031T140000
DTSTAMP:20260425T100701
CREATED:20240918T142702Z
LAST-MODIFIED:20240918T142702Z
UID:5384-1730368800-1730383200@www.historicmedley.org
SUMMARY:Fernwood Montessori School
DESCRIPTION:18 students between 2nd and 6th grades \n  \nFirst time attending a field trip
URL:https://www.historicmedley.org/event/fernwood-montessori-school/
LOCATION:Seneca Schoolhouse
ORGANIZER;CN="Lisa Ruas":MAILTO:Elementary@fernwoodmontessori.com
END:VEVENT
BEGIN:VEVENT
DTSTART;TZID=America/New_York:20241029T100000
DTEND;TZID=America/New_York:20241029T130000
DTSTAMP:20260425T100701
CREATED:20240928T024901Z
LAST-MODIFIED:20240928T024901Z
UID:5411-1730196000-1730206800@www.historicmedley.org
SUMMARY:The Banner School
DESCRIPTION:Eleven kindergarteners
URL:https://www.historicmedley.org/event/the-banner-school-3/
LOCATION:Seneca Schoolhouse
ORGANIZER;CN="Jessie Leatherman":MAILTO:jleatherman@bannerschool.org
END:VEVENT
BEGIN:VEVENT
DTSTART;TZID=America/New_York:20241028T100000
DTEND;TZID=America/New_York:20241028T140000
DTSTAMP:20260425T100701
CREATED:20240829T024908Z
LAST-MODIFIED:20240829T024908Z
UID:5362-1730109600-1730124000@www.historicmedley.org
SUMMARY:Concord Hill
DESCRIPTION:3rd grade
URL:https://www.historicmedley.org/event/concord-hill-4/
LOCATION:Seneca Schoolhouse
ORGANIZER;CN="Colleen Massaquoi":MAILTO:cmassaquoi@concordhill.org
END:VEVENT
BEGIN:VEVENT
DTSTART;TZID=America/New_York:20241026T190000
DTEND;TZID=America/New_York:20241026T220000
DTSTAMP:20260425T100701
CREATED:20241007T020659Z
LAST-MODIFIED:20241007T022303Z
UID:5417-1729969200-1729980000@www.historicmedley.org
SUMMARY:HMD Ghost Tours
DESCRIPTION:Family Tour – 7:00 pm \nAdult Tour – 9:00 pm
URL:https://www.historicmedley.org/event/hmd-ghost-tour/
LOCATION:John Poole House\, 19923 Fisher Avenue\, Poolesville\, MD\, 20837\, United States
END:VEVENT
BEGIN:VEVENT
DTSTART;TZID=America/New_York:20241025T190000
DTEND;TZID=America/New_York:20241025T220000
DTSTAMP:20260425T100701
CREATED:20241007T020444Z
LAST-MODIFIED:20241007T020444Z
UID:5415-1729882800-1729893600@www.historicmedley.org
SUMMARY:HMD Ghost Tours
DESCRIPTION:Family Tour – 7 pm \nAdult Tour – 9 pm
URL:https://www.historicmedley.org/event/hmd-ghost-tours/
LOCATION:John Poole House\, 19923 Fisher Avenue\, Poolesville\, MD\, 20837\, United States
END:VEVENT
BEGIN:VEVENT
DTSTART;TZID=America/New_York:20241025T100000
DTEND;TZID=America/New_York:20241025T140000
DTSTAMP:20260425T100701
CREATED:20240822T152333Z
LAST-MODIFIED:20240822T152333Z
UID:5324-1729850400-1729864800@www.historicmedley.org
SUMMARY:Plumbline Schoolhouse
DESCRIPTION:Homeschool group from Lovettsville
URL:https://www.historicmedley.org/event/plumbline-schoolhouse/
LOCATION:Seneca Schoolhouse
ORGANIZER;CN="Vanessa Hart":MAILTO:vanessalhart77@gmail.com
END:VEVENT
BEGIN:VEVENT
DTSTART;TZID=America/New_York:20241024T100000
DTEND;TZID=America/New_York:20241024T140000
DTSTAMP:20260425T100701
CREATED:20240822T151922Z
LAST-MODIFIED:20240822T151922Z
UID:5322-1729764000-1729778400@www.historicmedley.org
SUMMARY:The Orchard Classical Community
DESCRIPTION:Homeschool Group
URL:https://www.historicmedley.org/event/the-orchard-classical-community-4/
LOCATION:Seneca Schoolhouse
ORGANIZER;CN="Rebecca Gallop":MAILTO:adailysomething@gmail.com
END:VEVENT
BEGIN:VEVENT
DTSTART;TZID=America/New_York:20241023T100000
DTEND;TZID=America/New_York:20241023T140000
DTSTAMP:20260425T100701
CREATED:20240822T151655Z
LAST-MODIFIED:20240822T151655Z
UID:5320-1729677600-1729692000@www.historicmedley.org
SUMMARY:The Orchard Classical Community
DESCRIPTION:Homeschool Group
URL:https://www.historicmedley.org/event/the-orchard-classical-community-2/
LOCATION:Seneca Schoolhouse
ORGANIZER;CN="Rebecca Gallop":MAILTO:adailysomething@gmail.com
END:VEVENT
BEGIN:VEVENT
DTSTART;TZID=America/New_York:20241021T100000
DTEND;TZID=America/New_York:20241021T140000
DTSTAMP:20260425T100701
CREATED:20240811T032116Z
LAST-MODIFIED:20240811T032116Z
UID:5294-1729504800-1729519200@www.historicmedley.org
SUMMARY:Homeschoolers of Central Maryland
DESCRIPTION:
URL:https://www.historicmedley.org/event/homeschoolers-of-central-maryland-2/
LOCATION:Seneca Schoolhouse
ORGANIZER;CN="Kate Richer":MAILTO:katericher77@gmail.com
END:VEVENT
BEGIN:VEVENT
DTSTART;TZID=America/New_York:20241016T100000
DTEND;TZID=America/New_York:20241016T140000
DTSTAMP:20260425T100701
CREATED:20240811T032334Z
LAST-MODIFIED:20240811T032334Z
UID:5297-1729072800-1729087200@www.historicmedley.org
SUMMARY:Savor the Spark
DESCRIPTION:
URL:https://www.historicmedley.org/event/savor-the-spark/
LOCATION:Seneca Schoolhouse
ORGANIZER;CN="Johanna Wilson":MAILTO:jewils626@gmail.com
END:VEVENT
BEGIN:VEVENT
DTSTART;TZID=America/New_York:20241010T100000
DTEND;TZID=America/New_York:20241010T140000
DTSTAMP:20260425T100701
CREATED:20240822T151423Z
LAST-MODIFIED:20240822T151423Z
UID:5318-1728554400-1728568800@www.historicmedley.org
SUMMARY:Poolesville Elementary School
DESCRIPTION:4th grade
URL:https://www.historicmedley.org/event/poolesville-elementary-school-13/
LOCATION:Seneca Schoolhouse
ORGANIZER;CN="Kelli Fox":MAILTO:Kelli_S_Fox@mcpsmd.org
END:VEVENT
BEGIN:VEVENT
DTSTART;TZID=America/New_York:20241009T100000
DTEND;TZID=America/New_York:20241009T140000
DTSTAMP:20260425T100701
CREATED:20240822T151246Z
LAST-MODIFIED:20240822T151246Z
UID:5316-1728468000-1728482400@www.historicmedley.org
SUMMARY:Poolesville Elementary School
DESCRIPTION:4th grade
URL:https://www.historicmedley.org/event/poolesville-elementary-school-12/
LOCATION:Seneca Schoolhouse
ORGANIZER;CN="Kelli Fox":MAILTO:Kelli_S_Fox@mcpsmd.org
END:VEVENT
BEGIN:VEVENT
DTSTART;TZID=America/New_York:20241008T100000
DTEND;TZID=America/New_York:20241008T140000
DTSTAMP:20260425T100701
CREATED:20240822T151109Z
LAST-MODIFIED:20240822T151109Z
UID:5314-1728381600-1728396000@www.historicmedley.org
SUMMARY:Poolesville Elementary School
DESCRIPTION:4th grade
URL:https://www.historicmedley.org/event/poolesville-elementary-school-11/
LOCATION:Seneca Schoolhouse
ORGANIZER;CN="Kelli Fox":MAILTO:Kelli_S_Fox@mcpsmd.org
END:VEVENT
BEGIN:VEVENT
DTSTART;TZID=America/New_York:20241007T100000
DTEND;TZID=America/New_York:20241007T140000
DTSTAMP:20260425T100701
CREATED:20240822T150853Z
LAST-MODIFIED:20240822T150853Z
UID:5312-1728295200-1728309600@www.historicmedley.org
SUMMARY:Poolesville Elementary School
DESCRIPTION:4th grade
URL:https://www.historicmedley.org/event/poolesville-elementary-school-10/
LOCATION:Seneca Schoolhouse
ORGANIZER;CN="Kelli Fox":MAILTO:Kelli_S_Fox@mcpsmd.org
END:VEVENT
BEGIN:VEVENT
DTSTART;TZID=America/New_York:20241003T080000
DTEND;TZID=America/New_York:20241003T213000
DTSTAMP:20260425T100701
CREATED:20240822T150733Z
LAST-MODIFIED:20240822T150733Z
UID:5309-1727942400-1727991000@www.historicmedley.org
SUMMARY:PACC morning meeting
DESCRIPTION:Poolesville Area Chamber of Commerce Meeting
URL:https://www.historicmedley.org/event/pacc-morning-meeting/
LOCATION:Seneca Schoolhouse
END:VEVENT
BEGIN:VEVENT
DTSTART;TZID=America/New_York:20241001T100000
DTEND;TZID=America/New_York:20241001T140000
DTSTAMP:20260425T100701
CREATED:20240828T031844Z
LAST-MODIFIED:20240828T031844Z
UID:5360-1727776800-1727791200@www.historicmedley.org
SUMMARY:Edlin School
DESCRIPTION:5th grade \n2nd year attending SSH
URL:https://www.historicmedley.org/event/edlin-school-2/
LOCATION:Seneca Schoolhouse
ORGANIZER;CN="Rebecca Mize":MAILTO:rmize@edlinschool.com
END:VEVENT
BEGIN:VEVENT
DTSTART;TZID=America/New_York:20240524T100000
DTEND;TZID=America/New_York:20240524T140000
DTSTAMP:20260425T100701
CREATED:20240204T042815Z
LAST-MODIFIED:20240204T042815Z
UID:4547-1716544800-1716559200@www.historicmedley.org
SUMMARY:French International School
DESCRIPTION:1st Grade
URL:https://www.historicmedley.org/event/french-international-school-31/
LOCATION:Seneca Schoolhouse
ORGANIZER;CN="Leslie Dorit":MAILTO:ldorit@rochambeau.org
END:VEVENT
BEGIN:VEVENT
DTSTART;TZID=America/New_York:20240523T100000
DTEND;TZID=America/New_York:20240523T140000
DTSTAMP:20260425T100701
CREATED:20240204T042703Z
LAST-MODIFIED:20240204T042703Z
UID:4545-1716458400-1716472800@www.historicmedley.org
SUMMARY:French International School
DESCRIPTION:1st Grade
URL:https://www.historicmedley.org/event/french-international-school-30/
LOCATION:Seneca Schoolhouse
ORGANIZER;CN="Leslie Dorit":MAILTO:ldorit@rochambeau.org
END:VEVENT
BEGIN:VEVENT
DTSTART;TZID=America/New_York:20240522T100000
DTEND;TZID=America/New_York:20240522T140000
DTSTAMP:20260425T100701
CREATED:20240204T042535Z
LAST-MODIFIED:20240204T042535Z
UID:4543-1716372000-1716386400@www.historicmedley.org
SUMMARY:French International School
DESCRIPTION:1st Grade
URL:https://www.historicmedley.org/event/french-international-school-29/
LOCATION:Seneca Schoolhouse
ORGANIZER;CN="Leslie Dorit":MAILTO:ldorit@rochambeau.org
END:VEVENT
BEGIN:VEVENT
DTSTART;TZID=America/New_York:20240521T100000
DTEND;TZID=America/New_York:20240521T140000
DTSTAMP:20260425T100701
CREATED:20240204T042406Z
LAST-MODIFIED:20240204T042406Z
UID:4541-1716285600-1716300000@www.historicmedley.org
SUMMARY:French International School
DESCRIPTION:1st grade
URL:https://www.historicmedley.org/event/french-international-school-28/
LOCATION:Seneca Schoolhouse
ORGANIZER;CN="Leslie Dorit":MAILTO:ldorit@rochambeau.org
END:VEVENT
BEGIN:VEVENT
DTSTART;TZID=America/New_York:20240520T100000
DTEND;TZID=America/New_York:20240520T140000
DTSTAMP:20260425T100701
CREATED:20240204T042150Z
LAST-MODIFIED:20240204T042150Z
UID:4539-1716199200-1716213600@www.historicmedley.org
SUMMARY:French International School
DESCRIPTION:1st grade
URL:https://www.historicmedley.org/event/french-international-school-27/
LOCATION:Seneca Schoolhouse
ORGANIZER;CN="Leslie Dorit":MAILTO:ldorit@rochambeau.org
END:VEVENT
BEGIN:VEVENT
DTSTART;TZID=America/New_York:20240516T100000
DTEND;TZID=America/New_York:20240516T140000
DTSTAMP:20260425T100701
CREATED:20240203T024110Z
LAST-MODIFIED:20240213T160915Z
UID:4534-1715853600-1715868000@www.historicmedley.org
SUMMARY:Banner School
DESCRIPTION:3rd-5th graders \n15 students
URL:https://www.historicmedley.org/event/banner-school-3/
LOCATION:Seneca Schoolhouse
END:VEVENT
BEGIN:VEVENT
DTSTART;TZID=America/New_York:20240514T100000
DTEND;TZID=America/New_York:20240514T140000
DTSTAMP:20260425T100701
CREATED:20240219T182132Z
LAST-MODIFIED:20240418T214550Z
UID:4601-1715680800-1715695200@www.historicmedley.org
SUMMARY:Holy Cross Elementary
DESCRIPTION:26 2nd grade students
URL:https://www.historicmedley.org/event/holy-cross-elementary-5/
LOCATION:Seneca Schoolhouse
END:VEVENT
BEGIN:VEVENT
DTSTART;TZID=America/New_York:20240513T100000
DTEND;TZID=America/New_York:20240513T140000
DTSTAMP:20260425T100701
CREATED:20240314T183647Z
LAST-MODIFIED:20240314T183647Z
UID:5036-1715594400-1715608800@www.historicmedley.org
SUMMARY:LEAP Co-op
DESCRIPTION:Shady Grove Presbyterian Church
URL:https://www.historicmedley.org/event/leap-co-op/
LOCATION:Seneca Schoolhouse
ORGANIZER;CN="Molli Bishop":MAILTO:mollib723@gmail.com
END:VEVENT
END:VCALENDAR