BEGIN:VCALENDAR
VERSION:2.0
PRODID:-//Historic Medley District - ECPv6.15.20//NONSGML v1.0//EN
CALSCALE:GREGORIAN
METHOD:PUBLISH
X-WR-CALNAME:Historic Medley District
X-ORIGINAL-URL:https://www.historicmedley.org
X-WR-CALDESC:Events for Historic Medley District
REFRESH-INTERVAL;VALUE=DURATION:PT1H
X-Robots-Tag:noindex
X-PUBLISHED-TTL:PT1H
BEGIN:VTIMEZONE
TZID:America/New_York
BEGIN:DAYLIGHT
TZOFFSETFROM:-0500
TZOFFSETTO:-0400
TZNAME:EDT
DTSTART:20250309T070000
END:DAYLIGHT
BEGIN:STANDARD
TZOFFSETFROM:-0400
TZOFFSETTO:-0500
TZNAME:EST
DTSTART:20251102T060000
END:STANDARD
BEGIN:DAYLIGHT
TZOFFSETFROM:-0500
TZOFFSETTO:-0400
TZNAME:EDT
DTSTART:20260308T070000
END:DAYLIGHT
BEGIN:STANDARD
TZOFFSETFROM:-0400
TZOFFSETTO:-0500
TZNAME:EST
DTSTART:20261101T060000
END:STANDARD
BEGIN:DAYLIGHT
TZOFFSETFROM:-0500
TZOFFSETTO:-0400
TZNAME:EDT
DTSTART:20270314T070000
END:DAYLIGHT
BEGIN:STANDARD
TZOFFSETFROM:-0400
TZOFFSETTO:-0500
TZNAME:EST
DTSTART:20271107T060000
END:STANDARD
END:VTIMEZONE
BEGIN:VEVENT
DTSTART;TZID=America/New_York:20260513T090000
DTEND;TZID=America/New_York:20260513T130000
DTSTAMP:20260423T151202
CREATED:20260317T130717Z
LAST-MODIFIED:20260317T130717Z
UID:6042-1778662800-1778677200@www.historicmedley.org
SUMMARY:Butler Montessori
DESCRIPTION:27 students – Grades 1 – 3
URL:https://www.historicmedley.org/event/butler-montessori-7/
LOCATION:Seneca Schoolhouse
ORGANIZER;CN="Amy D'Elia":MAILTO:Amy@butlerschool.org
END:VEVENT
BEGIN:VEVENT
DTSTART;TZID=America/New_York:20260512T100000
DTEND;TZID=America/New_York:20260512T140000
DTSTAMP:20260423T151202
CREATED:20260310T222507Z
LAST-MODIFIED:20260310T222507Z
UID:6034-1778580000-1778594400@www.historicmedley.org
SUMMARY:St. John the Beloved Academy
DESCRIPTION:3rd Grade
URL:https://www.historicmedley.org/event/st-john-the-beloved-academy-7/
LOCATION:Seneca Schoolhouse
END:VEVENT
BEGIN:VEVENT
DTSTART;TZID=America/New_York:20260508T100000
DTEND;TZID=America/New_York:20260508T140000
DTSTAMP:20260423T151202
CREATED:20260120T025317Z
LAST-MODIFIED:20260120T025317Z
UID:6008-1778234400-1778248800@www.historicmedley.org
SUMMARY:Beall Elementary School
DESCRIPTION:3rd Grade
URL:https://www.historicmedley.org/event/beall-elementary-school-6/
LOCATION:Seneca Schoolhouse
ORGANIZER;CN="Carolina DeVriendt":MAILTO:Carolina_B_DeVriendt@mcpsmd.org
END:VEVENT
BEGIN:VEVENT
DTSTART;TZID=America/New_York:20260507T100000
DTEND;TZID=America/New_York:20260507T140000
DTSTAMP:20260423T151202
CREATED:20260120T025139Z
LAST-MODIFIED:20260120T025139Z
UID:6006-1778148000-1778162400@www.historicmedley.org
SUMMARY:Beall Elementary School
DESCRIPTION:3rd grade
URL:https://www.historicmedley.org/event/beall-elementary-school-5/
LOCATION:Seneca Schoolhouse
ORGANIZER;CN="Carolina DeVriendt":MAILTO:Carolina_B_DeVriendt@mcpsmd.org
END:VEVENT
BEGIN:VEVENT
DTSTART;TZID=America/New_York:20260506T100000
DTEND;TZID=America/New_York:20260506T140000
DTSTAMP:20260423T151202
CREATED:20260120T025000Z
LAST-MODIFIED:20260120T025000Z
UID:6003-1778061600-1778076000@www.historicmedley.org
SUMMARY:Beall Elementary School
DESCRIPTION:3rd grade
URL:https://www.historicmedley.org/event/beall-elementary-school-4/
LOCATION:Seneca Schoolhouse
ORGANIZER;CN="Carolina DeVriendt":MAILTO:Carolina_B_DeVriendt@mcpsmd.org
END:VEVENT
BEGIN:VEVENT
DTSTART;TZID=America/New_York:20260505T100000
DTEND;TZID=America/New_York:20260505T130000
DTSTAMP:20260423T151202
CREATED:20250907T033149Z
LAST-MODIFIED:20260318T185336Z
UID:5876-1777975200-1777986000@www.historicmedley.org
SUMMARY:Luxmanor Elementary School
DESCRIPTION:Kindergarten
URL:https://www.historicmedley.org/event/luxmanor-elementary-school-2/
LOCATION:Seneca Schoolhouse
ORGANIZER;CN="Sydney Buell":MAILTO:sydney_k_buell@mcpsmd.org
END:VEVENT
BEGIN:VEVENT
DTSTART;TZID=America/New_York:20260504T090000
DTEND;TZID=America/New_York:20260504T130000
DTSTAMP:20260423T151202
CREATED:20260317T125904Z
LAST-MODIFIED:20260317T125904Z
UID:6040-1777885200-1777899600@www.historicmedley.org
SUMMARY:Butler Montessori
DESCRIPTION:27 students grade 1 – 3
URL:https://www.historicmedley.org/event/butler-montessori-6/
LOCATION:Seneca Schoolhouse
ORGANIZER;CN="Amy D'Elia":MAILTO:Amy@butlerschool.org
END:VEVENT
BEGIN:VEVENT
DTSTART;TZID=America/New_York:20260501T100000
DTEND;TZID=America/New_York:20260501T140000
DTSTAMP:20260423T151202
CREATED:20250818T023940Z
LAST-MODIFIED:20250818T023940Z
UID:5847-1777629600-1777644000@www.historicmedley.org
SUMMARY:PAX Academy
DESCRIPTION:Homeschool Group
URL:https://www.historicmedley.org/event/pax-academy-4/
LOCATION:Seneca Schoolhouse
ORGANIZER;CN="Rebeca Betancourt":MAILTO:rebeca.betancourt@paxacademy.org
END:VEVENT
BEGIN:VEVENT
DTSTART;TZID=America/New_York:20260430T100000
DTEND;TZID=America/New_York:20260430T140000
DTSTAMP:20260423T151202
CREATED:20260228T043645Z
LAST-MODIFIED:20260228T043645Z
UID:6023-1777543200-1777557600@www.historicmedley.org
SUMMARY:Beltsville Adventist School
DESCRIPTION:4th grade \n24 students
URL:https://www.historicmedley.org/event/beltsville-adventist-school-5/
LOCATION:Seneca Schoolhouse
ORGANIZER;CN="Mircha Colin":MAILTO:mcolin@baschool.org
END:VEVENT
BEGIN:VEVENT
DTSTART;TZID=America/New_York:20260428T100000
DTEND;TZID=America/New_York:20260428T140000
DTSTAMP:20260423T151202
CREATED:20260228T043811Z
LAST-MODIFIED:20260228T043811Z
UID:6025-1777370400-1777384800@www.historicmedley.org
SUMMARY:Barnesville School
DESCRIPTION:11 4th graders
URL:https://www.historicmedley.org/event/barnesville-school-8/
LOCATION:Seneca Schoolhouse
END:VEVENT
BEGIN:VEVENT
DTSTART;TZID=America/New_York:20260427T100000
DTEND;TZID=America/New_York:20260427T140000
DTSTAMP:20260423T151202
CREATED:20250925T121543Z
LAST-MODIFIED:20250925T121543Z
UID:5897-1777284000-1777298400@www.historicmedley.org
SUMMARY:Grace Christian School
DESCRIPTION:2nd grade
URL:https://www.historicmedley.org/event/grace-christian-school-14/
LOCATION:Seneca Schoolhouse
ORGANIZER;CN="Erline Merritt":MAILTO:emerritt@gcsbowie.org
END:VEVENT
BEGIN:VEVENT
DTSTART;TZID=America/New_York:20260424T100000
DTEND;TZID=America/New_York:20260424T130000
DTSTAMP:20260423T151202
CREATED:20250907T033500Z
LAST-MODIFIED:20250907T033500Z
UID:5880-1777024800-1777035600@www.historicmedley.org
SUMMARY:Luxmanor Elementary School
DESCRIPTION:Kindergarten
URL:https://www.historicmedley.org/event/luxmanor-elementary-school-4/
LOCATION:Seneca Schoolhouse
ORGANIZER;CN="Sydney Buell":MAILTO:sydney_k_buell@mcpsmd.org
END:VEVENT
BEGIN:VEVENT
DTSTART;TZID=America/New_York:20260423T100000
DTEND;TZID=America/New_York:20260423T130000
DTSTAMP:20260423T151202
CREATED:20250907T033318Z
LAST-MODIFIED:20250907T033318Z
UID:5878-1776938400-1776949200@www.historicmedley.org
SUMMARY:Luxmanor Elementary School
DESCRIPTION:Kindergarten
URL:https://www.historicmedley.org/event/luxmanor-elementary-school-3/
LOCATION:Seneca Schoolhouse
ORGANIZER;CN="Sydney Buell":MAILTO:sydney_k_buell@mcpsmd.org
END:VEVENT
BEGIN:VEVENT
DTSTART;TZID=America/New_York:20260422T103000
DTEND;TZID=America/New_York:20260422T143000
DTSTAMP:20260423T151202
CREATED:20250804T022455Z
LAST-MODIFIED:20250804T022455Z
UID:5812-1776853800-1776868200@www.historicmedley.org
SUMMARY:Grace Christian Homeschool Services
DESCRIPTION:Pennsylvania
URL:https://www.historicmedley.org/event/grace-christian-homeschool-services/
LOCATION:Seneca Schoolhouse
ORGANIZER;CN="Tricia Dutterer":MAILTO:teal915@yahoo.com
END:VEVENT
BEGIN:VEVENT
DTSTART;TZID=America/New_York:20260420T100000
DTEND;TZID=America/New_York:20260420T130000
DTSTAMP:20260423T151202
CREATED:20250907T033009Z
LAST-MODIFIED:20250907T033009Z
UID:5874-1776679200-1776690000@www.historicmedley.org
SUMMARY:Luxmanor Elementary School
DESCRIPTION:Kindergarten
URL:https://www.historicmedley.org/event/luxmanor-elementary-school/
LOCATION:Seneca Schoolhouse
ORGANIZER;CN="Sydney Buell":MAILTO:sydney_k_buell@mcpsmd.org
END:VEVENT
BEGIN:VEVENT
DTSTART;TZID=America/New_York:20260417T100000
DTEND;TZID=America/New_York:20260417T140000
DTSTAMP:20260423T151202
CREATED:20250920T041759Z
LAST-MODIFIED:20250920T041759Z
UID:5895-1776420000-1776434400@www.historicmedley.org
SUMMARY:World Explorers Homeschool Group
DESCRIPTION:Coming from Takoma Park \nNo bonnet
URL:https://www.historicmedley.org/event/world-explorers-homeschool-group/
LOCATION:Seneca Schoolhouse
ORGANIZER;CN="Mary-Gray Gordon":MAILTO:Marygray.gordon@gmail.com
END:VEVENT
BEGIN:VEVENT
DTSTART;TZID=America/New_York:20260416T100000
DTEND;TZID=America/New_York:20260416T140000
DTSTAMP:20260423T151202
CREATED:20260210T042044Z
LAST-MODIFIED:20260210T042044Z
UID:6011-1776333600-1776348000@www.historicmedley.org
SUMMARY:St. Jane de Chantal Elementary School
DESCRIPTION:2nd grade
URL:https://www.historicmedley.org/event/st-jane-de-chantal-elementary-school/
LOCATION:Seneca Schoolhouse
ORGANIZER;CN="Crystal Baker":MAILTO:cbaker@dechantal.org
END:VEVENT
BEGIN:VEVENT
DTSTART;TZID=America/New_York:20260415T100000
DTEND;TZID=America/New_York:20260415T140000
DTSTAMP:20260423T151202
CREATED:20260119T183317Z
LAST-MODIFIED:20260119T183317Z
UID:5998-1776247200-1776261600@www.historicmedley.org
SUMMARY:TORCH
DESCRIPTION:Homeschoolers
URL:https://www.historicmedley.org/event/torch-6/
LOCATION:Seneca Schoolhouse
ORGANIZER;CN="Allyson Nealy":MAILTO:Allysonnealy@gmail.com
END:VEVENT
BEGIN:VEVENT
DTSTART;TZID=America/New_York:20260414T093000
DTEND;TZID=America/New_York:20260414T133000
DTSTAMP:20260423T151202
CREATED:20251002T220136Z
LAST-MODIFIED:20251002T220136Z
UID:5917-1776159000-1776173400@www.historicmedley.org
SUMMARY:Mount Airy Christian Academy
DESCRIPTION:2nd grade
URL:https://www.historicmedley.org/event/mount-airy-christian-academy-8/
LOCATION:Seneca Schoolhouse
ORGANIZER;CN="Erica Boehnlein":MAILTO:erica.boehnlein@macamd.org
END:VEVENT
BEGIN:VEVENT
DTSTART;TZID=America/New_York:20260413T093000
DTEND;TZID=America/New_York:20260413T133000
DTSTAMP:20260423T151202
CREATED:20251002T215958Z
LAST-MODIFIED:20251002T215958Z
UID:5914-1776072600-1776087000@www.historicmedley.org
SUMMARY:Mount Airy Christian Academy
DESCRIPTION:2nd grade
URL:https://www.historicmedley.org/event/mount-airy-christian-academy-7/
LOCATION:Seneca Schoolhouse
ORGANIZER;CN="Erica Boehnlein":MAILTO:erica.boehnlein@macamd.org
END:VEVENT
BEGIN:VEVENT
DTSTART;TZID=America/New_York:20260410T100000
DTEND;TZID=America/New_York:20260410T140000
DTSTAMP:20260423T151202
CREATED:20250918T162421Z
LAST-MODIFIED:20250918T162421Z
UID:5893-1775815200-1775829600@www.historicmedley.org
SUMMARY:Dominion Christian School
DESCRIPTION:2nd grade
URL:https://www.historicmedley.org/event/dominion-christian-school-8/
LOCATION:Seneca Schoolhouse
ORGANIZER;CN="McKenna Hassay":MAILTO:mhassay@dominionschool.com
END:VEVENT
BEGIN:VEVENT
DTSTART;TZID=America/New_York:20260330T100000
DTEND;TZID=America/New_York:20260330T140000
DTSTAMP:20260423T151202
CREATED:20260119T182931Z
LAST-MODIFIED:20260318T185827Z
UID:5993-1774864800-1774879200@www.historicmedley.org
SUMMARY:Homeschool by Grace
DESCRIPTION:Frederick area
URL:https://www.historicmedley.org/event/homeschool-by-grace-3/
LOCATION:Seneca Schoolhouse
ORGANIZER;CN="Jennifer Bergman":MAILTO:jenjoyb@gmail.com
END:VEVENT
BEGIN:VEVENT
DTSTART;TZID=America/New_York:20260327T100000
DTEND;TZID=America/New_York:20260327T140000
DTSTAMP:20260423T151202
CREATED:20260306T231740Z
LAST-MODIFIED:20260306T231740Z
UID:6032-1774605600-1774620000@www.historicmedley.org
SUMMARY:AARCH
DESCRIPTION:K – 8th
URL:https://www.historicmedley.org/event/aarch/
LOCATION:Seneca Schoolhouse
ORGANIZER;CN="Carah Tabar":MAILTO:carahtabar@googlemail.com
END:VEVENT
BEGIN:VEVENT
DTSTART;TZID=America/New_York:20260325T100000
DTEND;TZID=America/New_York:20260325T143000
DTSTAMP:20260423T151202
CREATED:20260225T035057Z
LAST-MODIFIED:20260225T035057Z
UID:6021-1774432800-1774449000@www.historicmedley.org
SUMMARY:SNAC - St. Nicholas Academic Community
DESCRIPTION:
URL:https://www.historicmedley.org/event/snac-st-nicholas-academic-community/
LOCATION:Seneca Schoolhouse
ORGANIZER;CN="Leah Peterson":MAILTO:lrdobler@gmailcom
END:VEVENT
BEGIN:VEVENT
DTSTART;TZID=America/New_York:20260324T100000
DTEND;TZID=America/New_York:20260324T140000
DTSTAMP:20260423T151202
CREATED:20260103T160423Z
LAST-MODIFIED:20260103T160423Z
UID:5976-1774346400-1774360800@www.historicmedley.org
SUMMARY:Wild and Free Homeschool Group
DESCRIPTION:K – 7th \nSouthern Frederick County
URL:https://www.historicmedley.org/event/wild-and-free-homeschool-group-2/
LOCATION:Seneca Schoolhouse
ORGANIZER;CN="Jennifer Jones":MAILTO:jenniferinbeam@gmail.com
END:VEVENT
BEGIN:VEVENT
DTSTART;TZID=America/New_York:20260323T100000
DTEND;TZID=America/New_York:20260323T140000
DTSTAMP:20260423T151202
CREATED:20251002T025138Z
LAST-MODIFIED:20251002T025138Z
UID:5908-1774260000-1774274400@www.historicmedley.org
SUMMARY:Hope Academy
DESCRIPTION:Homeschool Co-op
URL:https://www.historicmedley.org/event/hope-academy/
LOCATION:Seneca Schoolhouse
ORGANIZER;CN="Rebecca Thornton":MAILTO:rebecca.thornton@hopeacademy.org
END:VEVENT
BEGIN:VEVENT
DTSTART;TZID=America/New_York:20260322T110000
DTEND;TZID=America/New_York:20260322T130000
DTSTAMP:20260423T151202
CREATED:20260103T161631Z
LAST-MODIFIED:20260103T161631Z
UID:5989-1774177200-1774184400@www.historicmedley.org
SUMMARY:Girl Scout Troop
DESCRIPTION:5th Grade \n~10 girls
URL:https://www.historicmedley.org/event/girl-scout-troop-11/
LOCATION:Seneca Schoolhouse
END:VEVENT
BEGIN:VEVENT
DTSTART;TZID=America/New_York:20260321T110000
DTEND;TZID=America/New_York:20260321T130000
DTSTAMP:20260423T151202
CREATED:20260119T183120Z
LAST-MODIFIED:20260119T183120Z
UID:5996-1774090800-1774098000@www.historicmedley.org
SUMMARY:Friends of New Germany State Park
DESCRIPTION:Tour and presentation
URL:https://www.historicmedley.org/event/friends-of-new-germany-state-park/
LOCATION:Seneca Schoolhouse
END:VEVENT
BEGIN:VEVENT
DTSTART;TZID=America/New_York:20260319T100000
DTEND;TZID=America/New_York:20260319T140000
DTSTAMP:20260423T151202
CREATED:20260120T024649Z
LAST-MODIFIED:20260120T024649Z
UID:6000-1773914400-1773928800@www.historicmedley.org
SUMMARY:AZ Homeschool Group
DESCRIPTION:New Group
URL:https://www.historicmedley.org/event/az-homeschool-group/
LOCATION:Seneca Schoolhouse
ORGANIZER;CN="Ayla Zangana":MAILTO:godsgirl3937@gmail.com
END:VEVENT
BEGIN:VEVENT
DTSTART;TZID=America/New_York:20260312T100000
DTEND;TZID=America/New_York:20260312T140000
DTSTAMP:20260423T151202
CREATED:20250829T223042Z
LAST-MODIFIED:20250830T235307Z
UID:5864-1773309600-1773324000@www.historicmedley.org
SUMMARY:Dominion Christian School
DESCRIPTION:2nd Grade
URL:https://www.historicmedley.org/event/dominion-christian-school-7/
LOCATION:Seneca Schoolhouse
ORGANIZER;CN="Stephanie Oh":MAILTO:soh@dominionschool.com
END:VEVENT
END:VCALENDAR