BEGIN:VCALENDAR
VERSION:2.0
PRODID:-//Historic Medley District - ECPv6.15.20//NONSGML v1.0//EN
CALSCALE:GREGORIAN
METHOD:PUBLISH
X-WR-CALNAME:Historic Medley District
X-ORIGINAL-URL:https://www.historicmedley.org
X-WR-CALDESC:Events for Historic Medley District
REFRESH-INTERVAL;VALUE=DURATION:PT1H
X-Robots-Tag:noindex
X-PUBLISHED-TTL:PT1H
BEGIN:VTIMEZONE
TZID:America/New_York
BEGIN:DAYLIGHT
TZOFFSETFROM:-0500
TZOFFSETTO:-0400
TZNAME:EDT
DTSTART:20220313T070000
END:DAYLIGHT
BEGIN:STANDARD
TZOFFSETFROM:-0400
TZOFFSETTO:-0500
TZNAME:EST
DTSTART:20221106T060000
END:STANDARD
BEGIN:DAYLIGHT
TZOFFSETFROM:-0500
TZOFFSETTO:-0400
TZNAME:EDT
DTSTART:20230312T070000
END:DAYLIGHT
BEGIN:STANDARD
TZOFFSETFROM:-0400
TZOFFSETTO:-0500
TZNAME:EST
DTSTART:20231105T060000
END:STANDARD
BEGIN:DAYLIGHT
TZOFFSETFROM:-0500
TZOFFSETTO:-0400
TZNAME:EDT
DTSTART:20240310T070000
END:DAYLIGHT
BEGIN:STANDARD
TZOFFSETFROM:-0400
TZOFFSETTO:-0500
TZNAME:EST
DTSTART:20241103T060000
END:STANDARD
END:VTIMEZONE
BEGIN:VEVENT
DTSTART;TZID=America/New_York:20230622T100000
DTEND;TZID=America/New_York:20230622T140000
DTSTAMP:20260425T120115
CREATED:20230326T153014Z
LAST-MODIFIED:20230326T153014Z
UID:4050-1687428000-1687442400@www.historicmedley.org
SUMMARY:Classical Conversations of Germantown
DESCRIPTION:Stephanie Runkles teaching
URL:https://www.historicmedley.org/event/classical-conversations-of-germantown/
LOCATION:Seneca Schoolhouse
ORGANIZER;CN="Michelle Krause":MAILTO:mrskrause4@outook.com
END:VEVENT
BEGIN:VEVENT
DTSTART;TZID=America/New_York:20230602T100000
DTEND;TZID=America/New_York:20230602T140000
DTSTAMP:20260425T120115
CREATED:20230508T020443Z
LAST-MODIFIED:20230508T020443Z
UID:4172-1685700000-1685714400@www.historicmedley.org
SUMMARY:Fort Belvoir Homeschool Group
DESCRIPTION:Heard about SSH from another homeschool group from Fort Belvoir who attended a class
URL:https://www.historicmedley.org/event/fort-belvoir-homeschool-group/
LOCATION:Seneca Schoolhouse
ORGANIZER;CN="Caroline Chamberlin":MAILTO:caroline.chamberlin@gmail.com
END:VEVENT
BEGIN:VEVENT
DTSTART;TZID=America/New_York:20230531T100000
DTEND;TZID=America/New_York:20230531T140000
DTSTAMP:20260425T120115
CREATED:20230203T164517Z
LAST-MODIFIED:20230307T140256Z
UID:3801-1685527200-1685541600@www.historicmedley.org
SUMMARY:Beverly Farms Elementary
DESCRIPTION:26 – 30 4th grade students
URL:https://www.historicmedley.org/event/beverly-farms-elementary-5/
LOCATION:Seneca Schoolhouse
ORGANIZER;CN="Kate Allen":MAILTO:Mary_k_Allen@mcpsmd.org
END:VEVENT
BEGIN:VEVENT
DTSTART;TZID=America/New_York:20230530T100000
DTEND;TZID=America/New_York:20230530T140000
DTSTAMP:20260425T120115
CREATED:20230418T033205Z
LAST-MODIFIED:20230418T033205Z
UID:4090-1685440800-1685455200@www.historicmedley.org
SUMMARY:Olney Prep Adventist
DESCRIPTION:4th grade \n18 students
URL:https://www.historicmedley.org/event/olney-prep-adventist/
LOCATION:Seneca Schoolhouse
ORGANIZER;CN="Keith Johnston":MAILTO:kjohnston@olneyprep.org
END:VEVENT
BEGIN:VEVENT
DTSTART;TZID=America/New_York:20230526T100000
DTEND;TZID=America/New_York:20230526T140000
DTSTAMP:20260425T120115
CREATED:20230119T165143Z
LAST-MODIFIED:20230119T165143Z
UID:3769-1685095200-1685109600@www.historicmedley.org
SUMMARY:French International School
DESCRIPTION:1st grade
URL:https://www.historicmedley.org/event/french-international-school-26/
LOCATION:Seneca Schoolhouse
ORGANIZER;CN="Natalie Wagner":MAILTO:wagnern@rochambeau.org
END:VEVENT
BEGIN:VEVENT
DTSTART;TZID=America/New_York:20230525T100000
DTEND;TZID=America/New_York:20230525T140000
DTSTAMP:20260425T120115
CREATED:20230119T164956Z
LAST-MODIFIED:20230119T164956Z
UID:3767-1685008800-1685023200@www.historicmedley.org
SUMMARY:French International School
DESCRIPTION:1st grade
URL:https://www.historicmedley.org/event/french-international-school-25/
LOCATION:Seneca Schoolhouse
ORGANIZER;CN="Natalie Wagner":MAILTO:wagnern@rochambeau.org
END:VEVENT
BEGIN:VEVENT
DTSTART;TZID=America/New_York:20230524T100000
DTEND;TZID=America/New_York:20230524T140000
DTSTAMP:20260425T120115
CREATED:20230119T164820Z
LAST-MODIFIED:20230119T164820Z
UID:3765-1684922400-1684936800@www.historicmedley.org
SUMMARY:French International School
DESCRIPTION:1st grade
URL:https://www.historicmedley.org/event/french-international-school-24/
LOCATION:Seneca Schoolhouse
ORGANIZER;CN="Natalie Wagner":MAILTO:wagnern@rochambeau.org
END:VEVENT
BEGIN:VEVENT
DTSTART;TZID=America/New_York:20230523T100000
DTEND;TZID=America/New_York:20230523T140000
DTSTAMP:20260425T120115
CREATED:20230119T164631Z
LAST-MODIFIED:20230119T164631Z
UID:3763-1684836000-1684850400@www.historicmedley.org
SUMMARY:French International School
DESCRIPTION:1st grade
URL:https://www.historicmedley.org/event/french-international-school-23/
LOCATION:Seneca Schoolhouse
ORGANIZER;CN="Natalie Wagner":MAILTO:wagnern@rochambeau.org
END:VEVENT
BEGIN:VEVENT
DTSTART;TZID=America/New_York:20230522T100000
DTEND;TZID=America/New_York:20230522T140000
DTSTAMP:20260425T120115
CREATED:20230119T164502Z
LAST-MODIFIED:20230119T164502Z
UID:3761-1684749600-1684764000@www.historicmedley.org
SUMMARY:French International School
DESCRIPTION:1st grade
URL:https://www.historicmedley.org/event/french-international-school-22/
LOCATION:Seneca Schoolhouse
ORGANIZER;CN="Natalie Wagner":MAILTO:wagnern@rochambeau.org
END:VEVENT
BEGIN:VEVENT
DTSTART;TZID=America/New_York:20230519T100000
DTEND;TZID=America/New_York:20230519T140000
DTSTAMP:20260425T120115
CREATED:20230216T051116Z
LAST-MODIFIED:20230216T051116Z
UID:3815-1684490400-1684504800@www.historicmedley.org
SUMMARY:BEYOND Homeschool Group
DESCRIPTION:Homeschoolers of varying ages
URL:https://www.historicmedley.org/event/beyond-homeschool-group/
LOCATION:Seneca Schoolhouse
ORGANIZER;CN="Adrienne Kyzar":MAILTO:my2bubbleguppies@gmail.com
END:VEVENT
BEGIN:VEVENT
DTSTART;TZID=America/New_York:20230518T100000
DTEND;TZID=America/New_York:20230518T140000
DTSTAMP:20260425T120115
CREATED:20230428T022611Z
LAST-MODIFIED:20230428T022611Z
UID:4131-1684404000-1684418400@www.historicmedley.org
SUMMARY:Hagaertown Area Homeschoolers
DESCRIPTION:20 students of varying ages \nTwo families who were scheduled for an earlier trip but got stuck in traffic on Rte. 70
URL:https://www.historicmedley.org/event/hagaertown-area-homeschoolers/
LOCATION:Seneca Schoolhouse
ORGANIZER;CN="jenn smith":MAILTO:allsaintshomeschool.mama@gmail.com
END:VEVENT
BEGIN:VEVENT
DTSTART;TZID=America/New_York:20230517T100000
DTEND;TZID=America/New_York:20230517T140000
DTSTAMP:20260425T120115
CREATED:20230326T152247Z
LAST-MODIFIED:20230326T152315Z
UID:4045-1684317600-1684332000@www.historicmedley.org
SUMMARY:Holy Cross Elementary
DESCRIPTION:2nd grade
URL:https://www.historicmedley.org/event/holy-cross-elementary-3/
LOCATION:Seneca Schoolhouse
END:VEVENT
BEGIN:VEVENT
DTSTART;TZID=America/New_York:20230516T100000
DTEND;TZID=America/New_York:20230516T140000
DTSTAMP:20260425T120115
CREATED:20230326T152133Z
LAST-MODIFIED:20230326T152133Z
UID:4042-1684231200-1684245600@www.historicmedley.org
SUMMARY:TNT Homeschoolers
DESCRIPTION:Sterling\, VA \n25 students
URL:https://www.historicmedley.org/event/tnt-homeschoolers/
LOCATION:Seneca Schoolhouse
ORGANIZER;CN="April Marsh":MAILTO:mrsgmarsh@gmail.com
END:VEVENT
BEGIN:VEVENT
DTSTART;TZID=America/New_York:20230511T100000
DTEND;TZID=America/New_York:20230511T140000
DTSTAMP:20260425T120115
CREATED:20230418T032941Z
LAST-MODIFIED:20230418T032941Z
UID:4088-1683799200-1683813600@www.historicmedley.org
SUMMARY:St. Thomas More Academy
DESCRIPTION:3rd and 4th grade \nMiddletown\, MD \n14 students
URL:https://www.historicmedley.org/event/st-thomas-more-academy-3/
LOCATION:Seneca Schoolhouse
ORGANIZER;CN="Karly Houldsworth":MAILTO:houldsworthk@stmamd.org
END:VEVENT
BEGIN:VEVENT
DTSTART;TZID=America/New_York:20230510T100000
DTEND;TZID=America/New_York:20230510T140000
DTSTAMP:20260425T120115
CREATED:20230403T004556Z
LAST-MODIFIED:20230403T004556Z
UID:4062-1683712800-1683727200@www.historicmedley.org
SUMMARY:TNT Homeschool Group
DESCRIPTION:TNT – Teaching N Training \nUp to 28 students of varying ages
URL:https://www.historicmedley.org/event/tnt-homeschool-group/
LOCATION:Seneca Schoolhouse
ORGANIZER;CN="Anna Kramer":MAILTO:anna.faith.kramer@gmail.com
END:VEVENT
BEGIN:VEVENT
DTSTART;TZID=America/New_York:20230509T100000
DTEND;TZID=America/New_York:20230509T140000
DTSTAMP:20260425T120115
CREATED:20230102T033258Z
LAST-MODIFIED:20230102T033258Z
UID:3750-1683626400-1683640800@www.historicmedley.org
SUMMARY:STARS Homeschool Group
DESCRIPTION:20 students
URL:https://www.historicmedley.org/event/stars-homeschool-group/
LOCATION:Seneca Schoolhouse
ORGANIZER;CN="Sandra MacMahon":MAILTO:sandra.s.macmahon@gmail.com
END:VEVENT
BEGIN:VEVENT
DTSTART;TZID=America/New_York:20230505T100000
DTEND;TZID=America/New_York:20230505T140000
DTSTAMP:20260425T120115
CREATED:20230216T051342Z
LAST-MODIFIED:20230216T051342Z
UID:3817-1683280800-1683295200@www.historicmedley.org
SUMMARY:Leap Homeschool Group
DESCRIPTION:Homeschoolers from Montgomery County
URL:https://www.historicmedley.org/event/leap-homeschool-group/
LOCATION:Seneca Schoolhouse
ORGANIZER;CN="Risa Wright":MAILTO:risalevenstein@yahoo.com
END:VEVENT
BEGIN:VEVENT
DTSTART;TZID=America/New_York:20230503T100000
DTEND;TZID=America/New_York:20230503T130000
DTSTAMP:20260425T120115
CREATED:20230308T131431Z
LAST-MODIFIED:20230308T131431Z
UID:3967-1683108000-1683118800@www.historicmedley.org
SUMMARY:Barnesville School
DESCRIPTION:8 4th graders \n  \n10:00 – 1:00
URL:https://www.historicmedley.org/event/barnesville-school-5/
LOCATION:Seneca Schoolhouse
END:VEVENT
BEGIN:VEVENT
DTSTART;TZID=America/New_York:20230502T100000
DTEND;TZID=America/New_York:20230502T140000
DTSTAMP:20260425T120115
CREATED:20230203T164326Z
LAST-MODIFIED:20230307T140137Z
UID:3799-1683021600-1683036000@www.historicmedley.org
SUMMARY:Beverly Farms Elementary
DESCRIPTION:26-30 4th graders
URL:https://www.historicmedley.org/event/beverly-farms-elementary-4/
LOCATION:Seneca Schoolhouse
ORGANIZER;CN="Kate Allen":MAILTO:Mary_k_Allen@mcpsmd.org
END:VEVENT
BEGIN:VEVENT
DTSTART;TZID=America/New_York:20230501T100000
DTEND;TZID=America/New_York:20230501T140000
DTSTAMP:20260425T120115
CREATED:20230203T164201Z
LAST-MODIFIED:20230307T140038Z
UID:3797-1682935200-1682949600@www.historicmedley.org
SUMMARY:Beverly Farms Elementary
DESCRIPTION:26-30 children per class
URL:https://www.historicmedley.org/event/beverly-farms-elementary-3/
LOCATION:Seneca Schoolhouse
ORGANIZER;CN="Kate Allen":MAILTO:Mary_k_Allen@mcpsmd.org
END:VEVENT
BEGIN:VEVENT
DTSTART;TZID=America/New_York:20230428T100000
DTEND;TZID=America/New_York:20230428T140000
DTSTAMP:20260425T120115
CREATED:20230102T032852Z
LAST-MODIFIED:20230102T032852Z
UID:3748-1682676000-1682690400@www.historicmedley.org
SUMMARY:Torch Homeschool Group
DESCRIPTION:Up to 28 homeschooled students
URL:https://www.historicmedley.org/event/torch-homeschool-group-8/
LOCATION:Seneca Schoolhouse
ORGANIZER;CN="Allyson Nealy":MAILTO:Allysonnealy@gmail.com
END:VEVENT
BEGIN:VEVENT
DTSTART;TZID=America/New_York:20230427T100000
DTEND;TZID=America/New_York:20230427T140000
DTSTAMP:20260425T120115
CREATED:20230203T164017Z
LAST-MODIFIED:20230307T135847Z
UID:3795-1682589600-1682604000@www.historicmedley.org
SUMMARY:Beverly Farms Elementary
DESCRIPTION:26 -30 students
URL:https://www.historicmedley.org/event/beverly-farms-elementary-2/
LOCATION:Seneca Schoolhouse
ORGANIZER;CN="Kate Allen":MAILTO:Mary_k_Allen@mcpsmd.org
END:VEVENT
BEGIN:VEVENT
DTSTART;TZID=America/New_York:20230426T093000
DTEND;TZID=America/New_York:20230426T123000
DTSTAMP:20260425T120115
CREATED:20230119T170904Z
LAST-MODIFIED:20230119T170904Z
UID:3771-1682501400-1682512200@www.historicmedley.org
SUMMARY:Tracey's Landing Elementary School
DESCRIPTION:20 ESOL students \nCame last year with Eastport Elementary ESOL students
URL:https://www.historicmedley.org/event/traceys-landing-elementary-school/
LOCATION:Seneca Schoolhouse
ORGANIZER;CN="Jane Zarate":MAILTO:czarate@aacps.org
END:VEVENT
BEGIN:VEVENT
DTSTART;TZID=America/New_York:20230425T100000
DTEND;TZID=America/New_York:20230425T140000
DTSTAMP:20260425T120115
CREATED:20230425T153755Z
LAST-MODIFIED:20230204T032351Z
UID:3792-1682416800-1682431200@www.historicmedley.org
SUMMARY:Fort Belvoir Synergy Group
DESCRIPTION:Homeschool group
URL:https://www.historicmedley.org/event/fort-belvoir-homeschoolers/
LOCATION:Seneca Schoolhouse
END:VEVENT
BEGIN:VEVENT
DTSTART;TZID=America/New_York:20230425T100000
DTEND;TZID=America/New_York:20230425T140000
DTSTAMP:20260425T120115
CREATED:20230204T032722Z
LAST-MODIFIED:20230204T032722Z
UID:3804-1682416800-1682431200@www.historicmedley.org
SUMMARY:Ft. Belvoir Synergy Group
DESCRIPTION:Homeschoolers
URL:https://www.historicmedley.org/event/ft-belvoir-synergy-group/
LOCATION:Seneca Schoolhouse
END:VEVENT
BEGIN:VEVENT
DTSTART;TZID=America/New_York:20230424T100000
DTEND;TZID=America/New_York:20230424T140000
DTSTAMP:20260425T120115
CREATED:20230321T123434Z
LAST-MODIFIED:20230321T123434Z
UID:4019-1682330400-1682344800@www.historicmedley.org
SUMMARY:TORCH Homeschool Group
DESCRIPTION:27 students
URL:https://www.historicmedley.org/event/torch-homeschool-group-9/
LOCATION:Seneca Schoolhouse
END:VEVENT
BEGIN:VEVENT
DTSTART;TZID=America/New_York:20230421T103000
DTEND;TZID=America/New_York:20230421T143000
DTSTAMP:20260425T120115
CREATED:20230102T030312Z
LAST-MODIFIED:20230102T030312Z
UID:3745-1682073000-1682087400@www.historicmedley.org
SUMMARY:World Explorers Homeschool Co-op
DESCRIPTION:K – 5 \nWould like to hear about punishments
URL:https://www.historicmedley.org/event/world-explorers-homeschool-co-op/
LOCATION:Seneca Schoolhouse
ORGANIZER;CN="Cynthia Landesberg":MAILTO:wehcoop.moco@gmail.com
END:VEVENT
BEGIN:VEVENT
DTSTART;TZID=America/New_York:20230420T100000
DTEND;TZID=America/New_York:20230420T140000
DTSTAMP:20260425T120115
CREATED:20230119T163256Z
LAST-MODIFIED:20230119T163256Z
UID:3754-1681984800-1681999200@www.historicmedley.org
SUMMARY:Classical Conversations of Damascus
DESCRIPTION:Attended Christmas class
URL:https://www.historicmedley.org/event/classical-conversations-of-damascus/
LOCATION:Seneca Schoolhouse
ORGANIZER;CN="Laura Margiotta":MAILTO:lauramkm@hotmail.com
END:VEVENT
BEGIN:VEVENT
DTSTART;TZID=America/New_York:20230419T100000
DTEND;TZID=America/New_York:20230419T140000
DTSTAMP:20260425T120115
CREATED:20230213T233209Z
LAST-MODIFIED:20230310T014426Z
UID:3810-1681898400-1681912800@www.historicmedley.org
SUMMARY:Mount Airy Christian Academy
DESCRIPTION:20 2nd graders
URL:https://www.historicmedley.org/event/mount-airy-christian-academy-2/
LOCATION:Seneca Schoolhouse
ORGANIZER;CN="Lisa Anderes":MAILTO:lisa.anderes@macamd.org
END:VEVENT
BEGIN:VEVENT
DTSTART;TZID=America/New_York:20230418T100000
DTEND;TZID=America/New_York:20230418T140000
DTSTAMP:20260425T120115
CREATED:20230125T192809Z
LAST-MODIFIED:20230125T192809Z
UID:3773-1681812000-1681826400@www.historicmedley.org
SUMMARY:St. Jane deChantal
DESCRIPTION:23 2nd graders
URL:https://www.historicmedley.org/event/st-jane-dechantal-3/
LOCATION:Seneca Schoolhouse
ORGANIZER;CN="Dee Lozupone":MAILTO:dlozupone@dechantal.org
END:VEVENT
END:VCALENDAR