BEGIN:VCALENDAR
VERSION:2.0
PRODID:-//Historic Medley District - ECPv6.15.20//NONSGML v1.0//EN
CALSCALE:GREGORIAN
METHOD:PUBLISH
X-WR-CALNAME:Historic Medley District
X-ORIGINAL-URL:https://www.historicmedley.org
X-WR-CALDESC:Events for Historic Medley District
REFRESH-INTERVAL;VALUE=DURATION:PT1H
X-Robots-Tag:noindex
X-PUBLISHED-TTL:PT1H
BEGIN:VTIMEZONE
TZID:America/New_York
BEGIN:DAYLIGHT
TZOFFSETFROM:-0500
TZOFFSETTO:-0400
TZNAME:EDT
DTSTART:20130310T070000
END:DAYLIGHT
BEGIN:STANDARD
TZOFFSETFROM:-0400
TZOFFSETTO:-0500
TZNAME:EST
DTSTART:20131103T060000
END:STANDARD
BEGIN:DAYLIGHT
TZOFFSETFROM:-0500
TZOFFSETTO:-0400
TZNAME:EDT
DTSTART:20140309T070000
END:DAYLIGHT
BEGIN:STANDARD
TZOFFSETFROM:-0400
TZOFFSETTO:-0500
TZNAME:EST
DTSTART:20141102T060000
END:STANDARD
BEGIN:DAYLIGHT
TZOFFSETFROM:-0500
TZOFFSETTO:-0400
TZNAME:EDT
DTSTART:20150308T070000
END:DAYLIGHT
BEGIN:STANDARD
TZOFFSETFROM:-0400
TZOFFSETTO:-0500
TZNAME:EST
DTSTART:20151101T060000
END:STANDARD
END:VTIMEZONE
BEGIN:VEVENT
DTSTART;TZID=America/New_York:20141020T100000
DTEND;TZID=America/New_York:20141020T140000
DTSTAMP:20260424T101031
CREATED:20141013T140511Z
LAST-MODIFIED:20141024T173650Z
UID:1092-1413799200-1413813600@www.historicmedley.org
SUMMARY:Washington Waldorf School - JS
DESCRIPTION:17 4th Graders
URL:https://www.historicmedley.org/event/washington-waldorf-school-js/
CATEGORIES:Seneca Schoolhouse
ORGANIZER;CN="Debbie Spitulnik":MAILTO:dspitulnik@gmail.com
END:VEVENT
BEGIN:VEVENT
DTSTART;TZID=America/New_York:20141017T100000
DTEND;TZID=America/New_York:20141017T140000
DTSTAMP:20260424T101031
CREATED:20141009T125013Z
LAST-MODIFIED:20141009T125013Z
UID:1087-1413540000-1413554400@www.historicmedley.org
SUMMARY:Classical Conversations Bethesda - AW
DESCRIPTION:29 Students\, K-6
URL:https://www.historicmedley.org/event/classical-conversations-bethesda-aw/
CATEGORIES:Seneca Schoolhouse
ORGANIZER;CN="Megan Beglin":MAILTO:meganbeglin@gmail.com
END:VEVENT
BEGIN:VEVENT
DTSTART;TZID=America/New_York:20141015T160000
DTEND;TZID=America/New_York:20141015T180000
DTSTAMP:20260424T101031
CREATED:20140930T151857Z
LAST-MODIFIED:20141024T174019Z
UID:1075-1413388800-1413396000@www.historicmedley.org
SUMMARY:Webelos Cub Scouts - JS
DESCRIPTION:10-20 Cub Scouts\, 5th Grade
URL:https://www.historicmedley.org/event/webelos-cub-scouts-js/
CATEGORIES:Seneca Schoolhouse
ORGANIZER;CN="Nancy White":MAILTO:rufusandclaire1@verizon.net
END:VEVENT
BEGIN:VEVENT
DTSTART;TZID=America/New_York:20140927T100000
DTEND;TZID=America/New_York:20140927T140000
DTSTAMP:20260424T101031
CREATED:20140929T135104Z
LAST-MODIFIED:20140929T135104Z
UID:1065-1411812000-1411826400@www.historicmedley.org
SUMMARY:Montgomery Countryside Alliance - JS
DESCRIPTION:Seniors Tour
URL:https://www.historicmedley.org/event/montgomery-countryside-alliance-js/
CATEGORIES:Seneca Schoolhouse
ORGANIZER;CN="Caroline Taylor":MAILTO:caroline@mocoalliance.org
END:VEVENT
BEGIN:VEVENT
DTSTART;TZID=America/New_York:20140904T100000
DTEND;TZID=America/New_York:20140904T140000
DTSTAMP:20260424T101031
CREATED:20140723T134356Z
LAST-MODIFIED:20140723T134356Z
UID:994-1409824800-1409839200@www.historicmedley.org
SUMMARY:Bullis School - JS
DESCRIPTION:28 Fifth Graders
URL:https://www.historicmedley.org/event/bullis-school-js/
CATEGORIES:Seneca Schoolhouse
ORGANIZER;CN="Jennifer Houston":MAILTO:jennifer_houston@bullis.org
END:VEVENT
BEGIN:VEVENT
DTSTART;TZID=America/New_York:20140822T130000
DTEND;TZID=America/New_York:20140822T160000
DTSTAMP:20260424T101031
CREATED:20140818T142622Z
LAST-MODIFIED:20140818T142622Z
UID:1004-1408712400-1408723200@www.historicmedley.org
SUMMARY:Montgomery Countryside Alliance Tour - JS
DESCRIPTION:
URL:https://www.historicmedley.org/event/montgomery-countryside-alliance-tour-js/
CATEGORIES:Seneca Schoolhouse
ORGANIZER;CN="Caroline Taylor":MAILTO:caroline@mocoalliance.org
END:VEVENT
END:VCALENDAR