BEGIN:VCALENDAR
VERSION:2.0
PRODID:-//Historic Medley District - ECPv6.15.20//NONSGML v1.0//EN
CALSCALE:GREGORIAN
METHOD:PUBLISH
X-WR-CALNAME:Historic Medley District
X-ORIGINAL-URL:https://www.historicmedley.org
X-WR-CALDESC:Events for Historic Medley District
REFRESH-INTERVAL;VALUE=DURATION:PT1H
X-Robots-Tag:noindex
X-PUBLISHED-TTL:PT1H
BEGIN:VTIMEZONE
TZID:America/New_York
BEGIN:DAYLIGHT
TZOFFSETFROM:-0500
TZOFFSETTO:-0400
TZNAME:EDT
DTSTART:20130310T070000
END:DAYLIGHT
BEGIN:STANDARD
TZOFFSETFROM:-0400
TZOFFSETTO:-0500
TZNAME:EST
DTSTART:20131103T060000
END:STANDARD
BEGIN:DAYLIGHT
TZOFFSETFROM:-0500
TZOFFSETTO:-0400
TZNAME:EDT
DTSTART:20140309T070000
END:DAYLIGHT
BEGIN:STANDARD
TZOFFSETFROM:-0400
TZOFFSETTO:-0500
TZNAME:EST
DTSTART:20141102T060000
END:STANDARD
BEGIN:DAYLIGHT
TZOFFSETFROM:-0500
TZOFFSETTO:-0400
TZNAME:EDT
DTSTART:20150308T070000
END:DAYLIGHT
BEGIN:STANDARD
TZOFFSETFROM:-0400
TZOFFSETTO:-0500
TZNAME:EST
DTSTART:20151101T060000
END:STANDARD
BEGIN:DAYLIGHT
TZOFFSETFROM:-0500
TZOFFSETTO:-0400
TZNAME:EDT
DTSTART:20160313T070000
END:DAYLIGHT
BEGIN:STANDARD
TZOFFSETFROM:-0400
TZOFFSETTO:-0500
TZNAME:EST
DTSTART:20161106T060000
END:STANDARD
END:VTIMEZONE
BEGIN:VEVENT
DTSTART;TZID=America/New_York:20150424T100000
DTEND;TZID=America/New_York:20150424T140000
DTSTAMP:20260424T071515
CREATED:20141024T181701Z
LAST-MODIFIED:20141024T181701Z
UID:1109-1429869600-1429884000@www.historicmedley.org
SUMMARY:Poolesville Elementary - JS
DESCRIPTION:29 4th graders
URL:https://www.historicmedley.org/event/poolesville-elementary-js-3/
CATEGORIES:Seneca Schoolhouse
ORGANIZER;CN="Pam Kierce":MAILTO:Pamela_M_Kierce@MCPSMD.ORG
END:VEVENT
BEGIN:VEVENT
DTSTART;TZID=America/New_York:20150422T100000
DTEND;TZID=America/New_York:20150422T140000
DTSTAMP:20260424T071515
CREATED:20141024T180429Z
LAST-MODIFIED:20141024T180429Z
UID:1104-1429696800-1429711200@www.historicmedley.org
SUMMARY:Poolesville Elementary - JS
DESCRIPTION:29 4th graders
URL:https://www.historicmedley.org/event/poolesville-elementary-js/
LOCATION:Seneca Schoolhouse
CATEGORIES:Seneca Schoolhouse
END:VEVENT
BEGIN:VEVENT
DTSTART;TZID=America/New_York:20150421T100000
DTEND;TZID=America/New_York:20150421T140000
DTSTAMP:20260424T071515
CREATED:20140902T141139Z
LAST-MODIFIED:20140902T141139Z
UID:1028-1429610400-1429624800@www.historicmedley.org
SUMMARY:Holy Redeemer School - ASG
DESCRIPTION:28 4th-Graders
URL:https://www.historicmedley.org/event/holy-redeemer-school-asg/
CATEGORIES:Seneca Schoolhouse
ORGANIZER;CN="Rory Edwards":MAILTO:redwards@holy-redeemer.org
END:VEVENT
BEGIN:VEVENT
DTSTART;TZID=America/New_York:20150409T100000
DTEND;TZID=America/New_York:20150409T140000
DTSTAMP:20260424T071515
CREATED:20140714T150013Z
LAST-MODIFIED:20140714T150013Z
UID:981-1428573600-1428588000@www.historicmedley.org
SUMMARY:Granite Baptist School - JS
DESCRIPTION:24 Third Graders
URL:https://www.historicmedley.org/event/granite-baptist-school-js/
CATEGORIES:Seneca Schoolhouse
ORGANIZER;CN="Amanda Wilson":MAILTO:amandawilson100@gmail.com
END:VEVENT
BEGIN:VEVENT
DTSTART;TZID=America/New_York:20150324T100000
DTEND;TZID=America/New_York:20150324T140000
DTSTAMP:20260424T071515
CREATED:20140901T142940Z
LAST-MODIFIED:20140901T142940Z
UID:1025-1427191200-1427205600@www.historicmedley.org
SUMMARY:Grace Christian School - JS
DESCRIPTION:15 Third Graders
URL:https://www.historicmedley.org/event/grace-christian-school-js-2/
CATEGORIES:Seneca Schoolhouse
ORGANIZER;CN="Mrs. Contic":MAILTO:jtaylor@gcsbowie.org
END:VEVENT
BEGIN:VEVENT
DTSTART;TZID=America/New_York:20150323T100000
DTEND;TZID=America/New_York:20150323T140000
DTSTAMP:20260424T071515
CREATED:20140901T142716Z
LAST-MODIFIED:20140901T142716Z
UID:1022-1427104800-1427119200@www.historicmedley.org
SUMMARY:Grace Christian School - JS
DESCRIPTION:15 Third Graders
URL:https://www.historicmedley.org/event/grace-christian-school-js/
CATEGORIES:Seneca Schoolhouse
ORGANIZER;CN="Judy Taylor":MAILTO:jtaylor@gcsbowie.org
END:VEVENT
BEGIN:VEVENT
DTSTART;TZID=America/New_York:20150320T100000
DTEND;TZID=America/New_York:20150320T140000
DTSTAMP:20260424T071515
CREATED:20140924T182935Z
LAST-MODIFIED:20140924T182935Z
UID:1043-1426845600-1426860000@www.historicmedley.org
SUMMARY:Bethel Christian Academy - JS
DESCRIPTION:17 Students
URL:https://www.historicmedley.org/event/bethel-christian-academy-js-2/
CATEGORIES:Seneca Schoolhouse
ORGANIZER;CN="Amanda Brenneman":MAILTO:amanda.brenneman@teambethel.org
END:VEVENT
BEGIN:VEVENT
DTSTART;TZID=America/New_York:20150319T100000
DTEND;TZID=America/New_York:20150319T140000
DTSTAMP:20260424T071515
CREATED:20140924T182815Z
LAST-MODIFIED:20140924T182815Z
UID:1040-1426759200-1426773600@www.historicmedley.org
SUMMARY:Bethel Christian Academy - JS
DESCRIPTION:17 Students
URL:https://www.historicmedley.org/event/bethel-christian-academy-js/
CATEGORIES:Seneca Schoolhouse
ORGANIZER;CN="Amanda Brenneman":MAILTO:amanda.brenneman@teambethel.org
END:VEVENT
BEGIN:VEVENT
DTSTART;TZID=America/New_York:20141218T100000
DTEND;TZID=America/New_York:20141218T140000
DTSTAMP:20260424T071515
CREATED:20141116T204416Z
LAST-MODIFIED:20141116T204416Z
UID:1125-1418896800-1418911200@www.historicmedley.org
SUMMARY:Stoddert Elementary - JS
DESCRIPTION:Ms. O’Beirne’s 3rd grade – 21 students
URL:https://www.historicmedley.org/event/stoddert-elementary-js-5/
CATEGORIES:Seneca Schoolhouse
ORGANIZER;CN="Julie Schneider":MAILTO:julie.schneider@dc.gov
END:VEVENT
BEGIN:VEVENT
DTSTART;TZID=America/New_York:20141217T100000
DTEND;TZID=America/New_York:20141217T140000
DTSTAMP:20260424T071515
CREATED:20141116T203927Z
LAST-MODIFIED:20141116T203927Z
UID:1123-1418810400-1418824800@www.historicmedley.org
SUMMARY:Stoddert Elemtary - JS
DESCRIPTION:Ms. Caccavale’s 3rd grade – 21 students
URL:https://www.historicmedley.org/event/stoddert-elemtary-js/
CATEGORIES:Seneca Schoolhouse
ORGANIZER;CN="Julie Schneider":MAILTO:julie.schneider@dc.gov
END:VEVENT
BEGIN:VEVENT
DTSTART;TZID=America/New_York:20141216T100000
DTEND;TZID=America/New_York:20141216T140000
DTSTAMP:20260424T071515
CREATED:20141116T204127Z
LAST-MODIFIED:20141116T204127Z
UID:1124-1418724000-1418738400@www.historicmedley.org
SUMMARY:Stoddert Elementary - JS
DESCRIPTION:Ms. Choi’s 3rd grade – 21 students
URL:https://www.historicmedley.org/event/stoddert-elementary-js-4/
CATEGORIES:Seneca Schoolhouse
ORGANIZER;CN="Julie Schneider":MAILTO:julie.schneider@dc.gov
END:VEVENT
BEGIN:VEVENT
DTSTART;TZID=America/New_York:20141211T100000
DTEND;TZID=America/New_York:20141211T140000
DTSTAMP:20260424T071515
CREATED:20140929T145013Z
LAST-MODIFIED:20140929T145013Z
UID:1067-1418292000-1418306400@www.historicmedley.org
SUMMARY:Allison S.'s Homeschool Group - JS
DESCRIPTION:
URL:https://www.historicmedley.org/event/allison-s-s-homeschool-group-js/
CATEGORIES:Seneca Schoolhouse
ORGANIZER;CN="Allison S.":MAILTO:Allison.ls@live.com
END:VEVENT
BEGIN:VEVENT
DTSTART;TZID=America/New_York:20141210T100000
DTEND;TZID=America/New_York:20141210T140000
DTSTAMP:20260424T071515
CREATED:20141116T203713Z
LAST-MODIFIED:20141116T203713Z
UID:1122-1418205600-1418220000@www.historicmedley.org
SUMMARY:Stoddert Elementary - JS
DESCRIPTION:Ms. Lasov’s 2nd grade – 26 students
URL:https://www.historicmedley.org/event/stoddert-elementary-js-3/
CATEGORIES:Seneca Schoolhouse
ORGANIZER;CN="Julie Schneider":MAILTO:julie.schneider@dc.gov
END:VEVENT
BEGIN:VEVENT
DTSTART;TZID=America/New_York:20141209T100000
DTEND;TZID=America/New_York:20141209T140000
DTSTAMP:20260424T071515
CREATED:20141116T203433Z
LAST-MODIFIED:20141116T203433Z
UID:1121-1418119200-1418133600@www.historicmedley.org
SUMMARY:Stoddert Elementary - JS
DESCRIPTION:Ms. Regensburger’s 2nd grade – 27 students
URL:https://www.historicmedley.org/event/stoddert-elementary-js-2/
CATEGORIES:Seneca Schoolhouse
ORGANIZER;CN="Julie Schneider":MAILTO:julie.schneider@dc.gov
END:VEVENT
BEGIN:VEVENT
DTSTART;TZID=America/New_York:20141204T100000
DTEND;TZID=America/New_York:20141204T140000
DTSTAMP:20260424T071515
CREATED:20140714T143639Z
LAST-MODIFIED:20140714T143639Z
UID:977-1417687200-1417701600@www.historicmedley.org
SUMMARY:Homeschool by Grace - JS
DESCRIPTION:
URL:https://www.historicmedley.org/event/homeschool-by-grace-js/
CATEGORIES:Seneca Schoolhouse
ORGANIZER;CN="Erin Teske":MAILTO:Erinteske@yahoo.com
END:VEVENT
BEGIN:VEVENT
DTSTART;TZID=America/New_York:20141202T100000
DTEND;TZID=America/New_York:20141202T140000
DTSTAMP:20260424T071515
CREATED:20141116T203018Z
LAST-MODIFIED:20141116T203018Z
UID:1119-1417514400-1417528800@www.historicmedley.org
SUMMARY:Stoddert Elementary - JS
DESCRIPTION:Ms. Redman’s 2nd grade – 27 students
URL:https://www.historicmedley.org/event/stoddert-elementary-js/
CATEGORIES:Seneca Schoolhouse
ORGANIZER;CN="Julie Schneider":MAILTO:julie.schneider@dc.gov
END:VEVENT
BEGIN:VEVENT
DTSTART;TZID=America/New_York:20141125T100000
DTEND;TZID=America/New_York:20141125T140000
DTSTAMP:20260424T071515
CREATED:20140929T145304Z
LAST-MODIFIED:20140929T145304Z
UID:1069-1416909600-1416924000@www.historicmedley.org
SUMMARY:Horace Mann Elementary - JS
DESCRIPTION:17 Fifth Graders
URL:https://www.historicmedley.org/event/horace-mann-elementary-js/
CATEGORIES:Seneca Schoolhouse
END:VEVENT
BEGIN:VEVENT
DTSTART;TZID=America/New_York:20141124T100000
DTEND;TZID=America/New_York:20141124T140000
DTSTAMP:20260424T071515
CREATED:20140725T153515Z
LAST-MODIFIED:20140725T153515Z
UID:996-1416823200-1416837600@www.historicmedley.org
SUMMARY:Chieftain Christian Academy - JS
DESCRIPTION:Grades K-8
URL:https://www.historicmedley.org/event/chieftain-christian-academy-js/
CATEGORIES:Seneca Schoolhouse
ORGANIZER;CN="Debra Tallman":MAILTO:tallmanfam.rcn.com
END:VEVENT
BEGIN:VEVENT
DTSTART;TZID=America/New_York:20141120T120000
DTEND;TZID=America/New_York:20141120T130000
DTSTAMP:20260424T071515
CREATED:20141028T220818Z
LAST-MODIFIED:20141028T220818Z
UID:1113-1416484800-1416488400@www.historicmedley.org
SUMMARY:Centers For Behavioral Health - JS
DESCRIPTION:One hour presentation – 25 adults
URL:https://www.historicmedley.org/event/centers-for-behavioral-health-js/
LOCATION:Seneca Schoolhouse
CATEGORIES:Seneca Schoolhouse
ORGANIZER;CN="Tahrea Fleming":MAILTO:tflemming@cbhhealth.com
END:VEVENT
BEGIN:VEVENT
DTSTART;TZID=America/New_York:20141027T100000
DTEND;TZID=America/New_York:20141027T140000
DTSTAMP:20260424T071515
CREATED:20140902T143809Z
LAST-MODIFIED:20140902T143809Z
UID:1032-1414404000-1414418400@www.historicmedley.org
SUMMARY:Concord Hill School - JS
DESCRIPTION:17 Third-Graders
URL:https://www.historicmedley.org/event/concord-hill-school-js/
CATEGORIES:Seneca Schoolhouse
ORGANIZER;CN="Wendy Glasser":MAILTO:wglasser@concordhill.org
END:VEVENT
BEGIN:VEVENT
DTSTART;TZID=America/New_York:20141020T100000
DTEND;TZID=America/New_York:20141020T140000
DTSTAMP:20260424T071515
CREATED:20141013T140511Z
LAST-MODIFIED:20141024T173650Z
UID:1092-1413799200-1413813600@www.historicmedley.org
SUMMARY:Washington Waldorf School - JS
DESCRIPTION:17 4th Graders
URL:https://www.historicmedley.org/event/washington-waldorf-school-js/
CATEGORIES:Seneca Schoolhouse
ORGANIZER;CN="Debbie Spitulnik":MAILTO:dspitulnik@gmail.com
END:VEVENT
BEGIN:VEVENT
DTSTART;TZID=America/New_York:20141017T100000
DTEND;TZID=America/New_York:20141017T140000
DTSTAMP:20260424T071515
CREATED:20141009T125013Z
LAST-MODIFIED:20141009T125013Z
UID:1087-1413540000-1413554400@www.historicmedley.org
SUMMARY:Classical Conversations Bethesda - AW
DESCRIPTION:29 Students\, K-6
URL:https://www.historicmedley.org/event/classical-conversations-bethesda-aw/
CATEGORIES:Seneca Schoolhouse
ORGANIZER;CN="Megan Beglin":MAILTO:meganbeglin@gmail.com
END:VEVENT
BEGIN:VEVENT
DTSTART;TZID=America/New_York:20141015T160000
DTEND;TZID=America/New_York:20141015T180000
DTSTAMP:20260424T071515
CREATED:20140930T151857Z
LAST-MODIFIED:20141024T174019Z
UID:1075-1413388800-1413396000@www.historicmedley.org
SUMMARY:Webelos Cub Scouts - JS
DESCRIPTION:10-20 Cub Scouts\, 5th Grade
URL:https://www.historicmedley.org/event/webelos-cub-scouts-js/
CATEGORIES:Seneca Schoolhouse
ORGANIZER;CN="Nancy White":MAILTO:rufusandclaire1@verizon.net
END:VEVENT
BEGIN:VEVENT
DTSTART;TZID=America/New_York:20140927T100000
DTEND;TZID=America/New_York:20140927T140000
DTSTAMP:20260424T071515
CREATED:20140929T135104Z
LAST-MODIFIED:20140929T135104Z
UID:1065-1411812000-1411826400@www.historicmedley.org
SUMMARY:Montgomery Countryside Alliance - JS
DESCRIPTION:Seniors Tour
URL:https://www.historicmedley.org/event/montgomery-countryside-alliance-js/
CATEGORIES:Seneca Schoolhouse
ORGANIZER;CN="Caroline Taylor":MAILTO:caroline@mocoalliance.org
END:VEVENT
BEGIN:VEVENT
DTSTART;TZID=America/New_York:20140904T100000
DTEND;TZID=America/New_York:20140904T140000
DTSTAMP:20260424T071515
CREATED:20140723T134356Z
LAST-MODIFIED:20140723T134356Z
UID:994-1409824800-1409839200@www.historicmedley.org
SUMMARY:Bullis School - JS
DESCRIPTION:28 Fifth Graders
URL:https://www.historicmedley.org/event/bullis-school-js/
CATEGORIES:Seneca Schoolhouse
ORGANIZER;CN="Jennifer Houston":MAILTO:jennifer_houston@bullis.org
END:VEVENT
BEGIN:VEVENT
DTSTART;TZID=America/New_York:20140822T130000
DTEND;TZID=America/New_York:20140822T160000
DTSTAMP:20260424T071515
CREATED:20140818T142622Z
LAST-MODIFIED:20140818T142622Z
UID:1004-1408712400-1408723200@www.historicmedley.org
SUMMARY:Montgomery Countryside Alliance Tour - JS
DESCRIPTION:
URL:https://www.historicmedley.org/event/montgomery-countryside-alliance-tour-js/
CATEGORIES:Seneca Schoolhouse
ORGANIZER;CN="Caroline Taylor":MAILTO:caroline@mocoalliance.org
END:VEVENT
END:VCALENDAR