BEGIN:VCALENDAR
VERSION:2.0
PRODID:-//Historic Medley District - ECPv6.15.20//NONSGML v1.0//EN
CALSCALE:GREGORIAN
METHOD:PUBLISH
X-WR-CALNAME:Historic Medley District
X-ORIGINAL-URL:https://www.historicmedley.org
X-WR-CALDESC:Events for Historic Medley District
REFRESH-INTERVAL;VALUE=DURATION:PT1H
X-Robots-Tag:noindex
X-PUBLISHED-TTL:PT1H
BEGIN:VTIMEZONE
TZID:America/New_York
BEGIN:DAYLIGHT
TZOFFSETFROM:-0500
TZOFFSETTO:-0400
TZNAME:EDT
DTSTART:20130310T070000
END:DAYLIGHT
BEGIN:STANDARD
TZOFFSETFROM:-0400
TZOFFSETTO:-0500
TZNAME:EST
DTSTART:20131103T060000
END:STANDARD
BEGIN:DAYLIGHT
TZOFFSETFROM:-0500
TZOFFSETTO:-0400
TZNAME:EDT
DTSTART:20140309T070000
END:DAYLIGHT
BEGIN:STANDARD
TZOFFSETFROM:-0400
TZOFFSETTO:-0500
TZNAME:EST
DTSTART:20141102T060000
END:STANDARD
BEGIN:DAYLIGHT
TZOFFSETFROM:-0500
TZOFFSETTO:-0400
TZNAME:EDT
DTSTART:20150308T070000
END:DAYLIGHT
BEGIN:STANDARD
TZOFFSETFROM:-0400
TZOFFSETTO:-0500
TZNAME:EST
DTSTART:20151101T060000
END:STANDARD
BEGIN:DAYLIGHT
TZOFFSETFROM:-0500
TZOFFSETTO:-0400
TZNAME:EDT
DTSTART:20160313T070000
END:DAYLIGHT
BEGIN:STANDARD
TZOFFSETFROM:-0400
TZOFFSETTO:-0500
TZNAME:EST
DTSTART:20161106T060000
END:STANDARD
BEGIN:DAYLIGHT
TZOFFSETFROM:-0500
TZOFFSETTO:-0400
TZNAME:EDT
DTSTART:20170312T070000
END:DAYLIGHT
BEGIN:STANDARD
TZOFFSETFROM:-0400
TZOFFSETTO:-0500
TZNAME:EST
DTSTART:20171105T060000
END:STANDARD
BEGIN:DAYLIGHT
TZOFFSETFROM:-0500
TZOFFSETTO:-0400
TZNAME:EDT
DTSTART:20180311T070000
END:DAYLIGHT
BEGIN:STANDARD
TZOFFSETFROM:-0400
TZOFFSETTO:-0500
TZNAME:EST
DTSTART:20181104T060000
END:STANDARD
BEGIN:DAYLIGHT
TZOFFSETFROM:-0500
TZOFFSETTO:-0400
TZNAME:EDT
DTSTART:20190310T070000
END:DAYLIGHT
BEGIN:STANDARD
TZOFFSETFROM:-0400
TZOFFSETTO:-0500
TZNAME:EST
DTSTART:20191103T060000
END:STANDARD
BEGIN:DAYLIGHT
TZOFFSETFROM:-0500
TZOFFSETTO:-0400
TZNAME:EDT
DTSTART:20200308T070000
END:DAYLIGHT
BEGIN:STANDARD
TZOFFSETFROM:-0400
TZOFFSETTO:-0500
TZNAME:EST
DTSTART:20201101T060000
END:STANDARD
END:VTIMEZONE
BEGIN:VEVENT
DTSTART;TZID=America/New_York:20190407T160000
DTEND;TZID=America/New_York:20190407T170000
DTSTAMP:20260424T132344
CREATED:20190122T163741Z
LAST-MODIFIED:20190201T135509Z
UID:2524-1554652800-1554656400@www.historicmedley.org
SUMMARY:Historic Medley District Speaker Series 2019
DESCRIPTION:Skip Etheridge\, Sugarland Ethnohistory Project \n“From Sugarland to the National Mall in Washington\, DC: How the African-American Communities in Poolesville have impacted our Nation.”
URL:https://www.historicmedley.org/event/historic-medley-district-speaker-series-2019-2/
CATEGORIES:Educational,Old Bank Museum
ORGANIZER;CN="Abby Clouse":MAILTO:clousea@gmail.com
END:VEVENT
BEGIN:VEVENT
DTSTART;TZID=America/New_York:20190310T160000
DTEND;TZID=America/New_York:20190310T170000
DTSTAMP:20260424T132344
CREATED:20190122T162443Z
LAST-MODIFIED:20190305T161448Z
UID:2515-1552233600-1552237200@www.historicmedley.org
SUMMARY:Historic Medley District Speaker Series 2019
DESCRIPTION:Kenny Sholes\, Historic Ag Reserve Properties \n“A Brief Survey of Our Inheritance” \nThe lands around us have played an important part in American history over the last few centuries. The fields we pass through each day have spurred economic development\, been the scene of battles\, provided escape from the pace of daily life\, and brought families together at the dinner table. Dotting this landscape is an array of impressive historic homes – standing as visual reminders of those who came before us. \nIn this presentation\, we will review some of the incredible historic homes in the Medley District area of the Ag Reserve\, using the homes as a way to better understand the people whose land we’ve inherited and how their dreams\, goals\, and struggles were not all that different from ours today. \nPLEASE COME EARLY TO ENSURE SEATING — SPACE IS LIMITED!
URL:https://www.historicmedley.org/event/historic-medley-district-speaker-series-2019/
CATEGORIES:Old Bank Museum
ORGANIZER;CN="Amy Baker":MAILTO:amding@gmail.com
END:VEVENT
BEGIN:VEVENT
DTSTART;TZID=America/New_York:20190210T160000
DTEND;TZID=America/New_York:20190210T170000
DTSTAMP:20260424T132344
CREATED:20190122T161434Z
LAST-MODIFIED:20190201T170221Z
UID:2512-1549814400-1549818000@www.historicmedley.org
SUMMARY:Historic Medley District Speaker Series 2019
DESCRIPTION:Tony Cohen\, Button Farm Living History Center \n“The Lynching of George Peck” \nHistorian Anthony Cohen will speak on the lynching of George Peck in Poolesville\, Maryland on January 10\, 1880. The life of Peck\, a local laborer accused of assaulting a young white girl\, will be examined along with details of his arrest\, abduction and murder at the hands of a mob. The presentation will feature images of the people\, places and artifacts from this long-overlooked chapter of Poolesville history.
URL:https://www.historicmedley.org/event/tony-cohen-button-farm-living-history-center/
LOCATION:Old Town Hall Bank Museum\, 19930 Fisher Avenue\, Poolesville\, MD\, 20837\, United States
CATEGORIES:Old Bank Museum
END:VEVENT
BEGIN:VEVENT
DTSTART;VALUE=DATE:20150117
DTEND;VALUE=DATE:20150118
DTSTAMP:20260424T132344
CREATED:20141220T154736Z
LAST-MODIFIED:20141220T154736Z
UID:1134-1421452800-1421539199@www.historicmedley.org
SUMMARY:Wedding at Old Town Hall Bank Museum
DESCRIPTION:
URL:https://www.historicmedley.org/event/wedding-at-old-town-hall-bank-museum/
CATEGORIES:Old Bank Museum
END:VEVENT
BEGIN:VEVENT
DTSTART;VALUE=DATE:20150116
DTEND;VALUE=DATE:20150117
DTSTAMP:20260424T132344
CREATED:20141220T154013Z
LAST-MODIFIED:20141220T154610Z
UID:1129-1421366400-1421452799@www.historicmedley.org
SUMMARY:Wedding Preparations
DESCRIPTION:
URL:https://www.historicmedley.org/event/wedding-preparations/
LOCATION:Old Town Hall Bank Museum\, 19930 Fisher Avenue\, Poolesville\, MD\, 20837\, United States
CATEGORIES:Old Bank Museum
END:VEVENT
BEGIN:VEVENT
DTSTART;TZID=America/New_York:20140713T130000
DTEND;TZID=America/New_York:20140713T170000
DTSTAMP:20260424T132344
CREATED:20140708T193015Z
LAST-MODIFIED:20140708T193015Z
UID:959-1405256400-1405270800@www.historicmedley.org
SUMMARY:Old Bank Building Civil War Exhibit
DESCRIPTION:
URL:https://www.historicmedley.org/event/old-bank-building-civil-war-exhibit/
LOCATION:Old Town Hall Bank Museum\, 19930 Fisher Avenue\, Poolesville\, MD\, 20837\, United States
CATEGORIES:Old Bank Museum
END:VEVENT
END:VCALENDAR