BEGIN:VCALENDAR
VERSION:2.0
PRODID:-//Historic Medley District - ECPv6.15.20//NONSGML v1.0//EN
CALSCALE:GREGORIAN
METHOD:PUBLISH
X-ORIGINAL-URL:https://www.historicmedley.org
X-WR-CALDESC:Events for Historic Medley District
REFRESH-INTERVAL;VALUE=DURATION:PT1H
X-Robots-Tag:noindex
X-PUBLISHED-TTL:PT1H
BEGIN:VTIMEZONE
TZID:America/New_York
BEGIN:DAYLIGHT
TZOFFSETFROM:-0500
TZOFFSETTO:-0400
TZNAME:EDT
DTSTART:20180311T070000
END:DAYLIGHT
BEGIN:STANDARD
TZOFFSETFROM:-0400
TZOFFSETTO:-0500
TZNAME:EST
DTSTART:20181104T060000
END:STANDARD
BEGIN:DAYLIGHT
TZOFFSETFROM:-0500
TZOFFSETTO:-0400
TZNAME:EDT
DTSTART:20190310T070000
END:DAYLIGHT
BEGIN:STANDARD
TZOFFSETFROM:-0400
TZOFFSETTO:-0500
TZNAME:EST
DTSTART:20191103T060000
END:STANDARD
BEGIN:DAYLIGHT
TZOFFSETFROM:-0500
TZOFFSETTO:-0400
TZNAME:EDT
DTSTART:20200308T070000
END:DAYLIGHT
BEGIN:STANDARD
TZOFFSETFROM:-0400
TZOFFSETTO:-0500
TZNAME:EST
DTSTART:20201101T060000
END:STANDARD
END:VTIMEZONE
BEGIN:VEVENT
DTSTART;TZID=America/New_York:20191026T180000
DTEND;TZID=America/New_York:20191026T213000
DTSTAMP:20260424T211725
CREATED:20190924T180333Z
LAST-MODIFIED:20190924T180333Z
UID:3014-1572112800-1572125400@www.historicmedley.org
SUMMARY:THE POOLESVILLE GHOST TOUR -- October 26\, 2019
DESCRIPTION:We’re back with bone chilling tales from Poolesville’s past! \nProfessor and folklore enthusiast Christine Rai will lead a hair-raising walking tour through the center of Poolesville\, and tell the tales of dark histories and chilling hauntings associated with some our oldest historic buildings. \nTwo nights with two tours each. Enough fun to scare the whole family! \nOctober 19 & 26\nEarly Tours 6:00 – 7:00 p.m.\nLate Adult Only Tours 8:00 – 9:15 p.m. \nEarly tours are family-friendly and suitable for all ages. Tours end back at the John Poole House\, where a bonfire\, s’mores\, and cider will be waiting. \nLater tours are even spookier and begin with a bonfire\, cider\, and s’mores at the John Poole House (ages 15+). \nTickets must be purchased online\, in advance. Space is limited.\nBuy your tickets now and join us if you dare!
URL:https://www.historicmedley.org/event/the-poolesville-ghost-tour-october-26-2019/
LOCATION:John Poole House\, 19923 Fisher Avenue\, Poolesville\, MD\, 20837\, United States
CATEGORIES:Fundraising,John Poole House
ORGANIZER;CN="Abby Clouse":MAILTO:clousea@gmail.com
END:VEVENT
BEGIN:VEVENT
DTSTART;TZID=America/New_York:20191019T180000
DTEND;TZID=America/New_York:20191019T213000
DTSTAMP:20260424T211725
CREATED:20190924T180358Z
LAST-MODIFIED:20190924T180358Z
UID:3029-1571508000-1571520600@www.historicmedley.org
SUMMARY:THE POOLESVILLE GHOST TOUR -- October 19\, 2019
DESCRIPTION:We’re back with bone chilling tales from Poolesville’s past! \nProfessor and folklore enthusiast Christine Rai will lead a hair-raising walking tour through the center of Poolesville\, and tell the tales of dark histories and chilling hauntings associated with some our oldest historic buildings. \nTwo nights with two tours each. Enough fun to scare the whole family! \nOctober 19 & 26\nEarly Tours 6:00 – 7:00 p.m.\nLate Adult Only Tours 8:00 – 9:15 p.m. \nEarly tours are family-friendly and suitable for all ages. Tours end back at the John Poole House\, where a bonfire\, s’mores\, and cider will be waiting. \nLater tours are even spookier and begin with a bonfire\, cider\, and s’mores at the John Poole House (ages 15+). \nTickets must be purchased online\, in advance. Space is limited.\nBuy your tickets now and join us if you dare!
URL:https://www.historicmedley.org/event/the-poolesville-ghost-tour-october-19-2019/
LOCATION:John Poole House\, 19923 Fisher Avenue\, Poolesville\, MD\, 20837\, United States
CATEGORIES:Fundraising,John Poole House
ORGANIZER;CN="Abby Clouse":MAILTO:clousea@gmail.com
END:VEVENT
END:VCALENDAR