BEGIN:VCALENDAR
VERSION:2.0
PRODID:-//Historic Medley District - ECPv6.15.20//NONSGML v1.0//EN
CALSCALE:GREGORIAN
METHOD:PUBLISH
X-ORIGINAL-URL:https://www.historicmedley.org
X-WR-CALDESC:Events for Historic Medley District
REFRESH-INTERVAL;VALUE=DURATION:PT1H
X-Robots-Tag:noindex
X-PUBLISHED-TTL:PT1H
BEGIN:VTIMEZONE
TZID:America/New_York
BEGIN:DAYLIGHT
TZOFFSETFROM:-0500
TZOFFSETTO:-0400
TZNAME:EDT
DTSTART:20130310T070000
END:DAYLIGHT
BEGIN:STANDARD
TZOFFSETFROM:-0400
TZOFFSETTO:-0500
TZNAME:EST
DTSTART:20131103T060000
END:STANDARD
BEGIN:DAYLIGHT
TZOFFSETFROM:-0500
TZOFFSETTO:-0400
TZNAME:EDT
DTSTART:20140309T070000
END:DAYLIGHT
BEGIN:STANDARD
TZOFFSETFROM:-0400
TZOFFSETTO:-0500
TZNAME:EST
DTSTART:20141102T060000
END:STANDARD
BEGIN:DAYLIGHT
TZOFFSETFROM:-0500
TZOFFSETTO:-0400
TZNAME:EDT
DTSTART:20150308T070000
END:DAYLIGHT
BEGIN:STANDARD
TZOFFSETFROM:-0400
TZOFFSETTO:-0500
TZNAME:EST
DTSTART:20151101T060000
END:STANDARD
BEGIN:DAYLIGHT
TZOFFSETFROM:-0500
TZOFFSETTO:-0400
TZNAME:EDT
DTSTART:20160313T070000
END:DAYLIGHT
BEGIN:STANDARD
TZOFFSETFROM:-0400
TZOFFSETTO:-0500
TZNAME:EST
DTSTART:20161106T060000
END:STANDARD
BEGIN:DAYLIGHT
TZOFFSETFROM:-0500
TZOFFSETTO:-0400
TZNAME:EDT
DTSTART:20170312T070000
END:DAYLIGHT
BEGIN:STANDARD
TZOFFSETFROM:-0400
TZOFFSETTO:-0500
TZNAME:EST
DTSTART:20171105T060000
END:STANDARD
BEGIN:DAYLIGHT
TZOFFSETFROM:-0500
TZOFFSETTO:-0400
TZNAME:EDT
DTSTART:20180311T070000
END:DAYLIGHT
BEGIN:STANDARD
TZOFFSETFROM:-0400
TZOFFSETTO:-0500
TZNAME:EST
DTSTART:20181104T060000
END:STANDARD
BEGIN:DAYLIGHT
TZOFFSETFROM:-0500
TZOFFSETTO:-0400
TZNAME:EDT
DTSTART:20190310T070000
END:DAYLIGHT
BEGIN:STANDARD
TZOFFSETFROM:-0400
TZOFFSETTO:-0500
TZNAME:EST
DTSTART:20191103T060000
END:STANDARD
BEGIN:DAYLIGHT
TZOFFSETFROM:-0500
TZOFFSETTO:-0400
TZNAME:EDT
DTSTART:20200308T070000
END:DAYLIGHT
BEGIN:STANDARD
TZOFFSETFROM:-0400
TZOFFSETTO:-0500
TZNAME:EST
DTSTART:20201101T060000
END:STANDARD
END:VTIMEZONE
BEGIN:VEVENT
DTSTART;TZID=America/New_York:20190511T130000
DTEND;TZID=America/New_York:20190511T133000
DTSTAMP:20260424T115222
CREATED:20190329T110540Z
LAST-MODIFIED:20190329T112106Z
UID:2871-1557579600-1557581400@www.historicmedley.org
SUMMARY:HMD's Historic Site Scavenger Hunt
DESCRIPTION:Come have an adventure at HMD’s Historic Site Scavenger Hunt! Explore several historic sites in the Poolesville area and complete an activity at each one before receiving a clue with your next location. Make it through the entire scavenger hunt and be rewarded with a special treat! We hope you can join us for this program to learn more about the rich history of Western Montgomery County. \nThe Details:\n– The scavenger hunt is for both adults and kids\, so bring the whole family! Children under 18 are free.\n– Participants will drive from site to site in their own cars. Please plan to have your own transportation.\n– The scavenger hunt is rain or shine.\n– This is not a contest or a race– just come and have fun! \nSpace is limited! Register today!  Two groups starting at 1:00 PM and 1:30 PM with additional hunts added if demand warrants. \nhttps://www.eventbrite.com/e/historic-site-scavenger-hunt-tickets-59346207103
URL:https://www.historicmedley.org/event/hmds-historic-site-scavenger-hunt/
CATEGORIES:Educational,Fundraising,General
END:VEVENT
BEGIN:VEVENT
DTSTART;TZID=America/New_York:20190407T160000
DTEND;TZID=America/New_York:20190407T170000
DTSTAMP:20260424T115222
CREATED:20190122T163741Z
LAST-MODIFIED:20190201T135509Z
UID:2524-1554652800-1554656400@www.historicmedley.org
SUMMARY:Historic Medley District Speaker Series 2019
DESCRIPTION:Skip Etheridge\, Sugarland Ethnohistory Project \n“From Sugarland to the National Mall in Washington\, DC: How the African-American Communities in Poolesville have impacted our Nation.”
URL:https://www.historicmedley.org/event/historic-medley-district-speaker-series-2019-2/
CATEGORIES:Educational,Old Bank Museum
ORGANIZER;CN="Abby Clouse":MAILTO:clousea@gmail.com
END:VEVENT
BEGIN:VEVENT
DTSTART;TZID=America/New_York:20160625T120000
DTEND;TZID=America/New_York:20160625T160000
DTSTAMP:20260424T115222
CREATED:20160609T142853Z
LAST-MODIFIED:20160609T142853Z
UID:1797-1466856000-1466870400@www.historicmedley.org
SUMMARY:Heritage Days
DESCRIPTION:
URL:https://www.historicmedley.org/event/heritage-days-6/
LOCATION:Seneca Schoolhouse
CATEGORIES:Educational
END:VEVENT
BEGIN:VEVENT
DTSTART;TZID=America/New_York:20160625T120000
DTEND;TZID=America/New_York:20160625T160000
DTSTAMP:20260424T115222
CREATED:20160609T142746Z
LAST-MODIFIED:20160609T142746Z
UID:1795-1466856000-1466870400@www.historicmedley.org
SUMMARY:Heritage Days
DESCRIPTION:
URL:https://www.historicmedley.org/event/heritage-days-5/
LOCATION:John Poole House\, 19923 Fisher Avenue\, Poolesville\, MD\, 20837\, United States
CATEGORIES:Educational
END:VEVENT
BEGIN:VEVENT
DTSTART;TZID=America/New_York:20140628T080000
DTEND;TZID=America/New_York:20140708T170000
DTSTAMP:20260424T115222
CREATED:20140703T045556Z
LAST-MODIFIED:20140703T050431Z
UID:941-1403942400-1404838800@www.historicmedley.org
SUMMARY:Heritage Days
DESCRIPTION:Historic Medley is participating in Heritage Montgomery’s Heritage Days\, June 28-29\, 2014 from noon to 4 pm.  Each year\, on the last weekend of June\, Heritage Montgomery hosts its signature event – the annual Heritage Days…
URL:https://www.historicmedley.org/event/heritage-days/
CATEGORIES:Educational,General
END:VEVENT
END:VCALENDAR